BEGIN:VCALENDAR
VERSION:2.0
PRODID:-//Suomen Kotiseutuliitto - ECPv6.15.20//NONSGML v1.0//EN
CALSCALE:GREGORIAN
METHOD:PUBLISH
X-ORIGINAL-URL:https://kotiseutuliitto.fi
X-WR-CALDESC:Tapahtumat Suomen Kotiseutuliitto
REFRESH-INTERVAL;VALUE=DURATION:PT1H
X-Robots-Tag:noindex
X-PUBLISHED-TTL:PT1H
BEGIN:VTIMEZONE
TZID:Europe/Helsinki
BEGIN:DAYLIGHT
TZOFFSETFROM:+0200
TZOFFSETTO:+0300
TZNAME:EEST
DTSTART:20240331T010000
END:DAYLIGHT
BEGIN:STANDARD
TZOFFSETFROM:+0300
TZOFFSETTO:+0200
TZNAME:EET
DTSTART:20241027T010000
END:STANDARD
BEGIN:DAYLIGHT
TZOFFSETFROM:+0200
TZOFFSETTO:+0300
TZNAME:EEST
DTSTART:20250330T010000
END:DAYLIGHT
BEGIN:STANDARD
TZOFFSETFROM:+0300
TZOFFSETTO:+0200
TZNAME:EET
DTSTART:20251026T010000
END:STANDARD
BEGIN:DAYLIGHT
TZOFFSETFROM:+0200
TZOFFSETTO:+0300
TZNAME:EEST
DTSTART:20260329T010000
END:DAYLIGHT
BEGIN:STANDARD
TZOFFSETFROM:+0300
TZOFFSETTO:+0200
TZNAME:EET
DTSTART:20261025T010000
END:STANDARD
END:VTIMEZONE
BEGIN:VEVENT
DTSTART;TZID=Europe/Helsinki:20251023T150000
DTEND;TZID=Europe/Helsinki:20251023T163000
DTSTAMP:20260422T012013
CREATED:20250901T110149Z
LAST-MODIFIED:20250929T090343Z
UID:10003094-1761231600-1761237000@kotiseutuliitto.fi
SUMMARY:eMuseo-mobiiliopas näyttelykäytössä -etäkoulutus
DESCRIPTION:Tule mukaan eMuseo-koulutukseen. Palvelun avulla paikallismuseoille\, kulttuurikohteille ja kävelyreiteille voi tehdä helposti omia mobiilioppaita. \neMuseo-mobiiliopas näyttelykäytössä -etäkoulutuksessa esitellään erityisesti eMuseo-mobiilioppaan soveltuvuutta näyttelytarkoitukseen. Koulutuksen päätteeksi on mahdollista esittää kouluttajalle kysymyksiä. \nKoulutus sopii jo eMuseota käyttäneille sekä myös palvelun käyttöönottoa harkitseville. Mukaan otetaan 40 ensiksi ilmoittautunutta. \nKoulutus järjestetään etäyhteydellä Microsoft Teamsissa torstaina 23.10. kello 15.00–16.30\, jota ennen osallistujille lähetetään osallistumislinkki ja tarkempia tietoja. \nIlmoittaudu koulutukseen tästä linkistä viimeistään 20.10.2025: https://www.flomembers.com/kotiseutuliitto/events/register/9fc3d7152ba9336a670e36d0ed79bc43 \nKoulutus on ilmainen eMuseo-palvelun tilaajille sekä Kotiseutuliiton jäsenyhteisön edustajille (yksi osallistuja / yhteisö). Muilta peritään 15 € osallistumismaksu\, joka laskutetaan ennen koulutusta.  \nTäältä voit tarkistaa organisaatiosi mahdollisen jäsenyyden Kotiseutuliitossa: https://kotiseutuliitto.fi/jarjesto/jasenet/jasenluettelo/. \nKoulutuksesta vastaa mobiiliopaspalvelua ylläpitävä Momeo Oy. \nSuosittelemme tutustumaan etukäteen valmiisiin mobiilioppaisiin ja miettimään omaa mobiiliopasta. Osoitteessa www.emuseo.fi voit tarkastella valmiita oppaita ja reittejä. \neMuseoita ylläpitäville toimijoille on myös Facebook-ryhmä: www.facebook.com/groups/emuseo \nPalvelun tilaaminen ja hinta\neMuseon vuosimaksu sisältää ylläpidon\, tuen ja kehityksen. Täältä voit liittyä mukaan ja tarkistaa hinnat: https://kotiseutuliitto.fi/tietopankki/emuseo/ \nKotiseutuliiton jäsenyydestä ja liittymisestä voi lukea lisää osoitteessa https://kotiseutuliitto.fi/jarjesto/liity-jaseneksi \nTaustaa\nKulttuuriperintöä voi esitellä yleisölle myös mobiilisti. Suomen Kotiseutuliiton tarjoama eMuseo on mobiiliopas\, joka sopii erinomaiseksi esittelyalustaksi paikallismuseolle\, kulttuuripolulle tai vastaavalle kulttuurikohteelle. Mobiilioppaan avulla kohde on aina avoinna ja koettavissa. Palvelun myötä osoitteeseen www.emuseo.fi kertyy kohteiden mobiilioppaista koostuva moderni ja interaktiivinen sivusto\, jossa kuka tahansa voi vierailla kotoa käsin ja milloin tahansa. Mobiiliopas toimii kaikilla älypuhelimilla\, tableteilla ja tietokoneilla ilman erillisen sovelluksen lataamista. \nYhdistykset ja museot voivat helposti tehdä itse mobiilioppaita museostaan tai kulttuurikohteestaan. Oppaisiin voi liittää tekstiä\, kuvia\, ääntä ja videoita.
URL:https://kotiseutuliitto.fi/tapahtuma/emuseo-mobiiliopas-nayttelykaytossa-emuseo-etakoulutus-5/
ATTACH;FMTTYPE=image/png:https://kotiseutuliitto.fi/wp-content/uploads/2024/03/eMuseo_1080x1080px_2_01-e1756724189926.png
END:VEVENT
END:VCALENDAR