BEGIN:VCALENDAR
VERSION:2.0
PRODID:-//Suomen Kotiseutuliitto - ECPv6.15.20//NONSGML v1.0//EN
CALSCALE:GREGORIAN
METHOD:PUBLISH
X-WR-CALNAME:Suomen Kotiseutuliitto
X-ORIGINAL-URL:https://kotiseutuliitto.fi
X-WR-CALDESC:Tapahtumat Suomen Kotiseutuliitto
REFRESH-INTERVAL;VALUE=DURATION:PT1H
X-Robots-Tag:noindex
X-PUBLISHED-TTL:PT1H
BEGIN:VTIMEZONE
TZID:Europe/Helsinki
BEGIN:DAYLIGHT
TZOFFSETFROM:+0200
TZOFFSETTO:+0300
TZNAME:EEST
DTSTART:20200329T010000
END:DAYLIGHT
BEGIN:STANDARD
TZOFFSETFROM:+0300
TZOFFSETTO:+0200
TZNAME:EET
DTSTART:20201025T010000
END:STANDARD
BEGIN:DAYLIGHT
TZOFFSETFROM:+0200
TZOFFSETTO:+0300
TZNAME:EEST
DTSTART:20210328T010000
END:DAYLIGHT
BEGIN:STANDARD
TZOFFSETFROM:+0300
TZOFFSETTO:+0200
TZNAME:EET
DTSTART:20211031T010000
END:STANDARD
BEGIN:DAYLIGHT
TZOFFSETFROM:+0200
TZOFFSETTO:+0300
TZNAME:EEST
DTSTART:20220327T010000
END:DAYLIGHT
BEGIN:STANDARD
TZOFFSETFROM:+0300
TZOFFSETTO:+0200
TZNAME:EET
DTSTART:20221030T010000
END:STANDARD
END:VTIMEZONE
BEGIN:VEVENT
DTSTART;TZID=Europe/Helsinki:20210927T160000
DTEND;TZID=Europe/Helsinki:20210927T180000
DTSTAMP:20260423T234347
CREATED:20210901T081501Z
LAST-MODIFIED:20210923T055802Z
UID:10000391-1632758400-1632765600@kotiseutuliitto.fi
SUMMARY:Mestarit & kisällit - inspiraatiotilaisuus
DESCRIPTION:Mestarit ja kisällit -inspiraatiotilaisuudessa kuulet\, mitä on ylisukupolvinen kulttuuriperintötyö ja mikä on sen tarkoitus. Kerromme kuinka yhteisösi pääsee mukaan toimintaan sekä hakemaan tarjolla olevaa toimintarahaa. Tilaisuudessa annetaan ääni myös edellisvuosien toimintaryhmille ja voit oppia heidän esimerkeistään. Kuulemme inspiroivan puheenvuoron myös erityisasiantuntija Ira Vihreälehdolta Suomen Kulttuuriperintökasvatuksen seurasta. \nTilaisuus järjestetään etäyhteydellä\, Teams-alustalla ma 27.9. klo 16-18. Ennakkoilmoittautumiset hankkeen koordinaattorille: riina.koivisto@kotiseutuliitto.fi pe 24.9. mennessä. \nTervetuloa mukaan!
URL:https://kotiseutuliitto.fi/tapahtuma/mestarit-kisallit-inspiraatiotilaisuus/
ATTACH;FMTTYPE=image/png:https://kotiseutuliitto.fi/wp-content/uploads/2021/09/Mestarit_ja_Kisallit_uutiskirjeen_ylakuva.png
END:VEVENT
END:VCALENDAR