BEGIN:VCALENDAR
VERSION:2.0
PRODID:-//Suomen Kotiseutuliitto - ECPv6.15.20//NONSGML v1.0//EN
CALSCALE:GREGORIAN
METHOD:PUBLISH
X-ORIGINAL-URL:https://kotiseutuliitto.fi
X-WR-CALDESC:Tapahtumat Suomen Kotiseutuliitto
REFRESH-INTERVAL;VALUE=DURATION:PT1H
X-Robots-Tag:noindex
X-PUBLISHED-TTL:PT1H
BEGIN:VTIMEZONE
TZID:Europe/Helsinki
BEGIN:DAYLIGHT
TZOFFSETFROM:+0200
TZOFFSETTO:+0300
TZNAME:EEST
DTSTART:20240331T010000
END:DAYLIGHT
BEGIN:STANDARD
TZOFFSETFROM:+0300
TZOFFSETTO:+0200
TZNAME:EET
DTSTART:20241027T010000
END:STANDARD
BEGIN:DAYLIGHT
TZOFFSETFROM:+0200
TZOFFSETTO:+0300
TZNAME:EEST
DTSTART:20250330T010000
END:DAYLIGHT
BEGIN:STANDARD
TZOFFSETFROM:+0300
TZOFFSETTO:+0200
TZNAME:EET
DTSTART:20251026T010000
END:STANDARD
BEGIN:DAYLIGHT
TZOFFSETFROM:+0200
TZOFFSETTO:+0300
TZNAME:EEST
DTSTART:20260329T010000
END:DAYLIGHT
BEGIN:STANDARD
TZOFFSETFROM:+0300
TZOFFSETTO:+0200
TZNAME:EET
DTSTART:20261025T010000
END:STANDARD
END:VTIMEZONE
BEGIN:VEVENT
DTSTART;TZID=Europe/Helsinki:20250410T130000
DTEND;TZID=Europe/Helsinki:20250410T160000
DTSTAMP:20260425T174000
CREATED:20250225T075100Z
LAST-MODIFIED:20250408T113656Z
UID:10002867-1744290000-1744300800@kotiseutuliitto.fi
SUMMARY:Webinaari: Kulttuuriperintökasvatusta digitaalisissa palveluissa
DESCRIPTION:Paikallismuseoiden digitaalisten palveluiden ja toimintamallien kehittämishanke eli Digipamu-hanke tarjoaa tukea ja vinkkejä paikallismuseoiden toiminnan kehittämiseen. Hankkeessa on kartoitettu paikallismuseoille sopivia tapoja toteuttaa digitaalisia palveluita. Hankkeen oppeja ja kentän hyviä esimerkkejä esitellään kaikille avoimissa\, erityisesti paikallismuseoille suunnatuissa maksuttomissa verkkokoulutuksissa. \nHuhtikuun koulutuksen aiheena torstaina 10.4. klo 13–16 on kulttuuriperintökasvatus digitaalisissa palveluissa ja digitaalisia aineistoja hyödyntäen. Lapsille\, nuorille ja myös muulle yleisölle voidaan tarjota monenlaisia kulttuuriperintöä esitteleviä aineistoja ja osallistavia toimintamalleja digiavusteisesti. Millaisia asioita digiympäristöissä tapahtuvassa kulttuuriperintökasvatuksessa kannattaa huomioida? Miten erilaisia palveluita voidaan käyttää\, mitä tehdä eri-ikäisten yleisöjen kanssa\, ja millaisia oppimisaineistoja kentällä on toteutettu? \nDigiavusteisen kulttuuriperintökasvatuksen perusteita esittelee koulutuksessa pedagoginen digikouluttaja ja Kulttuuriperintökasvatuksen seuran erityisasiantuntija Julia Uusoksa. Digipamu-hankkeen oppeja ja kentän esimerkkejä esittelee Jonina Vaahtolammi Kotiseutuliitosta. \nKoulutuksen ohjelma \n13.00               Tervetuloa koulutukseen\, Jonina Vaahtolammi\, Kotiseutuliitto\n13.15                Kulttuuriperintökasvatusta digitaalisissa palveluissa\, Julia Uusoksa\, KuPeKa\n14.15                Tauko\n14.30               Paikallismuseoiden kulttuuriperintökasvatusta\, Jonina Vaahtolammi\, Kotiseutuliitto\n15.15                Tauko\n15.20               Esimerkkinä oppimisaineisto arkistotyöhön\, Julia Uusoksa\n15.40               Ennakko- ja yleisökysymykset ja hankkeen seuraavat tapahtumat\n16.00               Koulutus päättyy klo 16 mennessä \nIlmoittautumisen yhteydessä voit myös jättää ennakkokysymyksiä\, joista osaa käsitellä koulutuksessa. Koulutus tallennetaan ja julkaistaan myöhemmin Kotiseutuliiton kanavilla sekä osana Digipamu-hankkeen verkko-opasta syksyllä 2025. \nHankkeen rahoitus tulee opetus- ja kulttuuriministeriön myöntämästä Kulttuuri- ja luovien alojen uudistumisen rakennetuesta (NextGenerationEU). \nIlmoittautuminen koulutukseen on päättynyt.  \nLisätiedot: hankkeen projektipäällikkö Jonina Vaahtolammi\, etunimi.sukunimi@kotiseutuliitto.fi
URL:https://kotiseutuliitto.fi/tapahtuma/webinaari-kulttuuriperintokasvatusta-digitaalisissa-palveluissa/
LOCATION:etänä: Microsoft Teams
ATTACH;FMTTYPE=image/jpeg:https://kotiseutuliitto.fi/wp-content/uploads/2025/02/Tapahtumakuva-kasvatus-4_25-2.jpg
END:VEVENT
BEGIN:VEVENT
DTSTART;TZID=Europe/Helsinki:20250414T130000
DTEND;TZID=Europe/Helsinki:20250414T160000
DTSTAMP:20260425T174000
CREATED:20250227T090458Z
LAST-MODIFIED:20250411T074048Z
UID:10002872-1744635600-1744646400@kotiseutuliitto.fi
SUMMARY:Miten teen oman mobiilioppaan – eMuseo-etäkoulutus
DESCRIPTION:Tule mukaan eMuseo-koulutukseen! Palvelun avulla paikallismuseoille\, kulttuurikohteille ja kävelyreiteille voi tehdä helposti omia mobiilioppaita. \nMiten teen oman mobiilioppaan -koulutuksessa opitaan eMuseo-mobiilioppaan tekemisen perusteet. Osallistuja saa tunnukset harjoitteluympäristöön\, jossa voi omatoimisesti harjoitella oppaan luontia. Koulutuksen päätteeksi on mahdollista esittää kouluttajalle kysymyksiä. \nKoulutus sopii jo eMuseota käyttäneille sekä myös palvelun käyttöönottoa harkitseville. Mukaan otetaan 40 ensiksi ilmoittautunutta. \nKoulutus järjestetään etäyhteydellä Microsoft Teamsissa maanantaina 14.4. kello 13.00–16.00\, jota ennen osallistujille lähetetään osallistumislinkki ja tarkempia tietoja. \nIlmoittautuminen koulutukseen on päättynyt.  \nKoulutus on ilmainen eMuseo-palvelun tilaajille sekä Kotiseutuliiton jäsenyhteisön edustajille (yksi osallistuja / yhteisö). Muilta peritään 25 € osallistumismaksu\, joka laskutetaan ennen koulutusta.  \nKoulutuksesta vastaa mobiiliopaspalvelua ylläpitävä Momeo Oy. \nSuosittelemme tutustumaan etukäteen valmiisiin mobiilioppaisiin ja miettimään omaa mobiiliopasta. Osoitteessa www.emuseo.fi voit tarkastella valmiita oppaita ja reittejä. \neMuseoita ylläpitäville toimijoille on myös Facebook-ryhmä: www.facebook.com/groups/emuseo \nPalvelun tilaaminen ja hinta\neMuseon vuosimaksu sisältää ylläpidon\, tuen ja kehityksen. Täältä voit liittyä mukaan ja tarkistaa hinnat: https://kotiseutuliitto.fi/tietopankki/emuseo/ \nKotiseutuliiton jäsenyydestä ja liittymisestä voi lukea lisää osoitteessa https://kotiseutuliitto.fi/jarjesto/liity-jaseneksi \nTaustaa\nKulttuuriperintöä voi esitellä yleisölle myös mobiilisti! Suomen Kotiseutuliiton tarjoama eMuseo on mobiiliopas\, joka sopii erinomaiseksi esittelyalustaksi paikallismuseolle\, kulttuuripolulle tai vastaavalle kulttuurikohteelle. Mobiilioppaan avulla kohde on aina avoinna ja koettavissa. Palvelun myötä osoitteeseen www.emuseo.fi kertyy kohteiden mobiilioppaista koostuva moderni ja interaktiivinen sivusto\, jossa kuka tahansa voi vierailla kotoa käsin ja milloin tahansa. Mobiiliopas toimii kaikilla älypuhelimilla\, tableteilla ja tietokoneilla ilman erillisen sovelluksen lataamista. \nYhdistykset ja museot voivat helposti tehdä itse mobiilioppaita museostaan tai kulttuurikohteestaan. Oppaisiin voi liittää tekstiä\, kuvia\, ääntä ja videoita.
URL:https://kotiseutuliitto.fi/tapahtuma/miten-teen-oman-mobiilioppaan-emuseo-etakoulutus-4/
ATTACH;FMTTYPE=image/jpeg:https://kotiseutuliitto.fi/wp-content/uploads/2024/04/Kotiseutuposti_eMuseo_ilmo_145x102mm_PAINO.jpg
END:VEVENT
END:VCALENDAR