BEGIN:VCALENDAR
VERSION:2.0
PRODID:-//Suomen Kotiseutuliitto - ECPv6.15.20//NONSGML v1.0//EN
CALSCALE:GREGORIAN
METHOD:PUBLISH
X-WR-CALNAME:Suomen Kotiseutuliitto
X-ORIGINAL-URL:https://kotiseutuliitto.fi
X-WR-CALDESC:Tapahtumat Suomen Kotiseutuliitto
REFRESH-INTERVAL;VALUE=DURATION:PT1H
X-Robots-Tag:noindex
X-PUBLISHED-TTL:PT1H
BEGIN:VTIMEZONE
TZID:Europe/Helsinki
BEGIN:DAYLIGHT
TZOFFSETFROM:+0200
TZOFFSETTO:+0300
TZNAME:EEST
DTSTART:20190331T010000
END:DAYLIGHT
BEGIN:STANDARD
TZOFFSETFROM:+0300
TZOFFSETTO:+0200
TZNAME:EET
DTSTART:20191027T010000
END:STANDARD
BEGIN:DAYLIGHT
TZOFFSETFROM:+0200
TZOFFSETTO:+0300
TZNAME:EEST
DTSTART:20200329T010000
END:DAYLIGHT
BEGIN:STANDARD
TZOFFSETFROM:+0300
TZOFFSETTO:+0200
TZNAME:EET
DTSTART:20201025T010000
END:STANDARD
BEGIN:DAYLIGHT
TZOFFSETFROM:+0200
TZOFFSETTO:+0300
TZNAME:EEST
DTSTART:20210328T010000
END:DAYLIGHT
BEGIN:STANDARD
TZOFFSETFROM:+0300
TZOFFSETTO:+0200
TZNAME:EET
DTSTART:20211031T010000
END:STANDARD
END:VTIMEZONE
BEGIN:VEVENT
DTSTART;TZID=Europe/Helsinki:20201130T160000
DTEND;TZID=Europe/Helsinki:20201130T173000
DTSTAMP:20260425T030225
CREATED:20201026T045219Z
LAST-MODIFIED:20201111T100132Z
UID:10000258-1606752000-1606757400@kotiseutuliitto.fi
SUMMARY:Kenellä on oikeus kotiseutuun? Kaikilla on oikeus kotiseutuun!
DESCRIPTION:Kulttuurisesti moninaiseen kotiseututyöhön liittyvien hankkeiden yhteinen tilaisuus järjestetään verkossa maanantaina 30.11.2020 klo 16-17.30. Lämpimästi tervetuloa! \nKaikilla on oikeus kotiseutuun -hanke toteutettiin Espoossa vuosina 2019-2020. Nyt on aika kiittää hankkeessa mukana olleita toimijoita\, muistella yhteisiä hetkiämme ja suunnata katsetta tulevaan. \nKenellä on oikeus kotiseutuun -hankkeessa selvitettiin kulttuurisesti moninaisen kotiseututyön laajuutta ja olemusta syksyllä 2020 toteutetun valtakunnallisen kyselyn ja sen vastausten pohjalta. Millaisia tuloksia kyselystä saatiin? Millaista kulttuurisesti moninainen kotiseututyö oikein on? Tule kuulemaan ja keskustelemaan selvityshankkeen tuloksista! \nIlmoittautuminen\nTilaisuus järjestetään Teams-työkalulla. Ilmoittautuminen päättyy sunnuntaina 29.11. Ilmoittautuneille lähetetään sähköpostilla 30.11. osallistumislinkki ja lyhyt ohje Teams-työkalun käyttöön. Lisätietoja: marika.punamaki@kotiseutuliitto.fi. \nIlmoittaudu mukaan TÄSTÄ! \n  \n—
URL:https://kotiseutuliitto.fi/tapahtuma/kenella-on-oikeus-kotiseutuun-kaikilla-on-oikeus-kotiseutuun/
LOCATION:Internet
ATTACH;FMTTYPE=image/png:https://kotiseutuliitto.fi/wp-content/uploads/2020/10/3-01.png
END:VEVENT
END:VCALENDAR