BEGIN:VCALENDAR
VERSION:2.0
PRODID:-//Suomen Kotiseutuliitto - ECPv6.15.20//NONSGML v1.0//EN
CALSCALE:GREGORIAN
METHOD:PUBLISH
X-WR-CALNAME:Suomen Kotiseutuliitto
X-ORIGINAL-URL:https://kotiseutuliitto.fi
X-WR-CALDESC:Tapahtumat Suomen Kotiseutuliitto
REFRESH-INTERVAL;VALUE=DURATION:PT1H
X-Robots-Tag:noindex
X-PUBLISHED-TTL:PT1H
BEGIN:VTIMEZONE
TZID:Europe/Helsinki
BEGIN:DAYLIGHT
TZOFFSETFROM:+0200
TZOFFSETTO:+0300
TZNAME:EEST
DTSTART:20250330T010000
END:DAYLIGHT
BEGIN:STANDARD
TZOFFSETFROM:+0300
TZOFFSETTO:+0200
TZNAME:EET
DTSTART:20251026T010000
END:STANDARD
BEGIN:DAYLIGHT
TZOFFSETFROM:+0200
TZOFFSETTO:+0300
TZNAME:EEST
DTSTART:20260329T010000
END:DAYLIGHT
BEGIN:STANDARD
TZOFFSETFROM:+0300
TZOFFSETTO:+0200
TZNAME:EET
DTSTART:20261025T010000
END:STANDARD
BEGIN:DAYLIGHT
TZOFFSETFROM:+0200
TZOFFSETTO:+0300
TZNAME:EEST
DTSTART:20270328T010000
END:DAYLIGHT
BEGIN:STANDARD
TZOFFSETFROM:+0300
TZOFFSETTO:+0200
TZNAME:EET
DTSTART:20271031T010000
END:STANDARD
END:VTIMEZONE
BEGIN:VEVENT
DTSTART;TZID=Europe/Helsinki:20260523T090000
DTEND;TZID=Europe/Helsinki:20260523T120000
DTSTAMP:20260421T095730
CREATED:20260413T123801Z
LAST-MODIFIED:20260413T123801Z
UID:10003247-1779526800-1779537600@kotiseutuliitto.fi
SUMMARY:Linturetki kulttuuriperintömaisemassa
DESCRIPTION:Kuunnellaan ja kiikaroidaan lintuja. Tehdään noin kilometrin kävely\, matkan varrelle mahtuu erilaisia luontoympäristöjä. Oppaina Marita Kiesilä ja Timo Aarnio. Tukikohtana kulttuurihistoriallisesti merkittävä Syrjä\, maalaistalo 1800-luvulta. Syrjässä mahdollisuus ostaa kahvia ja purtavaa tai jäädä talkoilemaan ja tutustumaan talon kunnostukseen.
URL:https://kotiseutuliitto.fi/tapahtuma/linturetki-kulttuuriperintomaisemassa/
ATTACH;FMTTYPE=image/jpeg:https://kotiseutuliitto.fi/wp-content/uploads/2022/12/JPG_Euroopan_kulttuuriymparistopaivat_RGB.jpg
END:VEVENT
BEGIN:VEVENT
DTSTART;TZID=Europe/Helsinki:20260523T130000
DTEND;TZID=Europe/Helsinki:20260523T143000
DTSTAMP:20260421T095730
CREATED:20260327T140924Z
LAST-MODIFIED:20260327T140924Z
UID:10003234-1779541200-1779546600@kotiseutuliitto.fi
SUMMARY:Kalevalan kutsu -laulupaja Oulun taidemuseo
DESCRIPTION:Tervetuloa Kalevalan kutsu -laulupajaan la 23.5.2026 klo 13-14.30 Oulun taidemuseolle (Kasarmintie 9). \nTule kokemaan runolaulua\, kuulemaan Kalevalasta ja keskustelemaan kulttuuriperinnöstä. Halutessasi voit yhtyä runolauluun. Pajaa vetävät nykypäivän runolaulajat Ilona Korhonen ja Maari Kallberg. Kalevalan kutsu -laulupaja on kaikille avoin ja maksuton. Muutokset ovat mahdollisia. \nJärjestäjinä toimivat Kalevalaisten Naisten Liitto ja Oulun Kalevalaiset. \nKalevala kutsuu -laulupajoja\, tullaan järjestämään myös muualla. Seuraa Liiton tiedostusta somessa\, kotisivuilla ja Pirta -lehdessä. \nKalevalan kutsu -laulupajoja koordinoi Kalevalaisten Naisten Liitto. Laulupajoja on tukenut Alfred Kordelinin säätiö\, ja ne ovat osa Kalevalan Euroopan kulttuuriperintötunnukseen liittyvää yhteistyötä. \nKalevalan kutsu -laulupajat ovat myös osa Euroopan kulttuuriympäristöpäiviä\, joka on Euroopan laajimpia yleisötapahtumien kokonaisuuksia. \nOulun taidemuseon vanha punatiilinen rakennus\, joka oli alun perin Veljekset Åström Oy:n liimatehdas. Rakennuksen on suunnitellut arkkitehti Birger Federley vuonna 1921. Rakennus on ollut myös Oulun yliopiston käytössä 1960-1980-luvuilla. 2000-luvun alussa rakennukseen on tehty mittavia muutostöitä\, jotta se vastaisi taidemuseon tarpeita. Museon muutostyöt olivat valmiit vuoden 2009 alussa.
URL:https://kotiseutuliitto.fi/tapahtuma/kalevalan-kutsu-laulupaja-oulun-taidemuseo/
ATTACH;FMTTYPE=image/jpeg:https://kotiseutuliitto.fi/wp-content/uploads/2026/03/Oulun_taidemuseo-kuvattuna-ulkoa_kuvaaja-Harri-Tarvainen-scaled.jpg
END:VEVENT
BEGIN:VEVENT
DTSTART;TZID=Europe/Helsinki:20260527T150000
DTEND;TZID=Europe/Helsinki:20260527T160000
DTSTAMP:20260421T095730
CREATED:20260210T080715Z
LAST-MODIFIED:20260210T083844Z
UID:10003211-1779894000-1779897600@kotiseutuliitto.fi
SUMMARY:Kulttuuriympäristöpäivien kahvipaussi: kohderyhmäksi lapset ja nuoret
DESCRIPTION:Tervetuloa Euroopan kulttuuriympäristöpäivien Teams-kahvipaussille. Järjestämme leppoisia\, matalan kynnyksen kahvipausseja 3-4 kertaa vuodessa. \n2026 toukokuun kahvipaussin teemana on lasten ja nuorten huomioiminen Kulttuuriympäristöpäivillä. Esittelemme Kulttuuriympäristön tekijät -kilpailua ja 70 seikkailua ennen seiskaa -tehtäväpakettia sekä kerromme hyviä esimerkkejä lapsille ja nuorille suunnatuista tapahtumista ja ohjelmanumeroista. Voit mielellään kertoa paussilla omista ideoistasi ja hyvistä käytännöistäsi. \nYmpäristöministeriön Hanna Hämäläisen ja Suomen Kotiseutuliiton Anna-Maija Halmeen vinkkiosuus kestää puolisen tuntia\, jonka jälkeen on aikaa kysymyksille ja keskustelulle klo 16 saakka. \nIlmoittaudu mukaan: \n\nhttps://www.lyyti.in/lapset_nuoret_2026\n\nLisätietoja kahvipausseista ja toiveet kahvipaussin aiheeksi: hanna.p.hamalainen(at)gov.fi.
URL:https://kotiseutuliitto.fi/tapahtuma/kulttuuriymparistopaivien-kahvipaussi-lapset-nuoret/
ATTACH;FMTTYPE=image/png:https://kotiseutuliitto.fi/wp-content/uploads/2025/10/EHD2026_VaalimisenArvoiset_1920x1080px.png
END:VEVENT
BEGIN:VEVENT
DTSTART;TZID=Europe/Helsinki:20260604T090000
DTEND;TZID=Europe/Helsinki:20260605T150000
DTSTAMP:20260421T095730
CREATED:20260413T124317Z
LAST-MODIFIED:20260413T124317Z
UID:10003249-1780563600-1780671600@kotiseutuliitto.fi
SUMMARY:Rakennustalkoot
DESCRIPTION:Kulttuurihistoriallisessa 1800-luvun maalaistalossa rakennetaan kuistia\, rapsutetaan maalia ulkoseinistä\, ladotaan kivijalkaa ja sisätöitäkin löytyy. Tehtävää on osaaville ja kokeilijoille. Talkooruuat tarjotaan sekä mukavaa seuraa. Molempina päivinä puuhataan klo 9-15 ja lyhyemmänkin ajan voi olla.\nSyrjän monivuotisia kesävieraita on ollut mm kirjailija Aino Kallas. Taloa kunnostetaan perinnerakentamisen hengessä eläväksi museoksi. Tiedustelut tekstiviestillä puh 0505205532 tai sihteeri.syrjaseura@gmail.com
URL:https://kotiseutuliitto.fi/tapahtuma/rakennustalkoot/
ATTACH;FMTTYPE=image/jpeg:https://kotiseutuliitto.fi/wp-content/uploads/2022/12/JPG_Euroopan_kulttuuriymparistopaivat_RGB.jpg
END:VEVENT
BEGIN:VEVENT
DTSTART;TZID=Europe/Helsinki:20260605T130000
DTEND;TZID=Europe/Helsinki:20260620T180000
DTSTAMP:20260421T095730
CREATED:20260407T062913Z
LAST-MODIFIED:20260407T115624Z
UID:10003244-1780664400-1781978400@kotiseutuliitto.fi
SUMMARY:Ruoveden maiseman nykytaiteilijoiden ryhmänäyttely on esillä Kulttuuriparantolassa
DESCRIPTION:Kesänäyttelyn teemallisena sisältönä ovat taiteilijan havainto ja läsnäolo. Katsetta ohjaavat kulttuurinen ymmärrys maalaustaiteen ensiarvoisuudesta ja käytettyjen materiaalien tunnistaminen\, maalarin väripaletti ja eri tekniikat. Maalarilla on käytössään kirjo väriaineita ja liuottimia sekä valmiita maaliaineita\, joita ohennetaan vedellä tai tärpätillä. \nTaidemaalariliitto ry tuotti Ellen Thesleff -viikot Ruovedellä Pekkalan kartanossa vuonna 2010 ja maalaustaiteen Ruoveden maisema -projekti toteutui vuosina 2014–2016. Projektin taiteilijoilla on ollut yhteisiä näyttelyitä tapahtumista alkaen. Ruoveden taiteen historiaa ei tavallisesti ajatella sosiaalisten suhteiden verkostona. Kansallistaiteilijoillakin on luonnostaan ryhmiä\, matkakumppanuutta ja kohtaamisia\, Ruovedelläkin taiteilijasiirtokuntien ajanjaksona 1890–1920. \nTaiteilijoiden työskentely paikkakunnalla on ollut keskeytymätöntä\, taiteilijahuvilat kertovat asumisen vakiintumisesta. Näyttelyssä on esillä listattuna tieto Ruovedellä työskennelleistä taiteilijoista. Taiteilijoiden määrä laajenee uusien teosten synnyttyä ja vanhojen noustessa esiin. Tarkista oma taiteen tarinasi ja haasta tietosi luettelon taiteilijoista. Taidemaalari ja väitöskirjatutkija Tiina Lamminen esittelee tutkimustaan Ruoveden taiteesta näyttelyn yhteydessä ja toimii keskusteluoppaana. \nAvajaiset perjantaina 5.6. klo 17–19. Tervetuloa!
URL:https://kotiseutuliitto.fi/tapahtuma/ruoveden-maiseman-nykytaiteilijoiden-ryhmanayttely-on-esilla-kulttuuriparantolassa/
ATTACH;FMTTYPE=image/jpeg:https://kotiseutuliitto.fi/wp-content/uploads/2026/04/Tuormaa_kanervissa-kopio.jpg
END:VEVENT
BEGIN:VEVENT
DTSTART;TZID=Europe/Helsinki:20260610T130000
DTEND;TZID=Europe/Helsinki:20260610T180000
DTSTAMP:20260421T095730
CREATED:20260219T125808Z
LAST-MODIFIED:20260219T125808Z
UID:10003218-1781096400-1781114400@kotiseutuliitto.fi
SUMMARY:Museopiknik Ronttismäen tehtaalaismuseolla
DESCRIPTION:Kesän 2026 avaus juhlistaa Kulttuuriympäristöpäivien 2026 teemaa: Vaalimisen arvoiset. \nMuseopiknik kutsuu yhteisöjä ja ystäväporukoita kesäiseen yhdessäoloon Ronttismäen tehtaalaismuseon historialliseen miljööseen! Tapahtumaan on vapaa pääsy. \nIdyllisen Forssan Kalliomäen alueella sijaitseva Ronttismäen tehtaalaismuseo esittelee kolme asuinrakennusta\, ulkorakennuksen sekä museon pihan ja puutarhan esimerkkinä tehtaalaisten asuinoloista 1870-luvulta 1930-luvulle alueella\, joka aikanaan kaavoitettiin tehtaalaisten asuntoja varten. Ronttismäen tehtaalaismuseon historia kulkee vuoteen 1973\, jolloin se avattiin yleisölle ensimmäisenä tehtaalaismuseona Suomessa. Toimien takana oli Forssa-kerho\, jonka ajatuksena oli säilyttää palanen tehtaalaisten asutushistoriaa\, tapoineen\, tarinoineen ja rakennuksineen. \nOsoite: 2. Linja 5-7 \nOhjelmassa\n– klo 15 Opastettu kierros (FI / EN)\n– Vapaata tutustumista ja mukavaa yhdessäoloa\n– Lapsille askartelua ja valokuvasuunnistusta\n– Omat eväät ja tarvikkeet mukaan\n– Tietoa museon kesän tapahtumista \nHuom! Tapahtuma on päihteetön.
URL:https://kotiseutuliitto.fi/tapahtuma/museopiknik-ronttismaen-tehtaalaismuseolla/
ATTACH;FMTTYPE=image/jpeg:https://kotiseutuliitto.fi/wp-content/uploads/2026/02/ron-ttismaki_010-scaled.jpg
END:VEVENT
BEGIN:VEVENT
DTSTART;TZID=Europe/Helsinki:20260624T120000
DTEND;TZID=Europe/Helsinki:20260624T133000
DTSTAMP:20260421T095730
CREATED:20260327T150658Z
LAST-MODIFIED:20260330T122955Z
UID:10003233-1782302400-1782307800@kotiseutuliitto.fi
SUMMARY:Kalevalan kutsu -laulupaja Jumikeossa Sommelo-kansanmusiikkijuhlilla
DESCRIPTION:Tervetuloa Kalevalan kutsu -laulupajaan ke 24.6.2026 klo 12 Juminkekoon Kuhmoon (Kontionkatu 25\, Kuhmo). \nTule kokemaan runolaulua\, kuulemaan Kalevalasta ja keskustelemaan kulttuuriperinnöstä. Halutessasi voit yhtyä runolauluun. Pajaa vetävät nykypäivän runolaulajat Ilona Korhonen ja Maari Kallberg. Kalevalan kutsu -laulupaja on kaikille avoin ja maksuton. Pajaan ei tarvitse ilmoittautua. Laulupaja on osa Sommelo kansanmusiikkijuhlaa. Muutokset ovat mahdollisia. \nJuminkeko on mielenkiintoinen vierailukohde myös kulttuuriperinnön näkökulmasta ja teema vuoden vaalimisen arvoiset tiimoilta. Juminkeko on Kalevala-keskus\, joka vaalii ja tekee tunnetuksi Kalevalaan liittyvää kulttuuriperinnettä. Juminkeko on moderni muunnos kareliaanien yli sata vuotta sitten haaveilemasta suomalaisen kulttuurin pyhätöksi suunnitellusta Kalevalatalosta. \nKalevala kutsuu -laulupajoja\, tullaan järjestämään myös muualla. Seuraa Liiton tiedostusta somessa\, kotisivuilla ja Pirta -lehdessä. \nJärjestäjinä toimivat Kalevalaisten Naisten Liitto\, Juminkeko Kalevalan ja karjalaisen kulttuurin keskus ja Sommelo kansanmusiikkijuhla. Kalevalan kutsu -laulupajoja koordinoi Kalevalaisten Naisten Liitto. Laulupajoja on tukenut Alfred Kordelinin säätiö. \nKalevalan kutsu -laulupajat ovat myös osa Euroopan kulttuuriympäristöpäiviä\, joka on Euroopan laajimpia yleisötapahtumien kokonaisuuksia. Päivien tuhansiin tapahtumiin osallistuu vuosittain miljoonia ihmisiä. Laulupaja on siis osa suurta ja tärkeää kokonaisuutta\, joka tuo ihmiset yhteen nauttimaan kulttuuriperinnöstämme.
URL:https://kotiseutuliitto.fi/tapahtuma/kalevalan-kutsu-laulupaja-jumikeossa-sommelo-kansanmusiikkijuhlilla/
ATTACH;FMTTYPE=image/jpeg:https://kotiseutuliitto.fi/wp-content/uploads/2026/03/Juminkeko-ulkoa-1.jpg
END:VEVENT
BEGIN:VEVENT
DTSTART;TZID=Europe/Helsinki:20260625T180000
DTEND;TZID=Europe/Helsinki:20260625T200000
DTSTAMP:20260421T095730
CREATED:20260413T125520Z
LAST-MODIFIED:20260413T125658Z
UID:10003250-1782410400-1782417600@kotiseutuliitto.fi
SUMMARY:Kirjailija Suvi Ratinen kertoo kirjasta Pakolainen Aino Kallaksen kesäkodissa
DESCRIPTION:Kulttuurihistoriallisessa Syrjän maalaistalossa\, jonka monivuotisia kesäasukkaita oli mm. kirjailija Aino Kallas. Kirjailija Suvi Ratinen kertoo Kallaksen vanhuusvuosiin sijoittuvasta kirjastaan Pakolainen. Kahvila ja mahdollisuus tutustua talon kunnostukseen ja historiaan.
URL:https://kotiseutuliitto.fi/tapahtuma/kirjailija-suvi-ratinen-kertoo-kirjasta-pakolainen-aino-kallaksen-kesakodissa/
ATTACH;FMTTYPE=image/jpeg:https://kotiseutuliitto.fi/wp-content/uploads/2022/12/JPG_Euroopan_kulttuuriymparistopaivat_RGB.jpg
END:VEVENT
BEGIN:VEVENT
DTSTART;TZID=Europe/Helsinki:20260703T100000
DTEND;TZID=Europe/Helsinki:20260705T170000
DTSTAMP:20260421T095730
CREATED:20260119T104011Z
LAST-MODIFIED:20260119T104011Z
UID:10003188-1783072800-1783270800@kotiseutuliitto.fi
SUMMARY:33. Wanhan Woiman päivät
DESCRIPTION:Wanhan Woiman päivät järjestetään Pohjois-Pohjanmaalla Oulaisissa jo 33. kerran. Kolmipäiväinen tapahtuma kerää vuosittain 15 000–18 000 kävijää eri puolilta Suomea aineettoman ja aineellisen kulttuuriperinnön pariin. Ajoneuvoparaatit\, erilaiset työnäytökset käden taitojen parissa\, traktori-\, auto- ja mopokentät satoine ajoneuvoineen\, maamoottorit\, höyry- ja voimakoneet\, sepät\, näyttelyt\, musiikkiesitykset ja noin 150 myyjän rompetori luovat ainutlaatuisen tunnelman wanhan woiman hengessä. Leppoisa tunnelma takaa elämyksen\, jonka haluat kokea toisenkin kerran!
URL:https://kotiseutuliitto.fi/tapahtuma/33-wanhan-woiman-paivat/
ATTACH;FMTTYPE=image/jpeg:https://kotiseutuliitto.fi/wp-content/uploads/2026/01/Kaynnistys.jpeg
END:VEVENT
BEGIN:VEVENT
DTSTART;TZID=Europe/Helsinki:20260705T120000
DTEND;TZID=Europe/Helsinki:20260705T160000
DTSTAMP:20260421T095730
CREATED:20260413T130250Z
LAST-MODIFIED:20260413T130250Z
UID:10003251-1783252800-1783267200@kotiseutuliitto.fi
SUMMARY:Syrjä avoinna Kanta-Hämeen museopäivänä
DESCRIPTION:Avoin ovi kulttuurihistoriallisessa Syrjän maalaistalossa\, jonka monivuotisia kesäasukkaita oli mm. kirjailija Aino Kallas. \nTilaisuudessa on kahvila ja opastuksia sekä tutustutaan talon kunnostukseen ja historiaan. \nKevyttalkoomahdollisuus!
URL:https://kotiseutuliitto.fi/tapahtuma/syrja-avoinna-kanta-hameen-museopaivana/
ATTACH;FMTTYPE=image/jpeg:https://kotiseutuliitto.fi/wp-content/uploads/2022/12/JPG_Euroopan_kulttuuriymparistopaivat_RGB.jpg
END:VEVENT
BEGIN:VEVENT
DTSTART;TZID=Europe/Helsinki:20260722T150000
DTEND;TZID=Europe/Helsinki:20260722T163000
DTSTAMP:20260421T095730
CREATED:20260327T090409Z
LAST-MODIFIED:20260327T090409Z
UID:10003231-1784732400-1784737800@kotiseutuliitto.fi
SUMMARY:Kalevalan kutsu -laulupaja Parppeinvaara
DESCRIPTION:Tervetuloa Kalevalan kutsu -laulupajaan ke 22.7.2026 klo 15 Ilomantsin Parppeinvaaran runokylään (Parppeintie 4 c\, Ilomantsi). \nTule kokemaan runolaulua\, kuulemaan Kalevalasta ja keskustelemaan kulttuuriperinnöstä. Halutessasi voit yhtyä runolauluun. Pajaa vetää runolaulun ammattilainen Liisa Matveinen. Laulupaja on osa Matelin päivän ohjelmaa. \nKalevalan kutsu -laulupaja on kaikille avoin. Pajaan ei tarvitse ilmoittautua. Muutokset ovat mahdollisia. \nParppeinvaaran runokylässä Ilomantsissa yhdistyvät karjalaisen kulttuurin ominaispiirteet\, kuten kantelemusiikki\, runolaulu\, käsityöt\, ortodoksisuus sekä perinneruuat. Parppeinvaaralla sijaitsevat Runonlaulajan pirtti\, Mateli Kuivalattaren ja Korhosen museoaitat\, Rajakenraali Raappanan maja\, Kaikkien Pyhien tsasouna\, Luontopirtti Mesikkä ja ravintola Parppeinpirtti. \nKalevalan kutsu -laulupajoja\, tullaan järjestämään myös muualla. Jää siis seuraamaan tiedostusta somessa\, kotisivuilla ja Pirta -lehdessä. \nKalevalan kutsu -laulupajoja koordinoi Kalevalaisten Naisten Liitto. Laulupajoja on tukenut Alfred Kordelinin säätiö\, ja ne ovat osa Kalevalan Euroopan kulttuuriperintötunnukseen liittyvää yhteistyötä. \nKalevalan kutsu -laulupaja on osa Euroopan kulttuuriympäristöpäiviä\, joka on Euroopan laajimpia yleisötapahtumien kokonaisuuksia. Päivien tuhansiin tapahtumiin osallistuu vuosittain miljoonia ihmisiä. Laulupaja on siis osa suurta ja tärkeää kokonaisuutta\, joka tuo ihmiset yhteen nauttimaan kulttuuriperintömme.
URL:https://kotiseutuliitto.fi/tapahtuma/kalevalan-kutsu-laulupaja-parppeinvaara-2/
ATTACH;FMTTYPE=image/jpeg:https://kotiseutuliitto.fi/wp-content/uploads/2026/03/DSC_4578.TIF-scaled.jpg
END:VEVENT
BEGIN:VEVENT
DTSTART;TZID=Europe/Helsinki:20260727T120000
DTEND;TZID=Europe/Helsinki:20260731T190000
DTSTAMP:20260421T095730
CREATED:20260401T150026Z
LAST-MODIFIED:20260401T150634Z
UID:10003240-1785153600-1785524400@kotiseutuliitto.fi
SUMMARY:Ars Kivilinna - taidenäyttely ja avointen ovien tapahtuma entisellä sahalla
DESCRIPTION:Tervetuloa tutustumaan ainutlaatuiseen kulttuuriympäristöön Pomarkussa.  Ars Kivilinnan myötä yleisölle avautuu remontoitu entinen sahan 1800-luvun puolivälissä rakennettu toimistorakennus. \nUpea kivistä ladottu rakennus sijaitsee Isojärven rannalla ja tarjoaa kävijöille harvinaisen mahdollisuuden kurkistaa sekä alueen historiaan että rakennuksen uuteen elämään.
URL:https://kotiseutuliitto.fi/tapahtuma/ars-kivilinna-taidenayttely-ja-avointen-ovien-tapahtuma-entisella-sahalla/
ATTACH;FMTTYPE=image/jpeg:https://kotiseutuliitto.fi/wp-content/uploads/2026/04/Screenshot_20260112_075450_Gallery-300x300-1.jpg
END:VEVENT
BEGIN:VEVENT
DTSTART;TZID=Europe/Helsinki:20260809T110000
DTEND;TZID=Europe/Helsinki:20260809T160000
DTSTAMP:20260421T095730
CREATED:20260402T141435Z
LAST-MODIFIED:20260402T141435Z
UID:10003242-1786273200-1786291200@kotiseutuliitto.fi
SUMMARY:Päivä museotiellä
DESCRIPTION:Päivä Museotiellä on seudullinen tapahtuma\, jossa museoidun Niskapietiläntien varrella on useita toiminta- ja myyntipisteitä. Museotie on kaunis\, maalaismaisemainen ja mutkainen ja ulottuu Imatralta Ruokolahden kautta Rautjärvelle. Tapahtuman voi aloittaa Imatralta Rautionkylästä tai Rautjärveltä Laikosta\, Miettilästä. Kohteissa voi vierailla myös yksittäin.
URL:https://kotiseutuliitto.fi/tapahtuma/paiva-museotiella/
ATTACH;FMTTYPE=image/jpeg:https://kotiseutuliitto.fi/wp-content/uploads/2026/04/Kasarminkangas-promokuva-levea.jpg
END:VEVENT
BEGIN:VEVENT
DTSTART;TZID=Europe/Helsinki:20260814T150000
DTEND;TZID=Europe/Helsinki:20260814T163000
DTSTAMP:20260421T095730
CREATED:20260327T150806Z
LAST-MODIFIED:20260330T123332Z
UID:10003232-1786719600-1786725000@kotiseutuliitto.fi
SUMMARY:Kalevalan kutsu -laulupaja Parppeinvaara
DESCRIPTION:Tervetuloa Kalevalan kutsu -laulupajaan pe 14.8.2026 klo 15 Ilomantsin Parppeinvaaran runokylään (Parppeintie 4 c Ilomantsi). \nTule kokemaan runolaulua\, kuulemaan Kalevalasta ja keskustelemaan kulttuuriperinnöstä. Halutessasi voit yhtyä runolauluun. Pajaa vetää runolaulun ammattilainen Liisa Matveinen. \nKalevalan kutsu -laulupaja on kaikille avoin. Pajaan ei tarvitse ilmoittautua. Muutokset ovat mahdollisia. \nParppeinvaaran runokylässä Ilomantsissa yhdistyvät karjalaisen kulttuurin ominaispiirteet\, kuten kantelemusiikki\, runolaulu\, käsityöt\, ortodoksisuus sekä perinneruuat. Parppeinvaaralla sijaitsevat Runonlaulajan pirtti\, Mateli Kuivalattaren ja Korhosen museoaitat\, Rajakenraali Raappanan maja\, Kaikkien Pyhien tsasouna\, Luontopirtti Mesikkä ja ravintola Parppeinpirtti. \nKalevalan kutsu -laulupajoja\, tullaan järjestämään myös muualla. Jää siis seuraamaan tiedostusta somessa\, kotisivuilla ja Pirta -lehdessä. \nKalevalan kutsu -laulupajoja koordinoi Kalevalaisten Naisten Liitto. Laulupajoja on tukenut Alfred Kordelinin säätiö\, ja ne ovat osa Kalevalan Euroopan kulttuuriperintötunnukseen liittyvää yhteistyötä. \nKalevalan kutsu -laulupaja on osa Euroopan kulttuuriympäristöpäiviä\, joka on Euroopan laajimpia yleisötapahtumien kokonaisuuksia. Päivien tuhansiin tapahtumiin osallistuu vuosittain miljoonia ihmisiä. Laulupaja on siis osa suurta ja tärkeää kokonaisuutta\, joka tuo ihmiset yhteen nauttimaan kulttuuriperintömme.
URL:https://kotiseutuliitto.fi/tapahtuma/kalevalan-kutsu-laulupaja-parppeinvaara-3/
ATTACH;FMTTYPE=image/jpeg:https://kotiseutuliitto.fi/wp-content/uploads/2026/03/DSC_4578.TIF-1-scaled.jpg
END:VEVENT
BEGIN:VEVENT
DTSTART;TZID=Europe/Helsinki:20260822T130000
DTEND;TZID=Europe/Helsinki:20260822T143000
DTSTAMP:20260421T095730
CREATED:20260330T111640Z
LAST-MODIFIED:20260330T111640Z
UID:10003237-1787403600-1787409000@kotiseutuliitto.fi
SUMMARY:Kalevalan kutsu -laulupaja Gallen-Kallelan Museolla Espoossa
DESCRIPTION:Tervetuloa Kalevalan kutsu -laulupajaan la 22.8.2026 klo 13-14.30 Gallen-Kallelan Museoon (Tarvaspää\, Gallen-Kallelan tie 27\, Espoo). \nTule kokemaan runolaulua\, kuulemaan Kalevalasta ja keskustelemaan kulttuuriperinnöstä. Halutessasi voit yhtyä runolauluun. Pajaa vetää nykypäivän runolaulaja Maari Kallberg. \nKalevalan kutsu -laulupaja on kaikille avoin. Kerrothan lipunmyynnissä\, että osallistut laulupajaan. Pajaan ei ole ennakkoilmoittautumista. Muutokset ohjelmaan ovat mahdollisia. \nGallen-Kallelan Museo on mielenkiintoinen vierailukohde myös rakennetun kulttuuriperinnön näkökulmasta. Akseli Gallen-Kallelan itselleen suunnittelema Tarvaspää on yksi Suomen merkittävimmistä 1900-luvun alun ateljeehuviloista. \nLaulupajan yhteydessä voit ihailla näyttelyä Aurinkoa ja elämäniloa – 1910-luvun väritaidetta\, joka on esillä 18.10.2026 saakka. Näyttely käsittelee sitä\, kuinka suomalaisessa taiteessa 1910-luku oli uudenlaisen ilmaisun ja värin vapautumisen aikaa. Maailman metropoleista kantautuneet modernismin virtaukset\, kaupunkien sykkivä rytmi ja yksilön sisäisen kokemuksen korostuminen muovasivat kokonaisen taiteilijasukupolven käsitystä taiteesta. \nKalevala kutsuu -laulupajoja\, tullaan järjestämään myös muualla. Seuraa tiedostusta somessa\, kotisivuilla ja Pirta -lehdessä. \nJärjestäjinä toimivat Kalevalaisten Naisten Liitto ja Gallen-Kallelan Museo. \nKalevalan kutsu -laulupajoja koordinoi Kalevalaisten Naisten Liitto. Laulupajoja on tukenut Alfred Kordelinin säätiö\, ja ne ovat osa Kalevalan Euroopan kulttuuriperintötunnukseen liittyvää yhteistyötä. \nKalevalan kutsu -laulupajat ovat myös osa Euroopan kulttuuriympäristöpäiviä\, joka on Euroopan laajimpia yleisötapahtumien kokonaisuuksia. Päivien tuhansiin tapahtumiin osallistuu vuosittain miljoonia ihmisiä. Laulupaja on siis osa suurta ja tärkeää kokonaisuutta\, joka tuo ihmiset yhteen nauttimaan kulttuuriperinnöstämme.
URL:https://kotiseutuliitto.fi/tapahtuma/kalevalan-kutsu-laulupaja-gallen-kallelan-museolla-espoossa-2/
ATTACH;FMTTYPE=image/jpeg:https://kotiseutuliitto.fi/wp-content/uploads/2026/03/Laulupaja-g-k-carmen-tomas-2-scaled.jpg
END:VEVENT
BEGIN:VEVENT
DTSTART;VALUE=DATE:20260829
DTEND;VALUE=DATE:20260831
DTSTAMP:20260421T095730
CREATED:20260216T131711Z
LAST-MODIFIED:20260219T105321Z
UID:10003216-1787961600-1788134399@kotiseutuliitto.fi
SUMMARY:Loviisan Wanhat Talot 2026
DESCRIPTION:Loviisan Wanhat Talot on tapahtuma\, jossa pääsee vierailemaan yli satavuotiaissa persoonallisissa ja rakkaudella vaalituissa loviisalaisissa taloissa. Tapahtumaan osallistuvat talot ovat pääasiassa loviisalaisten koteja\, joissa asutaan vuoden ympäri. \nMukana on jälleen noin 40 upeaa wanhaa kotia\, jotka edustavat alueemme ainutlaatuista rakennusperintöä. Kävijät pääsevät vierailemaan rakkaudella vaalituissa yksityiskodeissa\, joiden hirsiseinien suojista löytyy tarinoita vuosisatojen takaa\, entisistä asukkaista ja perinteitä kunnioittavista remonteista. \nLoviisa ja sen lähikylät ovat parhaimmillaan kiireettömästi tutkittuna\, ja kohteita on niin runsaasti\, että suosittelemme varaamaan elämykselle koko viikonlopun. Anna historiallisen miljöön viedä mennessään ja tule nauttimaan lämminhenkisestä loppukesän tunnelmasta! \nTervetuloa kotiin Loviisaan – nähdään elokuussa!
URL:https://kotiseutuliitto.fi/tapahtuma/loviisan-wanhat-talot-2026/
ATTACH;FMTTYPE=image/jpeg:https://kotiseutuliitto.fi/wp-content/uploads/2026/02/LWT25-Garduelis-1.jpg
END:VEVENT
BEGIN:VEVENT
DTSTART;VALUE=DATE:20260829
DTEND;VALUE=DATE:20260831
DTSTAMP:20260421T095730
CREATED:20260216T132345Z
LAST-MODIFIED:20260219T105607Z
UID:10003217-1787961600-1788134399@kotiseutuliitto.fi
SUMMARY:Lovisa Historiska Hus 2026
DESCRIPTION:Lovisa Historiska Hus är ett evenemang där man får besöka personliga och kärleksfullt vårdade hus i Lovisa som är över hundra år gamla. De hus som deltar i evenemanget är huvudsakligen hem där Lovisabor bor året runt. \nI år deltar återigen cirka 40 fantastiska gamla hem som representerar vår regions unika byggnadsarv. Besökarna får besöka kärleksfullt vårdade privata hem\, där man bakom timmerväggarna finner berättelser från århundraden tillbaka\, om tidigare invånare och om renoveringar som gjorts med respekt för traditioner. \nLovisa och de närliggande byarna upplevs bäst i lugn och ro\, och det finns så många besöksmål att vi rekommenderar att man reserverar hela helgen för upplevelsen. Låt den historiska miljön föra dig med sig och kom och njut av den varma stämningen i sensommaren! \nVälkommen hem till Lovisa – vi ses i augusti!
URL:https://kotiseutuliitto.fi/tapahtuma/lovisa-historiska-hus-2026/
ATTACH;FMTTYPE=image/jpeg:https://kotiseutuliitto.fi/wp-content/uploads/2026/02/LWT25-Garduelis-1-1.jpg
END:VEVENT
BEGIN:VEVENT
DTSTART;TZID=Europe/Helsinki:20260912T140000
DTEND;TZID=Europe/Helsinki:20260912T200000
DTSTAMP:20260421T095730
CREATED:20260223T143248Z
LAST-MODIFIED:20260223T143248Z
UID:10003219-1789221600-1789243200@kotiseutuliitto.fi
SUMMARY:Pimeän peitto
DESCRIPTION:Tule kokemaan Perniön Pimeän peitto lauantaina 12.9. klo 14–20! \nSyyskuun lempeässä hämärässä kokoontuu Perniön kirkonkylä\ntunnelmalliseen Pimeän peitto -tapahtumaan. Luvassa on lämminhenkinen\niltapäivä ja ilta täynnä nähtävää\, koettavaa ja uutta opittavaa\nympäristöstämme. Kyläkävelyllä suuntaamme johonkin päin kirkonkylää tutustumaan\nrakennettuun ympäristöön ja kylän kehitykseen. \nKahvila toimii viehättävässä lainamakasiinissa. Tule herkuttelemaan ja\nviihtymään! \nPerniön kirkossa tapahtuu illan aikana: musiikkia\, tarinoita ja elämyksiä. \nTule mukaan\, nappaa ystävä tai koko perhe matkaan ja varaa päivä\nkalenteristasi jo nyt! Tarkempi ohjelma julkaistaan lähempänä ajankohtaa –\nseuraa ilmoitteluamme! \nPerniön kirkonkylä – lauantaina 12.9. klo 14–20 \nVapaa pääsy\, lämmin tunnelma\, kaikille avoin
URL:https://kotiseutuliitto.fi/tapahtuma/pimean-peitto/
ATTACH;FMTTYPE=image/jpeg:https://kotiseutuliitto.fi/wp-content/uploads/2022/12/JPG_Euroopan_kulttuuriymparistopaivat_RGB.jpg
END:VEVENT
BEGIN:VEVENT
DTSTART;TZID=Europe/Helsinki:20261005T180000
DTEND;TZID=Europe/Helsinki:20261005T200000
DTSTAMP:20260421T095730
CREATED:20260310T123302Z
LAST-MODIFIED:20260310T123302Z
UID:10003226-1791223200-1791230400@kotiseutuliitto.fi
SUMMARY:Köyri
DESCRIPTION:Perinteistä sadonkorjuun päättymisen juhlaa vietetään lokakuun ensimmäisen maanantain iltana. Tällöin poltetaan köyritulia pelloilla tai muilla sopivilla paikoilla. Kylän väki kokoontuu tulille\, ja juttua ja riehakasta menoa riittää. \nEnnen hiilloksessa paistettiin perunoita tai nauriita.  Nykyään tarjotaan makkaraa ja mehua kaikille paikalla oleville. Öljyretikkaa on maistatettu\, kun ei nauriita ole tarjolla.
URL:https://kotiseutuliitto.fi/tapahtuma/koyri/
ATTACH;FMTTYPE=image/jpeg:https://kotiseutuliitto.fi/wp-content/uploads/2022/12/JPG_Euroopan_kulttuuriymparistopaivat_RGB.jpg
END:VEVENT
END:VCALENDAR