BEGIN:VCALENDAR
VERSION:2.0
PRODID:-//Suomen Kotiseutuliitto - ECPv6.15.20//NONSGML v1.0//EN
CALSCALE:GREGORIAN
METHOD:PUBLISH
X-ORIGINAL-URL:https://kotiseutuliitto.fi
X-WR-CALDESC:Tapahtumat Suomen Kotiseutuliitto
REFRESH-INTERVAL;VALUE=DURATION:PT1H
X-Robots-Tag:noindex
X-PUBLISHED-TTL:PT1H
BEGIN:VTIMEZONE
TZID:Europe/Helsinki
BEGIN:DAYLIGHT
TZOFFSETFROM:+0200
TZOFFSETTO:+0300
TZNAME:EEST
DTSTART:20240331T010000
END:DAYLIGHT
BEGIN:STANDARD
TZOFFSETFROM:+0300
TZOFFSETTO:+0200
TZNAME:EET
DTSTART:20241027T010000
END:STANDARD
BEGIN:DAYLIGHT
TZOFFSETFROM:+0200
TZOFFSETTO:+0300
TZNAME:EEST
DTSTART:20250330T010000
END:DAYLIGHT
BEGIN:STANDARD
TZOFFSETFROM:+0300
TZOFFSETTO:+0200
TZNAME:EET
DTSTART:20251026T010000
END:STANDARD
BEGIN:DAYLIGHT
TZOFFSETFROM:+0200
TZOFFSETTO:+0300
TZNAME:EEST
DTSTART:20260329T010000
END:DAYLIGHT
BEGIN:STANDARD
TZOFFSETFROM:+0300
TZOFFSETTO:+0200
TZNAME:EET
DTSTART:20261025T010000
END:STANDARD
BEGIN:DAYLIGHT
TZOFFSETFROM:+0200
TZOFFSETTO:+0300
TZNAME:EEST
DTSTART:20270328T010000
END:DAYLIGHT
BEGIN:STANDARD
TZOFFSETFROM:+0300
TZOFFSETTO:+0200
TZNAME:EET
DTSTART:20271031T010000
END:STANDARD
BEGIN:DAYLIGHT
TZOFFSETFROM:+0200
TZOFFSETTO:+0300
TZNAME:EEST
DTSTART:20280326T010000
END:DAYLIGHT
BEGIN:STANDARD
TZOFFSETFROM:+0300
TZOFFSETTO:+0200
TZNAME:EET
DTSTART:20281029T010000
END:STANDARD
END:VTIMEZONE
BEGIN:VEVENT
DTSTART;TZID=Europe/Helsinki:20251125T100000
DTEND;TZID=Europe/Helsinki:20261101T170000
DTSTAMP:20260421T224927
CREATED:20251201T113821Z
LAST-MODIFIED:20251201T113844Z
UID:10003181-1764064800-1793552400@kotiseutuliitto.fi
SUMMARY:Seurantalolla pienoisnäyttely
DESCRIPTION:Kymenlaakson museon Mosaiikki-näyttelyn uudessa sisällössä kerrotaan seurantaloista. \nSeurantalolla pienoisnäyttelyssä on esillä Salo-Miehikkälän nuorisoseurantalon 1950-luvulta olevat näyttämölavasteet. Pienoisnäyttelyssä kurkistetaan kuvin ja tarinoin kymenlaaksolaisiin seurantaloihin. Seurantaloiksi kutsutaan erilaisten aatteellisten yhdistysten kokoontumistiloikseen rakentamia taloja.
URL:https://kotiseutuliitto.fi/tapahtuma/seurantalolla-pienoisnayttely/
ATTACH;FMTTYPE=image/jpeg:https://kotiseutuliitto.fi/wp-content/uploads/2025/11/20251128_142513-scaled.jpg
END:VEVENT
BEGIN:VEVENT
DTSTART;TZID=Europe/Helsinki:20260513T120000
DTEND;TZID=Europe/Helsinki:20270529T160000
DTSTAMP:20260421T224927
CREATED:20260318T130309Z
LAST-MODIFIED:20260318T130309Z
UID:10003228-1778673600-1811606400@kotiseutuliitto.fi
SUMMARY:Näyttely: Ei valkolakkeja\, vaan kaikkia kaupunkilaisia ajatellen. Jyväskylän yliopiston Mattilanniemen katoava kampus 1980-2026
DESCRIPTION:Arkkitehti Arto Sipinen kuvaili Mattilanniemen uuden yliopistoalueen suunnittelun lähtökohtia haastattelussa heti kilpailun voitettuaan otsikolla: ”Ei valkolakkeja\, vaan kaikkia kaupunkilaisia ajattelin suunnittelutyössä”. Sipinen kertoi 21.11.1970 Keskisuomalaisessa\, kuinka suunnitelman lähtökohdaksi oli otettu olemassa oleva kaupunkirakenne ja niveltyminen Seminaarinmäen yliopistokokonaisuuteen\, Keski-Suomen museoon ja silloiseen kahteen käsityöläistaloon museon läheisyydessä. \nArto Sipisen suunnitelmaa määrittivät ajatukset tasa-arvosta\, demokratiasta ja sosiaalisesta hyvinvoinnista sekä ympäröivän luonnon huomioimisesta. Mattilanniemestä haluttiin tehdä alue\, joka rantamaisemineen ja puistokäytävineen tuo kaupunkilaiset ja yliopiston yhteen. Ajatus koko kaupungin kampuksesta oli syntynyt. \nJyväskylän yliopiston Mattilanniemen käytöstä poistuvaa kampusta esittelevä näyttely valottaa alueen kehitystä vanhasta hakamaasta kaupungin kaatopaikaksi ja edelleen eläväksi ja vehreäksi yliopistokampukseksi. \nNäyttelyssä on esillä laajasti alueen arkkitehtuurista ja arvokkaasta puistoalueesta kertovaa materiaalia. Pääset näkemään mm. Arto Sipisen luoman vehreän kampusympäristön pienoismalleja ja suunnitelmia sekä ihmettelemään puistoalueen laajan kasvikokoelman erikoisuuksia\, kuten Suomen pohjoisimpia satoa tekeviä saksanpähkinöitä ja muita mielenkiintoisia kasvierikoisuuksia. \nTervetuloa tutustumaan tähän uhanalaiseen kaupunkiympäristöön Jyväskylän yliopiston Tiedemuseon arkistomateriaalien kautta! \nNäyttely on avoinna ke–pe klo 12-17 sekä la 12–16. Näyttelykeskus Soihtu sijaitsee Seminaarinmäellä S-rakennuksessa. Vapaa pääsy – tervetuloa! \nS-rakennuksen käytävällä on 13.5. lähtien (rakennuksen avoinna ollessa) nähtävillä myös rakennusten purkuaaltoa kritisoivan Purkamatta paras -kampanjan kantaaottava posterinäyttely.
URL:https://kotiseutuliitto.fi/tapahtuma/nayttely-ei-valkolakkeja-vaan-kaikkia-kaupunkilaisia-ajatellen-jyvaskylan-yliopiston-mattilanniemen-katoava-kampus-1980-2026/
ATTACH;FMTTYPE=image/jpeg:https://kotiseutuliitto.fi/wp-content/uploads/2026/03/sipisen-ehdotus-kuva-.jpg
END:VEVENT
BEGIN:VEVENT
DTSTART;TZID=Europe/Helsinki:20260814T150000
DTEND;TZID=Europe/Helsinki:20260814T163000
DTSTAMP:20260421T224927
CREATED:20260327T150806Z
LAST-MODIFIED:20260330T123332Z
UID:10003232-1786719600-1786725000@kotiseutuliitto.fi
SUMMARY:Kalevalan kutsu -laulupaja Parppeinvaara
DESCRIPTION:Tervetuloa Kalevalan kutsu -laulupajaan pe 14.8.2026 klo 15 Ilomantsin Parppeinvaaran runokylään (Parppeintie 4 c Ilomantsi). \nTule kokemaan runolaulua\, kuulemaan Kalevalasta ja keskustelemaan kulttuuriperinnöstä. Halutessasi voit yhtyä runolauluun. Pajaa vetää runolaulun ammattilainen Liisa Matveinen. \nKalevalan kutsu -laulupaja on kaikille avoin. Pajaan ei tarvitse ilmoittautua. Muutokset ovat mahdollisia. \nParppeinvaaran runokylässä Ilomantsissa yhdistyvät karjalaisen kulttuurin ominaispiirteet\, kuten kantelemusiikki\, runolaulu\, käsityöt\, ortodoksisuus sekä perinneruuat. Parppeinvaaralla sijaitsevat Runonlaulajan pirtti\, Mateli Kuivalattaren ja Korhosen museoaitat\, Rajakenraali Raappanan maja\, Kaikkien Pyhien tsasouna\, Luontopirtti Mesikkä ja ravintola Parppeinpirtti. \nKalevalan kutsu -laulupajoja\, tullaan järjestämään myös muualla. Jää siis seuraamaan tiedostusta somessa\, kotisivuilla ja Pirta -lehdessä. \nKalevalan kutsu -laulupajoja koordinoi Kalevalaisten Naisten Liitto. Laulupajoja on tukenut Alfred Kordelinin säätiö\, ja ne ovat osa Kalevalan Euroopan kulttuuriperintötunnukseen liittyvää yhteistyötä. \nKalevalan kutsu -laulupaja on osa Euroopan kulttuuriympäristöpäiviä\, joka on Euroopan laajimpia yleisötapahtumien kokonaisuuksia. Päivien tuhansiin tapahtumiin osallistuu vuosittain miljoonia ihmisiä. Laulupaja on siis osa suurta ja tärkeää kokonaisuutta\, joka tuo ihmiset yhteen nauttimaan kulttuuriperintömme.
URL:https://kotiseutuliitto.fi/tapahtuma/kalevalan-kutsu-laulupaja-parppeinvaara-3/
ATTACH;FMTTYPE=image/jpeg:https://kotiseutuliitto.fi/wp-content/uploads/2026/03/DSC_4578.TIF-1-scaled.jpg
END:VEVENT
END:VCALENDAR