BEGIN:VCALENDAR
VERSION:2.0
PRODID:-//Suomen Kotiseutuliitto - ECPv6.15.20//NONSGML v1.0//EN
CALSCALE:GREGORIAN
METHOD:PUBLISH
X-ORIGINAL-URL:https://kotiseutuliitto.fi
X-WR-CALDESC:Tapahtumat Suomen Kotiseutuliitto
REFRESH-INTERVAL;VALUE=DURATION:PT1H
X-Robots-Tag:noindex
X-PUBLISHED-TTL:PT1H
BEGIN:VTIMEZONE
TZID:Europe/Helsinki
BEGIN:DAYLIGHT
TZOFFSETFROM:+0200
TZOFFSETTO:+0300
TZNAME:EEST
DTSTART:20240331T010000
END:DAYLIGHT
BEGIN:STANDARD
TZOFFSETFROM:+0300
TZOFFSETTO:+0200
TZNAME:EET
DTSTART:20241027T010000
END:STANDARD
BEGIN:DAYLIGHT
TZOFFSETFROM:+0200
TZOFFSETTO:+0300
TZNAME:EEST
DTSTART:20250330T010000
END:DAYLIGHT
BEGIN:STANDARD
TZOFFSETFROM:+0300
TZOFFSETTO:+0200
TZNAME:EET
DTSTART:20251026T010000
END:STANDARD
BEGIN:DAYLIGHT
TZOFFSETFROM:+0200
TZOFFSETTO:+0300
TZNAME:EEST
DTSTART:20260329T010000
END:DAYLIGHT
BEGIN:STANDARD
TZOFFSETFROM:+0300
TZOFFSETTO:+0200
TZNAME:EET
DTSTART:20261025T010000
END:STANDARD
BEGIN:DAYLIGHT
TZOFFSETFROM:+0200
TZOFFSETTO:+0300
TZNAME:EEST
DTSTART:20270328T010000
END:DAYLIGHT
BEGIN:STANDARD
TZOFFSETFROM:+0300
TZOFFSETTO:+0200
TZNAME:EET
DTSTART:20271031T010000
END:STANDARD
END:VTIMEZONE
BEGIN:VEVENT
DTSTART;VALUE=DATE:20250326
DTEND;VALUE=DATE:20260401
DTSTAMP:20260421T165256
CREATED:20250326T124948Z
LAST-MODIFIED:20251128T090928Z
UID:10002881-1742947200-1775001599@kotiseutuliitto.fi
SUMMARY:Kotiseutuni-verkkoaineisto Mäntän ja Vilppulan rakennetusta ympäristöstä
DESCRIPTION:Serlachius-museoiden kokoelmista valitut kuvat esittelevät Mäntän ja Vilppulan rakennettua ympäristöä. Tutustu myös kuviin liittyviin tehtäviin ja kuvia taustoittavaan materiaaliin. \nKokonaisuuteen valitut kuvat kertovat elävästi paikkakunnan historiasta ja nostavat esiin ympäristössä tapahtuneita muutoksia\, jotka arkielämässä jäävät usein huomaamatta. Ne heijastelevat yhteiskunnan muuttumista laajemminkin. Kuvat auttavat pohtimaan sitä\, miten elämänmeno paikkakunnalla on muuttunut. \nKotiseutuni-aineistossa on tehtäviä ja pohdintamateriaalia\, mutta kuvia voi tutkia myös ilman niitä.
URL:https://kotiseutuliitto.fi/tapahtuma/kotiseutuni-verkkoaineisto/
ATTACH;FMTTYPE=image/jpeg:https://kotiseutuliitto.fi/wp-content/uploads/2025/03/1646.jpg
END:VEVENT
BEGIN:VEVENT
DTSTART;VALUE=DATE:20250425
DTEND;VALUE=DATE:20260427
DTSTAMP:20260421T165256
CREATED:20250513T122526Z
LAST-MODIFIED:20250923T132220Z
UID:10002922-1745539200-1777247999@kotiseutuliitto.fi
SUMMARY:Talojen tarinoita – Puutalokaupungin jäljillä
DESCRIPTION:Kuopion Korttelimuseon juhlavuoden 2025 näyttely kutsuu kurkistamaan Kuopion idyllisiin puutalokortteleihin. Näyttelyssä valokuvat ja muistelmat nivoutuvat yhteen luoden eloisan kokonaisuuden\, joka kertoo kaupungin rakennushistoriasta sekä kaupunkikuvan muutoksesta. Kuopiossa lapsuutensa ja nuoruutensa 1940–1960-luvuilla viettäneet ihmiset kertovat\, millaista oli elää puutalojen täyttämässä kaupungissa. Talojen tarinoita piirtää kuvaa vilkkaasta kaupungista\, jonka kaduilla ihmiset toimittivat arkisia askareitaan. \nKuopio oli pitkälle 1900-luvun puoliväliin asti puutalovaltainen kaupunki. Toisen maailmansodan jälkeinen jälleenrakentamiskausi ja kaupungistuminen muuttivat voimakkaasti Kuopion kaupunkikuvaa. Puutaloja purettiin tiivistyvän kaupunkirakentamisen tieltä. Talojen tarinoita kertoo Kuopion puretuista sekä edelleen olemassa olevista puutaloista. \nRakennuksiin liittyy muistoja siitä\, millaista oli elää puutalojen täyttämässä kaupungissa. Puutaloasumiseen liittyvät askareet rytmittivät monen kuopiolaisen arkea. Vapaa-ajalla saatettiin poiketa elokuviin tai ulkoilemaan Väinölänniemelle. Haaveissa saattoi siintää asunto uudesta kerrostalosta. Lapsille sokkeloiset rännikadut tarjosivat monenlaista puuhaa ja leikkipaikkoja koulunkäynnin ohella. \nNäyttelyn laajassa kuva-aineistossa näkyy kaupunkikuvan kerroksellisuus. Valokuvat puutaloista esittävät 250-vuotisen Kuopion rakennushistoriaa. Kuvissa näkyy kaupungin muutos matalasta puutalokaupungista moderniksi kerrostalokaupungiksi. Valokuvien lisäksi näyttelyssä on puutaloihin liittyviä lyhyitä tarinoita. Muistot puu-Kuopiosta limittyvät nykyiseen kaupunkitilaan ja näyttely kutsuu pohtimaan rakennetun kulttuuriympäristön merkityksiä tässä päivässä ja puutalojen roolia kaupungin katukuvassa.
URL:https://kotiseutuliitto.fi/tapahtuma/talojen-tarinoita-puutalokaupungin-jaljilla/
ATTACH;FMTTYPE=image/jpeg:https://kotiseutuliitto.fi/wp-content/uploads/2025/05/Talojen-tarinoita-vaaka-1920x1080-1.jpg
END:VEVENT
BEGIN:VEVENT
DTSTART;TZID=Europe/Helsinki:20251017T120000
DTEND;TZID=Europe/Helsinki:20260325T160000
DTSTAMP:20260421T165256
CREATED:20251021T131622Z
LAST-MODIFIED:20251021T132444Z
UID:10003169-1760702400-1774454400@kotiseutuliitto.fi
SUMMARY:Kaupunki kasvaa: Pietarsaren kaupunkisuunnittelu 1652−2040
DESCRIPTION:Pietarsaaren museon uusi näyttely kuvaa Pietarsaaren kaupunkia keskittyen sen kaupunkisuunnitteluun\, perustamisesta vuonna 1652 nykypäivään ja tulevaisuuteen. Näyttely on toteutettu yhteistyössä Pietarsaaren kaupungin kaavoitusosaston kanssa. \nNäyttely esittelee kaupungin kehitystä asemakaavojen\, karttojen ja esineiden avulla. Esillä on myös Tapani Rauramon valmistama pienoismalli legendaarisesta katurallista vuodelta 1981.
URL:https://kotiseutuliitto.fi/tapahtuma/kaupunki-kasvaa-pietarsaren-kaupunkisuunnittelu-1652-2040/
ATTACH;FMTTYPE=image/jpeg:https://kotiseutuliitto.fi/wp-content/uploads/2025/10/IMG_4764-scaled.jpg
END:VEVENT
BEGIN:VEVENT
DTSTART;TZID=Europe/Helsinki:20251017T120000
DTEND;TZID=Europe/Helsinki:20260329T160000
DTSTAMP:20260421T165256
CREATED:20251021T132818Z
LAST-MODIFIED:20251021T132854Z
UID:10003170-1760702400-1774800000@kotiseutuliitto.fi
SUMMARY:En stad växer fram: Stadsplanering i Jakobstad 1652−2040
DESCRIPTION:Jakobstads museums nya utställning skildrar staden Jakobstad med fokus på dess stadsplanering\, från grundandet år 1652 till nutid och framtid. Utställningen är gjord i samarbete med staden Jakobstads planläggningsavdelning.\nI utställningen presenteras staden utveckling genom stadsplaner\, kartor och föremål. Här visas också en miniatyrmodell föreställande det legendariska gaturallyt från 1981 gjord av Tapani Rauramo.
URL:https://kotiseutuliitto.fi/tapahtuma/en-stad-vaxer-fram-stadsplanering-i-jakobstad-1652-2040/
ATTACH;FMTTYPE=image/jpeg:https://kotiseutuliitto.fi/wp-content/uploads/2025/10/IMG_4764-1-scaled.jpg
END:VEVENT
BEGIN:VEVENT
DTSTART;TZID=Europe/Helsinki:20251125T100000
DTEND;TZID=Europe/Helsinki:20261101T170000
DTSTAMP:20260421T165256
CREATED:20251201T113821Z
LAST-MODIFIED:20251201T113844Z
UID:10003181-1764064800-1793552400@kotiseutuliitto.fi
SUMMARY:Seurantalolla pienoisnäyttely
DESCRIPTION:Kymenlaakson museon Mosaiikki-näyttelyn uudessa sisällössä kerrotaan seurantaloista. \nSeurantalolla pienoisnäyttelyssä on esillä Salo-Miehikkälän nuorisoseurantalon 1950-luvulta olevat näyttämölavasteet. Pienoisnäyttelyssä kurkistetaan kuvin ja tarinoin kymenlaaksolaisiin seurantaloihin. Seurantaloiksi kutsutaan erilaisten aatteellisten yhdistysten kokoontumistiloikseen rakentamia taloja.
URL:https://kotiseutuliitto.fi/tapahtuma/seurantalolla-pienoisnayttely/
ATTACH;FMTTYPE=image/jpeg:https://kotiseutuliitto.fi/wp-content/uploads/2025/11/20251128_142513-scaled.jpg
END:VEVENT
BEGIN:VEVENT
DTSTART;TZID=Europe/Helsinki:20260219T120000
DTEND;TZID=Europe/Helsinki:20260426T170000
DTSTAMP:20260421T165256
CREATED:20260225T145457Z
LAST-MODIFIED:20260225T150453Z
UID:10003220-1771502400-1777222800@kotiseutuliitto.fi
SUMMARY:Saarijärven kaupungin ja museon 40-vuotisjuhlanäyttely
DESCRIPTION:160-vuotiaasta Saarijärven kunnasta tuli kaupunki 1. tammikuuta 1986. Kaupungin juhlavuoden ohjelmaan sisältyvässä Sympaattinen Saarijärvi -näyttelyssä esitellään monipuolisesti eri teemojen kautta maalaiskaupungin ja museon historiaa. Esillä olevien esineiden\, valokuvien\, arkistoaineiston ja tekstien kautta välittyy kaupungin toimintojen historian ohella myös aktiivisten kaupunkilaisten arki\, juhla ja vapaa-aika. \nAinutlaatuinen kulttuuriperintö ja luonnonläheinen ympäristö ovat Saarijärven helmiä. Luonto- ja vapaa-aikakohteiden lisäksi näyttely luo museon kokoelma-aineistolla katsauksen myös paikallisten palveluiden ja yritysten lähihistoriaan. \nSaarijärven Yhtenäiskoulun ja lukion sekä Pylkönmäen koulun oppilaiden luomat kuvataiteen teokset kertovat luovuuden jatkumisesta paikkakunnalla. Niistä on koottu sisälle astumaan houkutteleva tilateos\, josta löytyy lasten ja nuorten kirjoittamia ajatuksia mieluisista asioista Saarijärvellä. Kuvataideopettaja Heini Tenokosken kokoaman tilataideteoksen kuvataidetöiden tekemiseen osallistui yhteensä 496 oppilasta Saarijärveltä ja Pylkönmäeltä. \nTaide- ja kulttuurihistoriallisesta museotoiminnasta vastaava Saarijärven museo täyttää kaupungin toiminnan osana 40 vuotta. Museon kulttuurihistoriallisten kokoelmien perustan muodostaa Saarijärvi-Seuran noin 40 vuoden aikana keräämä laaja esine-\, valokuva- ja arkistoaineisto\, joka luovutettiin Saarijärven kaupungin hallintaan vuonna 1986. Kulttuurihistorian ja taiteen kokoelmat ovat täydentyneet vuosikymmenten aikana ammatillisesti hoidetussa museossa. Sympaattinen Saarijärvi -näyttelyssä nähdään museon neljän vuosikymmenen aikana saamia lahjoituksia. Harvinaisuutena on otos Satakunnan museosta hiljattain kotipaikkakunnalleen takaisin lahjoitetuista 1700–1800-luvun esineistä. \nKeski-Suomen liiton tukema näyttely on esillä 26.4.2026 saakka ke–su 12–17. Otamme ryhmävarauksia vastaan myös aukioloaikojen ulkopuolella.
URL:https://kotiseutuliitto.fi/tapahtuma/saarijarven-kaupungin-ja-museon-40-vuotisjuhlanayttely/
ATTACH;FMTTYPE=image/jpeg:https://kotiseutuliitto.fi/wp-content/uploads/2026/02/sm_nayttely_saarijarvi40v_menok.jpg
END:VEVENT
END:VCALENDAR