BEGIN:VCALENDAR
VERSION:2.0
PRODID:-//Suomen Kotiseutuliitto - ECPv6.15.20//NONSGML v1.0//EN
CALSCALE:GREGORIAN
METHOD:PUBLISH
X-WR-CALNAME:Suomen Kotiseutuliitto
X-ORIGINAL-URL:https://kotiseutuliitto.fi
X-WR-CALDESC:Tapahtumat Suomen Kotiseutuliitto
REFRESH-INTERVAL;VALUE=DURATION:PT1H
X-Robots-Tag:noindex
X-PUBLISHED-TTL:PT1H
BEGIN:VTIMEZONE
TZID:Europe/Helsinki
BEGIN:DAYLIGHT
TZOFFSETFROM:+0200
TZOFFSETTO:+0300
TZNAME:EEST
DTSTART:20230326T010000
END:DAYLIGHT
BEGIN:STANDARD
TZOFFSETFROM:+0300
TZOFFSETTO:+0200
TZNAME:EET
DTSTART:20231029T010000
END:STANDARD
BEGIN:DAYLIGHT
TZOFFSETFROM:+0200
TZOFFSETTO:+0300
TZNAME:EEST
DTSTART:20240331T010000
END:DAYLIGHT
BEGIN:STANDARD
TZOFFSETFROM:+0300
TZOFFSETTO:+0200
TZNAME:EET
DTSTART:20241027T010000
END:STANDARD
BEGIN:DAYLIGHT
TZOFFSETFROM:+0200
TZOFFSETTO:+0300
TZNAME:EEST
DTSTART:20250330T010000
END:DAYLIGHT
BEGIN:STANDARD
TZOFFSETFROM:+0300
TZOFFSETTO:+0200
TZNAME:EET
DTSTART:20251026T010000
END:STANDARD
BEGIN:DAYLIGHT
TZOFFSETFROM:+0200
TZOFFSETTO:+0300
TZNAME:EEST
DTSTART:20260329T010000
END:DAYLIGHT
BEGIN:STANDARD
TZOFFSETFROM:+0300
TZOFFSETTO:+0200
TZNAME:EET
DTSTART:20261025T010000
END:STANDARD
BEGIN:DAYLIGHT
TZOFFSETFROM:+0200
TZOFFSETTO:+0300
TZNAME:EEST
DTSTART:20270328T010000
END:DAYLIGHT
BEGIN:STANDARD
TZOFFSETFROM:+0300
TZOFFSETTO:+0200
TZNAME:EET
DTSTART:20271031T010000
END:STANDARD
END:VTIMEZONE
BEGIN:VEVENT
DTSTART;VALUE=DATE:20240214
DTEND;VALUE=DATE:20260111
DTSTAMP:20260421T233450
CREATED:20250415T064225Z
LAST-MODIFIED:20250923T131738Z
UID:10002893-1707868800-1768089599@kotiseutuliitto.fi
SUMMARY:Kotiseutumme kuvaajat – Valokuvia ja tunnelmia menneiltä vuosikymmeniltä
DESCRIPTION:Näyttely esittelee Sastamalan seudun museon valokuvakokoelman helmiä. Näyttely johdattaa valokuvauksen historiaan ja runsaan kuvakokoelmamme teemoihin. Valokuvissa on esillä elämän koko kirjo ilosta suruun ja arjesta juhlaan. Nostalgiset kuvat kertovat tuotteliaista kuvaajista\, entisajan elämästä sekä kulttuurimaiseman muutoksesta. \nSastamalan seudun museon valokuvakokoelmaa on kartutettu 1930-luvulta lähtien. Kokoelmassa on nykyään noin 15 000 valokuvaa. Suurin osa kuvista on otettu entisen Tyrvään ja Vammalan alueilla. \nNäyttelystä löytyy kuvauspiste\, josta otetulla kuvalla ja sitä Kirjakahvila Pukstaavissa näyttämällä saa 10% alennusta vitriinituotteista. \n14.2.2024 avattu näyttely jatkuu 10.1.2026 saakka. Tervetuloa!
URL:https://kotiseutuliitto.fi/tapahtuma/kotiseutumme-kuvaajat-valokuvia-ja-tunnelmia-menneilta-vuosikymmenilta/
ATTACH;FMTTYPE=image/jpeg:https://kotiseutuliitto.fi/wp-content/uploads/2025/04/Potkukelkkakuva_25_111i-Sastamalan-museo.jpg
END:VEVENT
BEGIN:VEVENT
DTSTART;TZID=Europe/Helsinki:20250315T100000
DTEND;TZID=Europe/Helsinki:20260301T180000
DTSTAMP:20260421T233450
CREATED:20250226T073358Z
LAST-MODIFIED:20250923T132019Z
UID:10002868-1742032800-1772388000@kotiseutuliitto.fi
SUMMARY:Mitattu ja piirretty -näyttely Serlachiuksella
DESCRIPTION:Mitattu ja piirretty esittelee olemassa olevia rakennuksia arkkitehtien ja arkkitehtiopiskelijoiden tekeminä uusina piirustuksina. Mittauspiirustusten tekeminen on kuulunut arkkitehtien koulutukseen yli sadan vuoden ajan. Taidokkaat\, perinteisin menetelmin tehdyt piirustukset taltioivat ja tuovat näkyville rakennusten yksityiskohtia ja rakenteita. \nNäyttelyn piirustukset ovat syntyneet syksyllä 2023 pidettyjen mittausleirien tuloksena. Rakennukset itsessään kertovat myös paikallishistoriasta ja Gösta Serlachiuksen kiinnostuksesta ympäristönsä kaunistamiseen niin Mäntässä kuin tilallaan Huhkojärvellä. Mukana on Serlachius-yhtiön työläisilleen\, virkailijoilleen ja insinööreilleen rakennuttamia erityyppisiä asuntoja. Yhteensä 17 rakennusta on kuvattu 65 piirroksessa.
URL:https://kotiseutuliitto.fi/tapahtuma/mitattu-ja-piirretty-nayttely-serlachiuksella/
ATTACH;FMTTYPE=image/jpeg:https://kotiseutuliitto.fi/wp-content/uploads/2025/02/Riihikallio_ElisaLinjama_scan00198-scaled.jpg
END:VEVENT
BEGIN:VEVENT
DTSTART;VALUE=DATE:20250326
DTEND;VALUE=DATE:20260401
DTSTAMP:20260421T233450
CREATED:20250326T124948Z
LAST-MODIFIED:20251128T090928Z
UID:10002881-1742947200-1775001599@kotiseutuliitto.fi
SUMMARY:Kotiseutuni-verkkoaineisto Mäntän ja Vilppulan rakennetusta ympäristöstä
DESCRIPTION:Serlachius-museoiden kokoelmista valitut kuvat esittelevät Mäntän ja Vilppulan rakennettua ympäristöä. Tutustu myös kuviin liittyviin tehtäviin ja kuvia taustoittavaan materiaaliin. \nKokonaisuuteen valitut kuvat kertovat elävästi paikkakunnan historiasta ja nostavat esiin ympäristössä tapahtuneita muutoksia\, jotka arkielämässä jäävät usein huomaamatta. Ne heijastelevat yhteiskunnan muuttumista laajemminkin. Kuvat auttavat pohtimaan sitä\, miten elämänmeno paikkakunnalla on muuttunut. \nKotiseutuni-aineistossa on tehtäviä ja pohdintamateriaalia\, mutta kuvia voi tutkia myös ilman niitä.
URL:https://kotiseutuliitto.fi/tapahtuma/kotiseutuni-verkkoaineisto/
ATTACH;FMTTYPE=image/jpeg:https://kotiseutuliitto.fi/wp-content/uploads/2025/03/1646.jpg
END:VEVENT
BEGIN:VEVENT
DTSTART;VALUE=DATE:20250425
DTEND;VALUE=DATE:20260427
DTSTAMP:20260421T233450
CREATED:20250513T122526Z
LAST-MODIFIED:20250923T132220Z
UID:10002922-1745539200-1777247999@kotiseutuliitto.fi
SUMMARY:Talojen tarinoita – Puutalokaupungin jäljillä
DESCRIPTION:Kuopion Korttelimuseon juhlavuoden 2025 näyttely kutsuu kurkistamaan Kuopion idyllisiin puutalokortteleihin. Näyttelyssä valokuvat ja muistelmat nivoutuvat yhteen luoden eloisan kokonaisuuden\, joka kertoo kaupungin rakennushistoriasta sekä kaupunkikuvan muutoksesta. Kuopiossa lapsuutensa ja nuoruutensa 1940–1960-luvuilla viettäneet ihmiset kertovat\, millaista oli elää puutalojen täyttämässä kaupungissa. Talojen tarinoita piirtää kuvaa vilkkaasta kaupungista\, jonka kaduilla ihmiset toimittivat arkisia askareitaan. \nKuopio oli pitkälle 1900-luvun puoliväliin asti puutalovaltainen kaupunki. Toisen maailmansodan jälkeinen jälleenrakentamiskausi ja kaupungistuminen muuttivat voimakkaasti Kuopion kaupunkikuvaa. Puutaloja purettiin tiivistyvän kaupunkirakentamisen tieltä. Talojen tarinoita kertoo Kuopion puretuista sekä edelleen olemassa olevista puutaloista. \nRakennuksiin liittyy muistoja siitä\, millaista oli elää puutalojen täyttämässä kaupungissa. Puutaloasumiseen liittyvät askareet rytmittivät monen kuopiolaisen arkea. Vapaa-ajalla saatettiin poiketa elokuviin tai ulkoilemaan Väinölänniemelle. Haaveissa saattoi siintää asunto uudesta kerrostalosta. Lapsille sokkeloiset rännikadut tarjosivat monenlaista puuhaa ja leikkipaikkoja koulunkäynnin ohella. \nNäyttelyn laajassa kuva-aineistossa näkyy kaupunkikuvan kerroksellisuus. Valokuvat puutaloista esittävät 250-vuotisen Kuopion rakennushistoriaa. Kuvissa näkyy kaupungin muutos matalasta puutalokaupungista moderniksi kerrostalokaupungiksi. Valokuvien lisäksi näyttelyssä on puutaloihin liittyviä lyhyitä tarinoita. Muistot puu-Kuopiosta limittyvät nykyiseen kaupunkitilaan ja näyttely kutsuu pohtimaan rakennetun kulttuuriympäristön merkityksiä tässä päivässä ja puutalojen roolia kaupungin katukuvassa.
URL:https://kotiseutuliitto.fi/tapahtuma/talojen-tarinoita-puutalokaupungin-jaljilla/
ATTACH;FMTTYPE=image/jpeg:https://kotiseutuliitto.fi/wp-content/uploads/2025/05/Talojen-tarinoita-vaaka-1920x1080-1.jpg
END:VEVENT
BEGIN:VEVENT
DTSTART;TZID=Europe/Helsinki:20250501T000000
DTEND;TZID=Europe/Helsinki:20251031T220000
DTSTAMP:20260421T233450
CREATED:20250415T061541Z
LAST-MODIFIED:20250924T103620Z
UID:10002892-1746057600-1761948000@kotiseutuliitto.fi
SUMMARY:Sääksmäen kulttuuriraitti Huittulassa -mobiilireitti
DESCRIPTION:Sääksmäki on valtakunnallisesti arvokasta maisema-aluetta. Rapolanharjun laelta avautuu näkymä kulttuurimaisemaan\, josta erottuvat yksittäisinä kohteina Sääksmäen kirkko\, Voipaalan ja Rapolan kartanot\, Huittulan kylä sekä ympäröivät viljelykset ja vesialueet. \nHarjun etelärinteellä sijaitsevine vanhoine rakennuksineen Huittulan kylä on yksi parhaiten säilyneistä hämäläiskylistä. Rakennukset sijaitsevat viljelyalueen reunalla\, ja kylän halki kulkee rinteen suuntaisesti vanha kylätie. Tien eteläpuolella avautuvat peltoaukeat\, jotka rajautuvat Vanajaveden Pappilanlahteen. \nRakennettuun kulttuuriympäristöön kuuluvat myös rinteen pengerrykset\, rehevät puutarhat\, idylliset puuston reunustamat kylätiet sekä monet 1800 -luvulla rakennetut vanhat rakennukset. \nUpeisiin maisemiin voi tutustua nyt omatoimisesti Sääksmäen kirkonpuolen kulttuuriraitti -mobiilireitin avulla. Reitti löytyy Citynomadin verkkosivuilta oheisesta linkistä: https://www.citynomadi.com/route/7739dac77fcdcae351058e293b4724b5 . Voit käyttää myös Nomadi sovellusta\, joka on ladattavissa Google Playsta ja App storesta. \nVoit myös tutustua Sääksmäen ja Tarttilan kulttuurimaisemiin oheiselta videolta: https://www.youtube.com/watch?v=edazmB_Juac&t=6s. \nHuittulan tarinakartta kertoo ikiaikaisesta kylästä. \nSääksmäen kirkonpuolen kulttuuriraitti -mobiilireitin on toteuttanut Yhteistyöllä nostetta Sääksmäelle -hanke yhdessä Sääksmäen kirkonpuolen kyläyhdistyksen kanssa.
URL:https://kotiseutuliitto.fi/tapahtuma/saaksmaen-kulttuuriraitti-huittulassa-mobiilireitti/
ATTACH;FMTTYPE=image/jpeg:https://kotiseutuliitto.fi/wp-content/uploads/2025/04/Huittulaa-scaled.jpg
END:VEVENT
BEGIN:VEVENT
DTSTART;VALUE=DATE:20250513
DTEND;VALUE=DATE:20260111
DTSTAMP:20260421T233450
CREATED:20250509T101814Z
LAST-MODIFIED:20250924T093232Z
UID:10002910-1747094400-1768089599@kotiseutuliitto.fi
SUMMARY:Kuvakulmia - Sastamalaa ennen ja nyt
DESCRIPTION:Miten ympäristömme on muuttunut? Valokuvanäyttely esittelee Sastamalan maisemia ennen ja nyt. Vammalan Kameraseura syventyi kulttuuriympäristön muutokseen kuvaamalla Sastamalan seudun museon valokuvakokoelmasta poimittuja kohteita vuosina 2024–2025. \nVanhan ja nykyisen maiseman yhteen sovittaminen johdatti valokuvaajat yllättävien kohtaamisten ja arkistenkin kuvakulmien äärelle. Vuonna 1978 perustettu Vammalan Kameraseura tarjoaa mahdollisuuden valokuvausharrastukseen järjestämällä harjoituksia\, retkiä\, esitelmiä\, kilpailuita ja näyttelyitä. Vammalan Kameraseura on Sastamalan seudun museon vuoden 2025 Kyläkumppani. \nNäyttely on osa Euroopan kulttuuriympäristöpäiviä. Kulttuuriympäristöpäivät\, European Heritage Days\, on Euroopan laajimpia yleisötapahtumien kokonaisuuksia. Päivien tuhansiin kulttuuriperintöä esitteleviin tapahtumiin osallistuu vuosittain miljoonia ihmisiä. Näyttely on siis osa suurta ja tärkeää kokonaisuutta\, joka tuo ihmiset yhteen nauttimaan kulttuuriympäristömme aarteista.
URL:https://kotiseutuliitto.fi/tapahtuma/kuvakulmia-sastamalaa-ennen-ja-nyt/
ATTACH;FMTTYPE=image/jpeg:https://kotiseutuliitto.fi/wp-content/uploads/2025/05/Kuvakulmia_Kutala.jpg
END:VEVENT
BEGIN:VEVENT
DTSTART;TZID=Europe/Helsinki:20250811T080000
DTEND;TZID=Europe/Helsinki:20250930T160000
DTSTAMP:20260421T233450
CREATED:20250811T115106Z
LAST-MODIFIED:20250924T093407Z
UID:10003013-1754899200-1759248000@kotiseutuliitto.fi
SUMMARY:Arjen ja juhlan vuosisadat
DESCRIPTION:Helsingin Yliopiston arkeologian dosentti Liisa Seppäsen ohjauksessa arkeologian opiskelijoiden näyttötyö Turun Linnankatu 3 arkeologisista kaivauksista löydettyjen esineiden näyttely. \nNäyttely koostuu kolmesta vitriinistä osoitteessa Linnankatu 3 A ja 3B. \nLinnankatu 3:ssa sijaitsi Seipellin ravintola ja majatalo sekä Pyhän Hengen kirkko. Vitriineissä olevat esineet liittyvät asumiseen\, ravintola toimintaan ja kirkkoon.
URL:https://kotiseutuliitto.fi/tapahtuma/arjen-ja-juhlan-vuosisadat/
ATTACH;FMTTYPE=image/jpeg:https://kotiseutuliitto.fi/wp-content/uploads/2022/12/JPG_Euroopan_kulttuuriymparistopaivat_RGB.jpg
END:VEVENT
BEGIN:VEVENT
DTSTART;TZID=Europe/Helsinki:20250813T080000
DTEND;TZID=Europe/Helsinki:20250930T170000
DTSTAMP:20260421T233450
CREATED:20250825T125252Z
LAST-MODIFIED:20250924T093448Z
UID:10003062-1755072000-1759251600@kotiseutuliitto.fi
SUMMARY:Kirjanäyttely Riihimäen kirjastossa
DESCRIPTION:Riihimäen kirjaston kirjojen esittelyvitriineihin ja hyllyihin on koottu kirjanäyttely rakennusperintöön ja arkkitehtuuriin liittyvistä kirjoista. Näyttely on esillä elo-syyskuun ajan.
URL:https://kotiseutuliitto.fi/tapahtuma/kirjanayttely-riihimaen-kirjastossa/
ATTACH;FMTTYPE=image/jpeg:https://kotiseutuliitto.fi/wp-content/uploads/2022/12/JPG_Euroopan_kulttuuriymparistopaivat_RGB.jpg
END:VEVENT
BEGIN:VEVENT
DTSTART;TZID=Europe/Helsinki:20250901T000000
DTEND;TZID=Europe/Helsinki:20250930T000000
DTSTAMP:20260421T233450
CREATED:20250901T154000Z
LAST-MODIFIED:20250924T093543Z
UID:10003085-1756684800-1759190400@kotiseutuliitto.fi
SUMMARY:Wiki Loves Monuments
DESCRIPTION:Wiki Loves Monuments järjestetään jälleen syyskuussa 1.–30.9.2025. Tänä vuonna teemana on rakennettu perintömme (Architectural Heritage)\, joka on myös Euroopan kulttuuriympäristöpäivien vuositeema. Teema inspiroi kuvaamaan eri aikakausien rakennettua kulttuuriperintöä\, rakennuksien korjaamista ja uutta käyttöä. Kuvaamisen keskiössä ovat rakennetut ympäristöt\, kuten\, kylät\, kaupungit sekä puistot ja puutarhat\, jotka kantavat mukanaan paikallisia tarinoita ja muistoja. \nKilpailuun voi osallistua valokuvilla\, joissa näkyy suojeltu tai muutoin arvokkaaksi määritelty kulttuuriperintökohde\, joka löytyy kilpailun kartalta.
URL:https://kotiseutuliitto.fi/tapahtuma/wiki-loves-monuments-2/
ATTACH;FMTTYPE=image/jpeg:https://kotiseutuliitto.fi/wp-content/uploads/2025/08/Sjundea_Sankt_Petri_kyrka_takrenovering.jpg
END:VEVENT
BEGIN:VEVENT
DTSTART;TZID=Europe/Helsinki:20250901T080000
DTEND;TZID=Europe/Helsinki:20251005T170000
DTSTAMP:20260421T233450
CREATED:20250826T050703Z
LAST-MODIFIED:20250924T093621Z
UID:10003064-1756713600-1759683600@kotiseutuliitto.fi
SUMMARY:Alvar Aalto -reitin arkkitehtuurikohteiden tapahtumat
DESCRIPTION:Syyskuu 2025 tuo mukanaan yli 20 tapahtumaa Alvar Aalto -reitin arkkitehtuurikohteissa Suomessa ja ulkomailla. Luvassa avoimia ovia\, opastettuja kierroksia\, näyttelyitä ja koko perheen tapahtumia. Löydä oma tapahtumasi  Alvar Aalto -reitin tapahtumasivulta. Huomaathan\, että joihinkin tapahtumiin tulee varata paikat ennakkoon.
URL:https://kotiseutuliitto.fi/tapahtuma/alvar-aalto-reitin-arkkitehtuurikohteiden-tapahtumat/
ATTACH;FMTTYPE=image/jpeg:https://kotiseutuliitto.fi/wp-content/uploads/2025/08/Alvar-Aalto-Alajarvi-tapahtuma.jpg
END:VEVENT
BEGIN:VEVENT
DTSTART;TZID=Europe/Helsinki:20250901T100000
DTEND;TZID=Europe/Helsinki:20250930T190000
DTSTAMP:20260421T233450
CREATED:20250901T103518Z
LAST-MODIFIED:20250924T093800Z
UID:10003090-1756720800-1759258800@kotiseutuliitto.fi
SUMMARY:Rakennetun kulttuuriperinnön säilyttäminen Turunmaalla
DESCRIPTION:Näyttely joka käsittelee rakennusperinnön säilyttämistä perinteisen hirsirunkoisten talojen ekologisuuden näkökulmasta. Näyttelyn sisältöä vahvistetaan tuomalla esille kirjallisuutta\, joka käsittelee samaa aihepiiriä. Näyttely on ilmainen ja katsottavissa Paraisten kaupungintalon kirjaston aukiolojen puitteissa.
URL:https://kotiseutuliitto.fi/tapahtuma/rakennetun-kulttuuriperinnon-sailyttaminen-turunmaalla/
ATTACH;FMTTYPE=image/jpeg:https://kotiseutuliitto.fi/wp-content/uploads/2025/09/reparation.jpg
END:VEVENT
BEGIN:VEVENT
DTSTART;TZID=Europe/Helsinki:20250902T120000
DTEND;TZID=Europe/Helsinki:20251001T123000
DTSTAMP:20260421T233450
CREATED:20250821T091602Z
LAST-MODIFIED:20250924T093851Z
UID:10003053-1756814400-1759321800@kotiseutuliitto.fi
SUMMARY:Rakennettu perintömme -teemavuosi Lastentarhamuseolla
DESCRIPTION:Syyskuussa Lastentarhamuseolla työpajoja\, opastuksia ja puheenvuoroja Kulttuuriympäristöpäivien vuoden 2025 teemalla! \nMuseon uusi neliosaisen vaihtuvien näyttelyiden sarjan ensimmäinen osa\, Tarinoita tilasta\, liittyy myös rakennettuun ympäristöön ja kutsuu yleisön osallistumaan siihen omilla muistoilla. Näyttely on nähtävillä Lastentarhamuseon aulatilassa\, mutta siihen voi osallistua myös omalta kotisohvalta käsin Lastentarhamuseon verkkosivuston kautta: https://lastentarhamuseo.fi/muistot-2025/ \nTeemavuoden opastukset ja tapahtumat sisältyvät sisäänpääsylipun hintaan (10€/6€/0€/Museokortti) ellei erikseen muuta mainita. \nRakennettu perintömme -teemavuoden aikataulu Lastentarhamuseolla: \nTiistai 2.9. klo 12\nVEISTOHUONEEN RAKENTELUPISTEEN AVAUS\nOsana museopäivää avautuu uusi toimintapiste museon Veistohuoneeseen \nKeskiviikko 3.9. klo 12.15\nKULTTUURIVARTTI: EBENESER-TALON POHJAPIIRUSTUS\nLyhytopastuksella aiheena lastentarhatoiminta Ebeneserin lastentarhan tiloissa – tarkastelussa Wivi Lönnin 1906 suunnittelema pohjapiirustus \nKeskiviikko 17.9. klo 12.15\nKULTTUURIVARTTI: FRÖBELIN-PALIKAT\nLyhytopastuksella aiheena saksalaisen aktiivisuuspedagogi Friedrich Fröbelin (1782–1852) luomat kuuluisat palikat \nMaanantai 22.9. klo 17\nMAHDOLLISUUKSIEN PALIKAT – RAKENTELUTYÖPAJA AIKUISILLE\nAidoilla Fröbelin palikoilla ja jättipalikoilla rakentamista sisältävä aikuisille suunnattu ohjattu työpaja. Työpajan kesto n. 1 tunti. Hinta 10 euroa /osallistuja tai Museokortti. Ilmoittaudu ebeneser(at)ebeneser.fi. \nMaanantai 29.9. klo 17\nRAKENNUSPERINNÖSTÄ LORUTELLEN: NÄKÖKULMIA KORJAUSRAKENTAMISEEN\nArkkitehti\, rakennusperinnön dosentti Iida Kalakoski avaa eri näkökulmia korjausrakentamiseen. Tilaisuuden päätyttyä yleisöllä mahdollisuus vierailla Lastentarhamuseon näyttelyssä. Tapahtuma on suunnattu aikuisyleisölle. Sisältyy museon sisäänpääsymaksun hintaan (10 € / 6 € / Museokortti). \nTiistai 30.9. klo 17\nYLEISÖOPASTUS: LASTENTARHATYÖ SUOMESSA\nAikuisyleisölle suunnattu opastus Ebeneser-taloon ja Lastentarhamuseoon suomalaisen lastentarhatyön juurille. Aloitus klo 17 museon 3. kerroksen aulasta. Kesto n. 45 min \nKeskiviikko 1.10. klo 12.15\nKULTTUURIVARTTI: EBENESER-TALON AVAJAISKUTSU\nLyhytopastuksella aiheena siirtymäkohta Sörnäisten kansanlastentarhasta Ebeneseriin \nTervetuloa Lastentarhamuseoon!
URL:https://kotiseutuliitto.fi/tapahtuma/rakennettu-perintomme-teemavuosi-lastentarhamuseolla/
ATTACH;FMTTYPE=image/jpeg:https://kotiseutuliitto.fi/wp-content/uploads/2025/08/Ebeneser-talo.jpg
END:VEVENT
BEGIN:VEVENT
DTSTART;TZID=Europe/Helsinki:20250905T080000
DTEND;TZID=Europe/Helsinki:20251025T170000
DTSTAMP:20260421T233450
CREATED:20250904T072705Z
LAST-MODIFIED:20250924T093933Z
UID:10003095-1757059200-1761411600@kotiseutuliitto.fi
SUMMARY:Betonoituna - pysyy?
DESCRIPTION:Betoni on yhtä aikaa pysyvää ja katoavaista — rakenteena kova ja kestävä\, mutta purkujen myötä hauras. \nProto–Pohjois-Suomen Muotoilijat ja Pohjois-Suomen SAFA ovat rakentaneet yhdessä betonibrutalismia ja purkamista tarkastelevan näyttelykokonaisuuden Betonoituna pysyy? \nRakas vihattu betoni on näyttely\, joka esittelee suomalaisen betonibrutalismin historiaa ja sen kansainvälisiä yhteyksiä. Näkyvä\, paljas betoni jakoi aikanaan mielipiteitä\, mutta sen arkkitehtuuri on jättänyt vahvan jäljen niin kotimaahan kuin maailmalle. Näyttely pohjautuu tietokirjailija Mikko Laaksosen käynnissä olevaan tutkimukseen Brutalismi Suomessa. \nBetonibrutalismin helmiä Oulussa ovat arkkitehtipariskunta Marjatta ja Martti Jaatisen suunnittelemat Oulun kaupunginkirjasto ja Oulun Teatteri kauppatorin kupeessa. Molempien rakennusten peruskorjaus valmistuu Oulu2026 Euroopan kulttuuripääkaupunkivuoden alkuun mennessä. Muualla Suomessa betonista rakennettujahelmiä ovat mm. arkkitehtiveljesten Timo ja Tuomo Suomalaisen Temppeliaukion kirkko sekä Reima ja Raili Pietilän Teknillisen korkeakoulun opiskelijakunnan käyttöön suunnittelema Dipoli\, joka toimii nykyään Aalto-yliopiston päärakennuksena. \nPurkamatta paras -näyttely tarkastelee purkamista ilmaston ja kulttuuriperinnön näkökulmista ja haastaa pohtimaan\, miten vanha rakennuskanta voi uudistua sen sijaan\, että se katoaa. Purkamatta paras on myös kantaa ottava kampanja — vanhan rakennuskannan voi nähdä mahdollisuutena ja korjata sopivalla tavalla purkamisen sijaan. Kampanja muistuttaa\, että rakennusten purkaminen on ristiriidassa ilmastotavoitteiden kanssa — purku tuottaa hiilidioksidipäästöjä ja hukkaa luonnonmateriaaleja. \nOululaisten muistissa ovat hyvin Heinäpään ja Puu-Tuiran purku. Purkamisia on meneillään myös nyt\, kun 1960–1970 -lukujen rakennuskantaa usein puretaan uuden tieltä.
URL:https://kotiseutuliitto.fi/tapahtuma/betonoituna-pysyy/
ATTACH;FMTTYPE=image/png:https://kotiseutuliitto.fi/wp-content/uploads/2025/09/Nayttokuva-2025-09-03-093002.png
END:VEVENT
BEGIN:VEVENT
DTSTART;VALUE=DATE:20250913
DTEND;VALUE=DATE:20251026
DTSTAMP:20260421T233450
CREATED:20250915T132327Z
LAST-MODIFIED:20250924T094038Z
UID:10003119-1757721600-1761436799@kotiseutuliitto.fi
SUMMARY:Valokuvanäyttely: Tapuli vuosien saatossa − kuvia muutoksesta
DESCRIPTION:Valokuvia 50-vuotiaasta Tapulikaupungista.
URL:https://kotiseutuliitto.fi/tapahtuma/valokuvanayttely-tapuli-vuosien-saatossa-%e2%88%92-kuvia-muutoksesta/
ATTACH;FMTTYPE=image/jpeg:https://kotiseutuliitto.fi/wp-content/uploads/2022/12/JPG_Euroopan_kulttuuriymparistopaivat_RGB.jpg
END:VEVENT
BEGIN:VEVENT
DTSTART;TZID=Europe/Helsinki:20250927T110000
DTEND;TZID=Europe/Helsinki:20250927T123000
DTSTAMP:20260421T233450
CREATED:20250909T144642Z
LAST-MODIFIED:20250909T144642Z
UID:10003106-1758970800-1758976200@kotiseutuliitto.fi
SUMMARY:Nälkälinnanmäen kirjastotalon urakointi ja rakentaminen
DESCRIPTION:Savonlinnan kaupunginkirjasto kohosi Olavinlinnan lähituntumaan Nälkälinnanmäelle vuonna 1964. Rakennus jäi tyhjilleen\, kun pääkirjasto muutti uusiin tiloihin Asemantien varteen syksyllä 2013. Rakennuksen kohtalosta on kiistelty vuodesta 2009 lähtien. \nKiistan myötä kirjaston suunnitelleiden arkkitehtien Kaisa Harjanteen ja Maija Suurlan nimet ovat käyneet savonlinnalaisille tutuiksi. Sen sijaan suunnitelman toteuttanut mikkeliläinen urakoitsija Armas Asikainen on jäänyt julkisuudelta piiloon\, aliurakoitsijoista ja raskaan työn tehneistä rakennusmiehistä puhumattakaan. \nAjatus Nälkälinnanmäen kirjastotalon rakentamisurakan nostamisesta esille syntyi elokuussa 2024\, kun entisen kirjastorakennuksen 60-vuotisjuhlaan käveli tilaisuutta lopeteltaessa entinen savonlinnalainen\, nykyisin Helsingissä asuva Esko Auramo\, joka kertoi osallistuneensa nuorempana rakennusharjoittelijana kirjastourakan konttoritöihin. \nRakennusliike A. Asikainen on myyty moneen kertaan\, joten sen arkistoihin ei ole päästy tutustumaan. Esitelmää varten on saatu Armas Asikaisen tyttären Liisa Asikaisen isästään laatima pienoiselämänkerta ja valokuvia perhealbumista. Kovat faktatiedot on koottu kaupunginarkiston asiakirjoista sekä paikallislehtien Itä-Savon ja Savonmaan artikkeleista. \nEsitelmän pitää Nälkälinnanmäki-Seura ry:n hallituksen puheenjohtaja Harri O. Halko.
URL:https://kotiseutuliitto.fi/tapahtuma/nalkalinnanmaen-kirjastotalon-urakointi-ja-rakentaminen/
ATTACH;FMTTYPE=image/jpeg:https://kotiseutuliitto.fi/wp-content/uploads/2025/09/Nalkalinnanmaen-kirjasto-vuonna-1964.jpg
END:VEVENT
BEGIN:VEVENT
DTSTART;TZID=Europe/Helsinki:20250927T110000
DTEND;TZID=Europe/Helsinki:20250927T140000
DTSTAMP:20260421T233450
CREATED:20250812T134405Z
LAST-MODIFIED:20250812T134405Z
UID:10003018-1758970800-1758981600@kotiseutuliitto.fi
SUMMARY:Vanhan viinatehtaan ovet avautuvat Rajamäellä
DESCRIPTION:Tervetuloa tutustumaan Alkon vanhoihin tehdasrakennuksiin Rajamäellä lauantaina 27.9.2025 klo 11–14! \nNurmijärven Rajamäellä sijaitseva historiallinen tehdasmiljöö tarjoaa ainutlaatuisen mahdollisuuden nähdä alue\, jossa suomalainen teollisuus sai vahvan jalansijan jo vuonna 1888. Ensimmäiset punatiiliset rakennukset nousivat pohjavesilähteen ja rautatien viereen. Alkuvuosikymmenten ajan tehtaita laajennettiin tarpeen mukaan – ilman kokonaissuunnitelmaa\, mutta täynnä aikakautensa henkeä. \nRajamäen kylä syntyi viinatehtaan ympärille ja kehittyi patruunajohtoiseksi yhteisöksi\, jonka sieluna toimi tehdas ja sen johtohahmo tohtori Wilhelm Juslin. \nKulttuuriympäristöpäivänä yleisölle avautuvat alueen historialliset kohteet: melassivarasto\, pullovarasto\, konttori ja hiivatehdas. Alueen vanhin rakennus on hiivatehdas\, ja sen ympärille ovat rakentuneet pikkuhiljaa muutkin rakennukset. Olemassa olevien rakennusten laajentamisessa ja uusien rakennusten suunnittelussa oli mukana aikansa tunnettuja suunnittelijoita\, kuten arkkitehtitoimisto Cronstedt & Schultz sekä arkkitehdit Erkki Huttunen ja Einari Teräsvirta. \nHiivatehtaan yhteydessä olevassa vanhassa viinanpolttimo- ja tislaamorakennuksessa sijaitsee vuonna 1963 avattu tehdas- ja alkoholimuseo Rajamäen Ryyppi. Museossa voi tutustua suomalaiseen väkijuomateollisuuteen ja väkevään alkoholikulttuuriin. \nAlueella toimivat käsityöläiset pitävät puotinsa avoinna kävijöille. \nTapahtuma on osa Kulttuuriympäristöpäivää\, joka on Euroopan laajin yleisötapahtumien sarja. Vuoden 2025 teemana on Rakennettu perintömme. Tapahtumaan on vapaa pääsy. \nLähde aikamatkalle suomalaisen viinateollisuuden juurille – nähdään Rajamäellä!
URL:https://kotiseutuliitto.fi/tapahtuma/vanhan-viinatehtaan-ovet-avautuvat-rajamaella/
ATTACH;FMTTYPE=image/jpeg:https://kotiseutuliitto.fi/wp-content/uploads/2025/08/mui-36955.jpg
END:VEVENT
BEGIN:VEVENT
DTSTART;TZID=Europe/Helsinki:20250927T120000
DTEND;TZID=Europe/Helsinki:20250927T160000
DTSTAMP:20260421T233450
CREATED:20250829T100517Z
LAST-MODIFIED:20250901T151002Z
UID:10003080-1758974400-1758988800@kotiseutuliitto.fi
SUMMARY:Plassi uusin silmin − kuvasuunnistus wanhassa kaupungissa
DESCRIPTION:Tervetuloa tutustumaan Kalajoen wanhaan kaupunkiin\, Plassiin\, uusin silmin kuvasuunnistuksen kautta! \nLauantai 27.9.2025 klo 12–16\nSantaholmantie 2 (Plassin kyläyhdistys) \nKuka tunnettu henkilö vieraili Plassilla 1900-luvun alussa valokuvaamassa paikallista elämänmenoa? Tätä arvoitusta ratkotaan Plassin jännittävässä kuvasuunnistuksessa\, jossa selvitetään kymmenen historiallisen ja arkkitehtonisen kohteen sijaintia valokuvien avulla. Kartanlukutaitoa ei siis tarvita – tärkeimpiä ovat tarkkaavaiset silmät ja nopeat hoksottimet! \nTapahtumassa ohjeistetaan myös Wiki Loves Monuments -valokuvauskilpailuun osallistumisesta. Ota oma kamerasi mukaan\, valokuvaa Plassin historiallisia kohteita ja voit voittaa huikeita palkintoja. \nTapahtuman kotipesänä\, sekä suunnistuksen alku- ja päätepisteenä\, toimii Plassin kyläyhdistyksen kylätalo (Santaholmantie 2). Kylätalolla on osallistujille tarjolla myös lämmintä juotavaa sekä pienet osallistumispalkinnot. Tarkemmat tapahtumatiedot julkaistaan kaupungin tapahtumakalenterissa lähempänä ajankohtaa. \nVoi tutustua Plassin historiaan ja kulttuurikohteisiin jo etukäteen kaupunkiopas Atlassa (atla.fi): https://atla.fi/fi/kalajoki/kartta/kokoelma/plassin-historiareitti#14.21/64.26491/23.9425 \nPlassin alue on vanhaa kauppa- ja markkinapaikkaa\, ”marknadsplats”\, josta juontuu nimitys Plassi. Alue on pääosin vanhan puutaloasutuksen muodostama kyläkeskittymä\, jonka vanhimmat rakennukset ovat 1700-luvulta. Vanha kylärakenne on säilynyt hyvin. \nTapahtumaan voi osallistua suomeksi ja englanniksi. Sopii kaikenikäisille. Vapaa pääsy! \nTervetuloa – Welcome!
URL:https://kotiseutuliitto.fi/tapahtuma/plassi-uusin-silmin-kuvasuunnistus-wanhassa-kaupungissa/
ATTACH;FMTTYPE=image/png:https://kotiseutuliitto.fi/wp-content/uploads/2025/08/Plassin-kuvasuunnistus.png
END:VEVENT
BEGIN:VEVENT
DTSTART;TZID=Europe/Helsinki:20250927T140000
DTEND;TZID=Europe/Helsinki:20250927T153000
DTSTAMP:20260421T233450
CREATED:20250825T080615Z
LAST-MODIFIED:20250922T102957Z
UID:10003059-1758981600-1758987000@kotiseutuliitto.fi
SUMMARY:Kalliokosken lasitehtaan ympäristön kävelykierros
DESCRIPTION:Kalliokosken lasitehdas oli Miehikkälän Kalliokosken kylässä vuosina 1861-1931 toiminut tehdas. Lasitehdas on ollut maatalousvaltaisen Miehikkälän historian merkittävin teollisuuslaitos ja aikanaan myös merkittävimpiä ikkunalasia tuottavia lasitehtaita Suomessa. \nKävelykierroksella tutustutaan vanhojen valokuvien avulla Kalliokosken entisen lasitehtaan ympäristöön\, hävinneisiin ja nykyisiin rakennuksiin. Kävelykierroksen tavoitteena on auttaa näkemään nykyinen maisema ja tehdasmiljöö sellaisena kuin se oli aikanaan 100 vuotta sitten. Kävelykierroksen oppaana ja vetäjänä toimii Miehikkälän kunnan museoasiantuntija. Kyseessä on samalla kuitenkin muistelutapahtuma\, ja mukaan toivotaan ihmisiä\, jotka voivat halutessaan jakaa omakohtaista tai muilta kuultua muistitietoa lasitehtaasta ja tehdasyhteisöstä. \nKävelykierros on osa Euroopan kulttuuriympäristöpäiviä. Kulttuuriympäristöpäivät\, European Heritage Days\, on Euroopan laajimpia yleisötapahtumien kokonaisuuksia. \nKierros on ilmainen\, ja mukaan mahtuu 20 henkilöä. Tapahtumaan on ennakkoilmoittautuminen ke 24.9.2025 klo 16 mennessä. Ilmoittautumiset Armi Oinonen\, armi.oinonen@miehikkala.fi tai puh. 040 752 7770.
URL:https://kotiseutuliitto.fi/tapahtuma/kalliokosken-lasitehtaan-ympariston-kavelykierros/
ATTACH;FMTTYPE=image/jpeg:https://kotiseutuliitto.fi/wp-content/uploads/2025/08/KSM116_1.jpg
END:VEVENT
END:VCALENDAR