BEGIN:VCALENDAR
VERSION:2.0
PRODID:-//Suomen Kotiseutuliitto - ECPv6.15.20//NONSGML v1.0//EN
CALSCALE:GREGORIAN
METHOD:PUBLISH
X-ORIGINAL-URL:https://kotiseutuliitto.fi
X-WR-CALDESC:Tapahtumat Suomen Kotiseutuliitto
REFRESH-INTERVAL;VALUE=DURATION:PT1H
X-Robots-Tag:noindex
X-PUBLISHED-TTL:PT1H
BEGIN:VTIMEZONE
TZID:Europe/Helsinki
BEGIN:DAYLIGHT
TZOFFSETFROM:+0200
TZOFFSETTO:+0300
TZNAME:EEST
DTSTART:20250330T010000
END:DAYLIGHT
BEGIN:STANDARD
TZOFFSETFROM:+0300
TZOFFSETTO:+0200
TZNAME:EET
DTSTART:20251026T010000
END:STANDARD
BEGIN:DAYLIGHT
TZOFFSETFROM:+0200
TZOFFSETTO:+0300
TZNAME:EEST
DTSTART:20260329T010000
END:DAYLIGHT
BEGIN:STANDARD
TZOFFSETFROM:+0300
TZOFFSETTO:+0200
TZNAME:EET
DTSTART:20261025T010000
END:STANDARD
BEGIN:DAYLIGHT
TZOFFSETFROM:+0200
TZOFFSETTO:+0300
TZNAME:EEST
DTSTART:20270328T010000
END:DAYLIGHT
BEGIN:STANDARD
TZOFFSETFROM:+0300
TZOFFSETTO:+0200
TZNAME:EET
DTSTART:20271031T010000
END:STANDARD
END:VTIMEZONE
BEGIN:VEVENT
DTSTART;TZID=Europe/Helsinki:20260419T130000
DTEND;TZID=Europe/Helsinki:20260419T150000
DTSTAMP:20260421T172536
CREATED:20260407T063045Z
LAST-MODIFIED:20260407T063045Z
UID:10003245-1776603600-1776610800@kotiseutuliitto.fi
SUMMARY:Kylämme ennen ja nyt - muistelupaja rakennusten ja pihapiirien muutoksista
DESCRIPTION:Muistellaan Häkkisen\, Liukon ja Roosinpohjan kylien rakennusten ja pihapiirien muutoksia vuosikymmenten mittaan. Jos sinulla on kuvia aiheesta\, ota toki niitä mukaan. Kahvia tarjolla – vapaaehtoinen kahviraha. Tervetuloa!
URL:https://kotiseutuliitto.fi/tapahtuma/kylamme-ennen-ja-nyt-muistelupaja-rakennusten-ja-pihapiirien-muutoksista/
ATTACH;FMTTYPE=image/png:https://kotiseutuliitto.fi/wp-content/uploads/2026/04/tekoalykuva-muuntaja-maitolaituri-3.png
END:VEVENT
END:VCALENDAR