BEGIN:VCALENDAR
VERSION:2.0
PRODID:-//Suomen Kotiseutuliitto - ECPv6.15.20//NONSGML v1.0//EN
CALSCALE:GREGORIAN
METHOD:PUBLISH
X-WR-CALNAME:Suomen Kotiseutuliitto
X-ORIGINAL-URL:https://kotiseutuliitto.fi
X-WR-CALDESC:Tapahtumat Suomen Kotiseutuliitto
REFRESH-INTERVAL;VALUE=DURATION:PT1H
X-Robots-Tag:noindex
X-PUBLISHED-TTL:PT1H
BEGIN:VTIMEZONE
TZID:Europe/Helsinki
BEGIN:DAYLIGHT
TZOFFSETFROM:+0200
TZOFFSETTO:+0300
TZNAME:EEST
DTSTART:20250330T010000
END:DAYLIGHT
BEGIN:STANDARD
TZOFFSETFROM:+0300
TZOFFSETTO:+0200
TZNAME:EET
DTSTART:20251026T010000
END:STANDARD
BEGIN:DAYLIGHT
TZOFFSETFROM:+0200
TZOFFSETTO:+0300
TZNAME:EEST
DTSTART:20260329T010000
END:DAYLIGHT
BEGIN:STANDARD
TZOFFSETFROM:+0300
TZOFFSETTO:+0200
TZNAME:EET
DTSTART:20261025T010000
END:STANDARD
BEGIN:DAYLIGHT
TZOFFSETFROM:+0200
TZOFFSETTO:+0300
TZNAME:EEST
DTSTART:20270328T010000
END:DAYLIGHT
BEGIN:STANDARD
TZOFFSETFROM:+0300
TZOFFSETTO:+0200
TZNAME:EET
DTSTART:20271031T010000
END:STANDARD
END:VTIMEZONE
BEGIN:VEVENT
DTSTART;TZID=Europe/Helsinki:20260415T093000
DTEND;TZID=Europe/Helsinki:20260415T160000
DTSTAMP:20260421T172405
CREATED:20260401T110721Z
LAST-MODIFIED:20260401T110721Z
UID:10003239-1776245400-1776268800@kotiseutuliitto.fi
SUMMARY:Tekniikan alan museopäivä
DESCRIPTION:Tämän vuoden tulevaisuusteemainen Tekniikan alan museopäivä on suunnattu kaikille\, joita museoiden tulevaisuus kiinnostaa. Oletpa siis tekniikan alan museosta\, muilta museosektoreilta\, tutkija\, harrastaja\, museoiden ystävä – päivä on sinua varten! Museopäivän ohjelmaan voi osallistua etänä lounaaseen asti. \nTilaisuus on maksuton. Ilmoittaudu lähiosallistujaksi 7.4. mennessä\, etäosallistujaksi voit ilmoittautua vielä 13.4. \nIlmoittautuminen ja ohjelma: www.tekniikanmuseo.fi/tapahtuma/tekniikan-alan-museopaiva/
URL:https://kotiseutuliitto.fi/tapahtuma/tekniikan-alan-museopaiva/
ATTACH;FMTTYPE=image/jpeg:https://kotiseutuliitto.fi/wp-content/uploads/2026/03/Langattomasti-1920x1080-2.jpg
END:VEVENT
END:VCALENDAR