BEGIN:VCALENDAR
VERSION:2.0
PRODID:-//Suomen Kotiseutuliitto - ECPv6.15.20//NONSGML v1.0//EN
CALSCALE:GREGORIAN
METHOD:PUBLISH
X-WR-CALNAME:Suomen Kotiseutuliitto
X-ORIGINAL-URL:https://kotiseutuliitto.fi
X-WR-CALDESC:Tapahtumat Suomen Kotiseutuliitto
REFRESH-INTERVAL;VALUE=DURATION:PT1H
X-Robots-Tag:noindex
X-PUBLISHED-TTL:PT1H
BEGIN:VTIMEZONE
TZID:Europe/Helsinki
BEGIN:DAYLIGHT
TZOFFSETFROM:+0200
TZOFFSETTO:+0300
TZNAME:EEST
DTSTART:20250330T010000
END:DAYLIGHT
BEGIN:STANDARD
TZOFFSETFROM:+0300
TZOFFSETTO:+0200
TZNAME:EET
DTSTART:20251026T010000
END:STANDARD
BEGIN:DAYLIGHT
TZOFFSETFROM:+0200
TZOFFSETTO:+0300
TZNAME:EEST
DTSTART:20260329T010000
END:DAYLIGHT
BEGIN:STANDARD
TZOFFSETFROM:+0300
TZOFFSETTO:+0200
TZNAME:EET
DTSTART:20261025T010000
END:STANDARD
BEGIN:DAYLIGHT
TZOFFSETFROM:+0200
TZOFFSETTO:+0300
TZNAME:EEST
DTSTART:20270328T010000
END:DAYLIGHT
BEGIN:STANDARD
TZOFFSETFROM:+0300
TZOFFSETTO:+0200
TZNAME:EET
DTSTART:20271031T010000
END:STANDARD
END:VTIMEZONE
BEGIN:VEVENT
DTSTART;TZID=Europe/Helsinki:20260307T150000
DTEND;TZID=Europe/Helsinki:20260307T180000
DTSTAMP:20260421T171326
CREATED:20260216T121118Z
LAST-MODIFIED:20260216T125024Z
UID:10003215-1772895600-1772906400@kotiseutuliitto.fi
SUMMARY:Työn ja tarinoiden Iisvesi -kirjan julkistamistilaisuus
DESCRIPTION:Iisveden kylä Suonenjoen pitäjässä levittäytyy Iisveden rannalle luonnonkauniiseen maisemaan. Vuonna 1910 VR:n rautatiehakemisto kuvasi Iisvettä kuuden kilometrin pituisen haararadan päätepisteenä\, josta höyrylaivat kuljettivat kesäisin matkustajia ja tavaraa Pielaveden\, Keiteleen\, Karttulan\, Vesannon ja Rautalammin pitäjiin. Tästä Savon radasta erkautuneen haararadan syrjäisestä päätepisteestä kasvoi 1900-luvun kuluessa merkittävä sahateollisuuspaikkakunta ja vilkas sisävesisatama. Iisvesi näyttäytyy 1900-luvun alun kuvauksissa ristiriitaisena paikkana: asunto-olot olivat heikot ja vuokrat korkeat\, mutta puuteollisuus toi työtä ja elämää. Kylässä oli sähkövalo\, useita kauppoja\, kansakoulu ja oma poliisi. Sahat ja rullatehdas rytmittivät arkea\, jota kuitenkin hankaloitti se\, että lähin lääkäri\, apteekki ja kirkko löytyivät vasta Suonenjoelta. \nSuonenjoki-Seuran kustantama Työn ja tarinoiden Iisvesi -kirja kertoo sahayhdyskunnan kasvun vuosikymmenistä – ajasta\, joka oli ainutkertainen verrattuna sekä sitä edeltäneeseen että seuranneeseen aikaan. Kirja pohjautuu suurelta osin iisveteläisten muistitietoon sanoitettuna tarinoiksi ajasta\, jolloin laivat olivat rautaa ja leipä saatiin puusta. Kertomukset vievät lukijan ”pielavetisten Amerikkaan”\, paikkaan\, jossa työ oli raskasta\, arki karua ja yhteisö tiivis. Kirjasta piirtyy kuva Iisvedestä\, joka oli yhtä aikaa mahdoton työmaa\, mutta ennen kaikkea kotiseutu\, jota rakastettiin. \nSuonenjoki-Seura ja Iisvesi-seura järjestävät yhdessä Työn ja tarinoiden Iisvesi -kirjan julkistamistilaisuuden lauantaina 7.3. klo 15.00 Iisveden Kirin talolla. Ohjelmassa kirjan esittelyn lisäksi harmonikkamusiikkia ja kahvitarjoilu.
URL:https://kotiseutuliitto.fi/tapahtuma/tyon-ja-tarinoiden-iisvesi-kirjan-julkistamistilaisuus/
ATTACH;FMTTYPE=image/jpeg:https://kotiseutuliitto.fi/wp-content/uploads/2026/02/Tyon-ja-tarinoiden-Iisvesi-1080-x-1080-13.2.jpg
END:VEVENT
BEGIN:VEVENT
DTSTART;TZID=Europe/Helsinki:20260312T180000
DTEND;TZID=Europe/Helsinki:20260312T193000
DTSTAMP:20260421T171326
CREATED:20260306T151900Z
LAST-MODIFIED:20260306T155756Z
UID:10003222-1773338400-1773343800@kotiseutuliitto.fi
SUMMARY:Keskustelu:  Rakennettu perintö\, rakennettava tulevaisuus – kulttuuri ja elinvoimainen Jyväskylä
DESCRIPTION:Arkkitehti Yrjö Blomstedtin syntymäpäiväviikolla Kulttuuritalo Villa Ranassa\, Jyväskylässä järjestettävä paneelikeskustelu pureutuu kaupungin kulttuuriseen elinvoimaan\, rakentamisen suuntaan ja kulttuuriperinnön merkitykseen osana elävää kaupunkia. \nKeskustelussa nostetaan esiin: \n-Kulttuurin elävöittävä vaikutus kaupungin vetovoimaan ja identiteettiin\n-Rakennetun ympäristön rooli elinvoimassa – mitä säilytetään\, mitä rakennetaan ja kenelle?\n-Euroopan kulttuuriperintötunnuksen ja mahdollisen UNESCO-nimityksen vaikutukset Jyväskylän tulevaisuuteen \nVoiko kulttuuriperintö olla kehityksen moottori? Onko Jyväskylän tarina rohkea ja tulevaisuuteen katsova\, vai varovainen ja kuihtuva? \nKeskustelemassa ovat Yläkaupungin Yrjö -arvonimen edellisinä vuosina saaneet Arja Kautto (mm. Lastenmusiikkiorkesteri Loiskiksen pitkäaikainen tuottaja)\, kaupunginvaltuutettu\, kulttuuriaktiivi Eila Tiainen\, Jyväskylän yliopiston avoimen tiedon keskuksen kulttuuri- ja luonnonperintöpalveluiden päällikkö\, emerita Pirjo Vuorinen sekä rakennusalan ammattilainen\, prosenttikulttuuriperiaatteen isä Erkki Jaala.
URL:https://kotiseutuliitto.fi/tapahtuma/keskustelu-rakennettu-perinto-rakennettava-tulevaisuus-kulttuuri-ja-elinvoimainen-jyvaskyla/
ATTACH;FMTTYPE=image/png:https://kotiseutuliitto.fi/wp-content/uploads/2026/03/facebook-kansikuva-2026.png
END:VEVENT
BEGIN:VEVENT
DTSTART;TZID=Europe/Helsinki:20260317T150000
DTEND;TZID=Europe/Helsinki:20260317T160000
DTSTAMP:20260421T171326
CREATED:20260210T075129Z
LAST-MODIFIED:20260210T082543Z
UID:10003210-1773759600-1773763200@kotiseutuliitto.fi
SUMMARY:Kulttuuriympäristöpäivien kahvipaussi: Tapahtumaideat ja -viestintä\, Vaalimisen arvoiset 2026
DESCRIPTION:Tervetuloa Euroopan kulttuuriympäristöpäivien Teams-kahvipaussille. Järjestämme leppoisia\, matalan kynnyksen kahvipausseja 3-4 kertaa vuodessa. \nMaaliskuu 2026 kahvipaussin teemana on tapahtumaideat ja vinkit tapahtumaviestintään. \nMietitkö millaisen tapahtuman järjestäisit Vaalimisen arvoiset\, Heritage at Risk 2026 teemavuoteen? Kaipaat vinkkejä tapahtumasta viestimiseen? Haluaisitko tietoa Kulttuuriympäristöpäivien maksuttomista materiaaleista? Jos vastasit johonkin kysymykseen kyllä\, tämä kahvipaussi sopii sinulle. Jos olet tapahtumajärjestämisen konkari\, voit mieluusti tulla kahvipaussille kertomaan omasta tapahtumaideastasi sekä viestinnän hyvistä käytännöistä. \nYmpäristöministeriön Hanna Hämäläisen ja Suomen Kotiseutuliiton Anna-Maija Halmeen vinkkiosuus kestää puolisen tuntia\, jonka jälkeen on aikaa kysymyksille ja keskustelulle klo 16 saakka. \nIlmoittaudu mukaan: \n\nhttps://www.lyyti.in/Tapahtumaideat_viestinta_2026\n\nLisätietoja kahvipausseista ja toiveet kahvipaussin aiheeksi: hanna.p.hamalainen(at)gov.fi.
URL:https://kotiseutuliitto.fi/tapahtuma/kulttuuriymparistopaivien-kahvipaussi-tapahtumaideat-ja-viestinta-vaalimisen-arvoiset-2026/
ATTACH;FMTTYPE=image/png:https://kotiseutuliitto.fi/wp-content/uploads/2025/10/EHD2026_VaalimisenArvoiset_1920x1080px.png
END:VEVENT
BEGIN:VEVENT
DTSTART;TZID=Europe/Helsinki:20260319T180000
DTEND;TZID=Europe/Helsinki:20260319T200000
DTSTAMP:20260421T171326
CREATED:20260306T160033Z
LAST-MODIFIED:20260306T161055Z
UID:10003223-1773943200-1773950400@kotiseutuliitto.fi
SUMMARY:RAVIT-iltakoulut: Katse korjausrakentamiseen – Miten vanhasta saa uutta parempaa?
DESCRIPTION:Iltakoulujen tavoitteena on lisätä ymmärrystä ja osaamista korjausrakentamisesta ja samalla nostaa tietoisuutta paikallisen rakennusperinnön arvosta. Tärkeä tavoite on myös luoda pohjaa yhdessä tekemiselle ja oppimiselle. Moni korjausrakentaja jää yksin korjaushuolineen. \nRAVIT-hankkeen tilaisuudet ovat avoimia kaikille kiinnostuneille. Tervetuloa mukaan! \nIllan ohjelma:\n– Rakennusrestaurointialan opetuksen kuulumisia\, opettaja Susanna Siro\, rakennusrestaurointi SASKY-Ikata\n– Ikaalisten rakennusperinnön tutkimus ja selvitykset tutuiksi\, pj. Sari Tirkkonen\, Ikaalisten Wanhan Kauppalan Kulttuuriklubi ry\n– Ikaalisten rakennusperinnön arvo. arkkitehti Matti Huusari\, Oma Tupa ry \nKahvio palvelee ennen tilaisuuksia klo 17.30 alkaen\, varaathan mukaan pientä rahaa (ei korttimaksua). \nIkaalisten Säästöpankkisäätiö on tukenut RAVIT-hanketta. Kiitämme arvokkaasta tuesta.
URL:https://kotiseutuliitto.fi/tapahtuma/ravit-iltakoulut-katse-korjausrakentamiseen-miten-vanhasta-saa-uutta-parempaa/
ATTACH;FMTTYPE=image/png:https://kotiseutuliitto.fi/wp-content/uploads/2026/03/11095.png
END:VEVENT
BEGIN:VEVENT
DTSTART;TZID=Europe/Helsinki:20260328T090000
DTEND;TZID=Europe/Helsinki:20260328T160000
DTSTAMP:20260421T171326
CREATED:20260123T121433Z
LAST-MODIFIED:20260123T123744Z
UID:10003191-1774688400-1774713600@kotiseutuliitto.fi
SUMMARY:Euran esihistoriaseminaari
DESCRIPTION:Ajankohtaista arkeologiassa Eurassa ja lähialueilla. Seminaarin ohjelma nähtävissä oheisella verkkosivulla. \nSeminaarin jälkeen on mahdollisuus tutustua Esihistorian opastuskeskus Nauravan lohikäärmeen näyttelyihin. Samalla voi tehdä ostoksia opastuskeskuksen myymälässä. \nSeminaarin hintaan sisältyy keittolounas ja kahvit sekä pääsyn Nauravan lohikäärmeen näyttelyihin. Lipunmyynti on auki torstaihin 19.3.2026 asti.
URL:https://kotiseutuliitto.fi/tapahtuma/euran-esihistoriaseminaari/
ATTACH;FMTTYPE=image/jpeg:https://kotiseutuliitto.fi/wp-content/uploads/2026/01/Teemun-kuva-06_pien-scaled.jpg
END:VEVENT
END:VCALENDAR