BEGIN:VCALENDAR
VERSION:2.0
PRODID:-//Suomen Kotiseutuliitto - ECPv6.15.20//NONSGML v1.0//EN
CALSCALE:GREGORIAN
METHOD:PUBLISH
X-ORIGINAL-URL:https://kotiseutuliitto.fi
X-WR-CALDESC:Tapahtumat Suomen Kotiseutuliitto
REFRESH-INTERVAL;VALUE=DURATION:PT1H
X-Robots-Tag:noindex
X-PUBLISHED-TTL:PT1H
BEGIN:VTIMEZONE
TZID:Europe/Helsinki
BEGIN:DAYLIGHT
TZOFFSETFROM:+0200
TZOFFSETTO:+0300
TZNAME:EEST
DTSTART:20240331T010000
END:DAYLIGHT
BEGIN:STANDARD
TZOFFSETFROM:+0300
TZOFFSETTO:+0200
TZNAME:EET
DTSTART:20241027T010000
END:STANDARD
BEGIN:DAYLIGHT
TZOFFSETFROM:+0200
TZOFFSETTO:+0300
TZNAME:EEST
DTSTART:20250330T010000
END:DAYLIGHT
BEGIN:STANDARD
TZOFFSETFROM:+0300
TZOFFSETTO:+0200
TZNAME:EET
DTSTART:20251026T010000
END:STANDARD
BEGIN:DAYLIGHT
TZOFFSETFROM:+0200
TZOFFSETTO:+0300
TZNAME:EEST
DTSTART:20260329T010000
END:DAYLIGHT
BEGIN:STANDARD
TZOFFSETFROM:+0300
TZOFFSETTO:+0200
TZNAME:EET
DTSTART:20261025T010000
END:STANDARD
END:VTIMEZONE
BEGIN:VEVENT
DTSTART;TZID=Europe/Helsinki:20250524T130000
DTEND;TZID=Europe/Helsinki:20250524T143000
DTSTAMP:20260422T223652
CREATED:20250428T080852Z
LAST-MODIFIED:20250428T081100Z
UID:10002902-1748091600-1748097000@kotiseutuliitto.fi
SUMMARY:Sissipäällikkö Salomon Enbergin toimia isovihan aikana
DESCRIPTION:”Kapteeni Salomon Enbergin 72 miehen sissipartio 7.4.1714 Pyyrinlahdella oli asettunut taistelemaan 500 venäläistä vastaan. Haudat ja musketin kuulia sekä hopearahoja jäi taistelutantereelle. Ison Vihan aikaa.” \nHelena Ojanen kertoo Enbergin sissiajan toiminnasta. Hän lähtee liikkeelle silloin Saarijärveen kuuluneen Liimattalan Kurikkaharjulta ja kuvaa ympäri Suomea\, Vienan Karjalaa ja Norjaakin kolunneen sissipäällikön toimia eri paikoissa ja lopussa palaa vielä Kurikkaharjulle taistelun muistomerkille.
URL:https://kotiseutuliitto.fi/tapahtuma/sissipaallikko-salomon-enbergin-toimia-isovihan-aikana/
ATTACH;FMTTYPE=image/jpeg:https://kotiseutuliitto.fi/wp-content/uploads/2025/04/SissipaallikkoEsit24052025HOKulttYmpF2.jpg
END:VEVENT
BEGIN:VEVENT
DTSTART;TZID=Europe/Helsinki:20250524T130000
DTEND;TZID=Europe/Helsinki:20250524T160000
DTSTAMP:20260422T223652
CREATED:20250407T100644Z
LAST-MODIFIED:20250407T100644Z
UID:10002888-1748091600-1748102400@kotiseutuliitto.fi
SUMMARY:Meri-Rastilan kyläjuhla
DESCRIPTION:Kyläjuhlassa monipuolista ohjelmaa koko perheelle! \nTule kuulemaan ja keskustelemaan alueen palveluista\, harrastusmahdollisuuksista\, asukasvaikuttamisesta tai vain nauttimaan mukavasta päivästä ja torilta löytyvistä herkuista! \nTorille on varattuna tilaa asiakaskirpputorille. Maksutta ja ennakkoon ilmoittautumatta kuka tahansa voi tulla myymään omia tavaroitaan. \nTapahtuma on kaikille avoin\, maksuton ja päihteetön. \nPaikat: Meri-Rastilan tori\, Kulttuuritila Merirasti\, Ankkuripaikka ja nuorisotalo Merirasti \nOHJELMA TARKENTUU HUHTIKUUN AIKANA \nJärjestäjä: Meri-Rastila verkosto
URL:https://kotiseutuliitto.fi/tapahtuma/meri-rastilan-kylajuhla/
ATTACH;FMTTYPE=image/jpeg:https://kotiseutuliitto.fi/wp-content/uploads/2025/04/Meri-Rastila.jpg
END:VEVENT
END:VCALENDAR