BEGIN:VCALENDAR
VERSION:2.0
PRODID:-//Suomen Kotiseutuliitto - ECPv6.15.20//NONSGML v1.0//EN
CALSCALE:GREGORIAN
METHOD:PUBLISH
X-ORIGINAL-URL:https://kotiseutuliitto.fi
X-WR-CALDESC:Tapahtumat Suomen Kotiseutuliitto
REFRESH-INTERVAL;VALUE=DURATION:PT1H
X-Robots-Tag:noindex
X-PUBLISHED-TTL:PT1H
BEGIN:VTIMEZONE
TZID:Europe/Helsinki
BEGIN:DAYLIGHT
TZOFFSETFROM:+0200
TZOFFSETTO:+0300
TZNAME:EEST
DTSTART:20240331T010000
END:DAYLIGHT
BEGIN:STANDARD
TZOFFSETFROM:+0300
TZOFFSETTO:+0200
TZNAME:EET
DTSTART:20241027T010000
END:STANDARD
BEGIN:DAYLIGHT
TZOFFSETFROM:+0200
TZOFFSETTO:+0300
TZNAME:EEST
DTSTART:20250330T010000
END:DAYLIGHT
BEGIN:STANDARD
TZOFFSETFROM:+0300
TZOFFSETTO:+0200
TZNAME:EET
DTSTART:20251026T010000
END:STANDARD
BEGIN:DAYLIGHT
TZOFFSETFROM:+0200
TZOFFSETTO:+0300
TZNAME:EEST
DTSTART:20260329T010000
END:DAYLIGHT
BEGIN:STANDARD
TZOFFSETFROM:+0300
TZOFFSETTO:+0200
TZNAME:EET
DTSTART:20261025T010000
END:STANDARD
END:VTIMEZONE
BEGIN:VEVENT
DTSTART;VALUE=DATE:20250618
DTEND;VALUE=DATE:20250918
DTSTAMP:20260422T082845
CREATED:20250214T110751Z
LAST-MODIFIED:20250214T110751Z
UID:10002861-1750204800-1758153599@kotiseutuliitto.fi
SUMMARY:Kaupunkilaisten kesäparatiisit - huvilaelämää Kainuussa
DESCRIPTION:Kainuun Museon kesänäyttelyssä tutustutaan upeaan huvila-arkkitehtuuriin. Lisäksi näyttely kuvaa viime vuosisadan alun huvilaelämää päivänpaisteisilla kallioilla ja sinisillä selillä.
URL:https://kotiseutuliitto.fi/tapahtuma/kaupunkilaisten-kesaparatiisit-huvilaelamaa-kainuussa/
ATTACH;FMTTYPE=image/jpeg:https://kotiseutuliitto.fi/wp-content/uploads/2025/02/Look-1-scaled.jpg
END:VEVENT
BEGIN:VEVENT
DTSTART;TZID=Europe/Helsinki:20250906T100000
DTEND;TZID=Europe/Helsinki:20250906T210000
DTSTAMP:20260422T082845
CREATED:20250311T082335Z
LAST-MODIFIED:20250311T082335Z
UID:10002874-1757152800-1757192400@kotiseutuliitto.fi
SUMMARY:Saunapäivä - avoimet lauteet
DESCRIPTION:Saunan ystävien juhlapäivä la 6.9.! \nTule mukaan Uuteenkaupunkiin ja lähikuntiin viettämään Avoimet lauteet -saunapäivää ja kokemaan saunan taika yhdessä muiden löylyn ystävien kanssa – tehdään tästä ikimuistoinen saunapäivä! Tapahtumassa pääsee sekä saunomaan että tutustumaan erilaisiin saunoihin\, jotka eivät ole tapahtuma-aikana lämpimänä.
URL:https://kotiseutuliitto.fi/tapahtuma/saunapaiva-avoimet-lauteet/
ATTACH;FMTTYPE=image/jpeg:https://kotiseutuliitto.fi/wp-content/uploads/2025/03/Nikula-43-scaled.jpg
END:VEVENT
BEGIN:VEVENT
DTSTART;VALUE=DATE:20250912
DTEND;VALUE=DATE:20250914
DTSTAMP:20260422T082845
CREATED:20250401T092456Z
LAST-MODIFIED:20250401T092456Z
UID:10002883-1757635200-1757807999@kotiseutuliitto.fi
SUMMARY:Varkaus-päivät 2025
DESCRIPTION:Ihan omanlainen kaupunkitapahtuma tarjoaa tekemistä ja kokemista moneen makuun. Luvassa on esimerkiksi musiikkia\, opastuksia\, seminaari\, näyttelyitä\, avoimia ovia\, kaupunginosatapahtumia ja valotaidetta. Ohjelma rakentuu paikallisten toimijoiden voimin ja se julkaistaan elokuun alkupuolella. \nTapahtuma on osa Euroopan kulttuuriympäristöpäiviä\, teemana on Rakennettu perintömme.
URL:https://kotiseutuliitto.fi/tapahtuma/varkaus-paivat-2025/
ATTACH;FMTTYPE=image/jpeg:https://kotiseutuliitto.fi/wp-content/uploads/2025/04/1.jpg
END:VEVENT
END:VCALENDAR