BEGIN:VCALENDAR
VERSION:2.0
PRODID:-//Suomen Kotiseutuliitto - ECPv6.15.20//NONSGML v1.0//EN
CALSCALE:GREGORIAN
METHOD:PUBLISH
X-ORIGINAL-URL:https://kotiseutuliitto.fi
X-WR-CALDESC:Tapahtumat Suomen Kotiseutuliitto
REFRESH-INTERVAL;VALUE=DURATION:PT1H
X-Robots-Tag:noindex
X-PUBLISHED-TTL:PT1H
BEGIN:VTIMEZONE
TZID:Europe/Helsinki
BEGIN:DAYLIGHT
TZOFFSETFROM:+0200
TZOFFSETTO:+0300
TZNAME:EEST
DTSTART:20240331T010000
END:DAYLIGHT
BEGIN:STANDARD
TZOFFSETFROM:+0300
TZOFFSETTO:+0200
TZNAME:EET
DTSTART:20241027T010000
END:STANDARD
BEGIN:DAYLIGHT
TZOFFSETFROM:+0200
TZOFFSETTO:+0300
TZNAME:EEST
DTSTART:20250330T010000
END:DAYLIGHT
BEGIN:STANDARD
TZOFFSETFROM:+0300
TZOFFSETTO:+0200
TZNAME:EET
DTSTART:20251026T010000
END:STANDARD
BEGIN:DAYLIGHT
TZOFFSETFROM:+0200
TZOFFSETTO:+0300
TZNAME:EEST
DTSTART:20260329T010000
END:DAYLIGHT
BEGIN:STANDARD
TZOFFSETFROM:+0300
TZOFFSETTO:+0200
TZNAME:EET
DTSTART:20261025T010000
END:STANDARD
END:VTIMEZONE
BEGIN:VEVENT
DTSTART;VALUE=DATE:20250618
DTEND;VALUE=DATE:20250918
DTSTAMP:20260422T134459
CREATED:20250214T110751Z
LAST-MODIFIED:20250214T110751Z
UID:10002861-1750204800-1758153599@kotiseutuliitto.fi
SUMMARY:Kaupunkilaisten kesäparatiisit - huvilaelämää Kainuussa
DESCRIPTION:Kainuun Museon kesänäyttelyssä tutustutaan upeaan huvila-arkkitehtuuriin. Lisäksi näyttely kuvaa viime vuosisadan alun huvilaelämää päivänpaisteisilla kallioilla ja sinisillä selillä.
URL:https://kotiseutuliitto.fi/tapahtuma/kaupunkilaisten-kesaparatiisit-huvilaelamaa-kainuussa/
ATTACH;FMTTYPE=image/jpeg:https://kotiseutuliitto.fi/wp-content/uploads/2025/02/Look-1-scaled.jpg
END:VEVENT
BEGIN:VEVENT
DTSTART;TZID=Europe/Helsinki:20250810T110000
DTEND;TZID=Europe/Helsinki:20250810T160000
DTSTAMP:20260422T134459
CREATED:20250312T133435Z
LAST-MODIFIED:20250312T133435Z
UID:10002875-1754823600-1754841600@kotiseutuliitto.fi
SUMMARY:Päivä museotiellä - XXIX
DESCRIPTION:Päivä museotiellä on seudullinen tapahtuma\, jossa museoidun Niskapietiläntien varrella useassa kohteessa on tarjolla mm. historiaa\, käsitöitä\, näyttelyitä\, maatalojen tuotteita\, luonnontuotteita ja monipuolista syötävää. \nLähde matkaan koko perheen voimin pyöräillen tai autoillen ja tutustu seudun upeaan tarjontaan! \nHistoriallinen museotie on osa entistä Savonlinna-Viipuri –maantietä ja se kulkee Imatran\, Ruokolahden ja Rautjärven alueella. Nykyinen 19\,5 kilometriä pitkä tie kulkee Imatran Vuoksenniskalta Niskapietilän kylän kautta Rautjärven Miettilään ja noudattaa tällä välillä linjaukseltaan vanhaa tietä. Ennen kaikkea paikallistienä toimineen maantielinjan historia ulottuu ainakin 1600-luvulle. Tie sijaitsee raja-alueella\, joka on kuulunut milloin Ruotsille\, milloin Venäjälle\, ja tiellä on ollut sotilaallista merkitystä. \nTapahtumaa järjestää Museotiepäivän työryhmä yhteistyössä Rautjärven\, Ruokolahden ja Imatran kuntien kanssa.
URL:https://kotiseutuliitto.fi/tapahtuma/paiva-museotiella-xxix/
ATTACH;FMTTYPE=image/jpeg:https://kotiseutuliitto.fi/wp-content/uploads/2025/03/Komendantti-pieni-vaaka.jpg
END:VEVENT
BEGIN:VEVENT
DTSTART;TZID=Europe/Helsinki:20250816T130000
DTEND;TZID=Europe/Helsinki:20250817T170000
DTSTAMP:20260422T134459
CREATED:20250317T123042Z
LAST-MODIFIED:20250317T123042Z
UID:10002876-1755349200-1755450000@kotiseutuliitto.fi
SUMMARY:Näyttely: Vårt byggnadsarv - Rakennettu perintömme
DESCRIPTION:I muséet visas vackra orginalritningar av gamla Kaskö-gårdar. Dessutom ges information om byggnadsvård och regler som gäller i Kaskö som i sin helhet är skyddat. Samma veckoslut ordnar Kaskö stad Trähus- renoveringsmässa i anslutning till stadens 240-årsjubileum. \nMuseossa on näyttely\, jossa esitellään vanhojen kaskislaisten talojen kauniita\, alkuperäisiä piirustuksia. Samana viikonloppuna Kaskisten kaupunki järjestää Puutalo- ja korjausrakentamisen messut liittyen kaupungin 240-vuotisjuhlaan.
URL:https://kotiseutuliitto.fi/tapahtuma/nayttely-vart-byggnadsarv-rakennettu-perintomme/
ATTACH;FMTTYPE=image/jpeg:https://kotiseutuliitto.fi/wp-content/uploads/2022/12/JPG_Euroopan_kulttuuriymparistopaivat_RGB.jpg
END:VEVENT
BEGIN:VEVENT
DTSTART;TZID=Europe/Helsinki:20250830T100000
DTEND;TZID=Europe/Helsinki:20250830T170000
DTSTAMP:20260422T134459
CREATED:20250424T112809Z
LAST-MODIFIED:20250425T110314Z
UID:10002896-1756548000-1756573200@kotiseutuliitto.fi
SUMMARY:Loviisan Wanhat Talot - Lovisa Historiska Hus 2025
DESCRIPTION:Loviisan Wanhat Talot on tapahtuma\, jossa pääsee vierailemaan yli satavuotiaissa persoonallisissa ja rakkaudella vaalituissa loviisalaisissa taloissa. Tapahtumaan osallistuvat talot ovat pääasiassa loviisalaisten koteja\, joissa asutaan vuoden ympäri. \nLoviisan Wanhat Talot avaavat ovensa aina elokuun viimeisenä viikonloppuna\, seuraavan kerran 30-31.8.2025.
URL:https://kotiseutuliitto.fi/tapahtuma/loviisan-wanhat-talot-lovisa-historiska-hus-2025/2025-08-30/
ATTACH;FMTTYPE=image/jpeg:https://kotiseutuliitto.fi/wp-content/uploads/2025/04/kansikuva.jpg
END:VEVENT
BEGIN:VEVENT
DTSTART;TZID=Europe/Helsinki:20250831T100000
DTEND;TZID=Europe/Helsinki:20250831T170000
DTSTAMP:20260422T134459
CREATED:20250424T112809Z
LAST-MODIFIED:20250425T110314Z
UID:10002897-1756634400-1756659600@kotiseutuliitto.fi
SUMMARY:Loviisan Wanhat Talot - Lovisa Historiska Hus 2025
DESCRIPTION:Loviisan Wanhat Talot on tapahtuma\, jossa pääsee vierailemaan yli satavuotiaissa persoonallisissa ja rakkaudella vaalituissa loviisalaisissa taloissa. Tapahtumaan osallistuvat talot ovat pääasiassa loviisalaisten koteja\, joissa asutaan vuoden ympäri. \nLoviisan Wanhat Talot avaavat ovensa aina elokuun viimeisenä viikonloppuna\, seuraavan kerran 30-31.8.2025.
URL:https://kotiseutuliitto.fi/tapahtuma/loviisan-wanhat-talot-lovisa-historiska-hus-2025/2025-08-31/
ATTACH;FMTTYPE=image/jpeg:https://kotiseutuliitto.fi/wp-content/uploads/2025/04/kansikuva.jpg
END:VEVENT
BEGIN:VEVENT
DTSTART;TZID=Europe/Helsinki:20250831T130000
DTEND;TZID=Europe/Helsinki:20250831T150000
DTSTAMP:20260422T134459
CREATED:20250224T093411Z
LAST-MODIFIED:20250224T093411Z
UID:10002864-1756645200-1756652400@kotiseutuliitto.fi
SUMMARY:Kylämaiseman historia - retki Elfvikin alueen menneisyyteen
DESCRIPTION:Kylämaiseman historia on retki Elfvikin alueen vaiherikkaaseen historiaan. Kierros alkaa 1300-luvulta ja päättyy meidän päiväämme. Polulla tarkastellaan maisemaa historiansa visuaalisena ilmentäjänä: mitkä asiat ovat säilyneet ja mitkä ovat jo kadonneet näkyvistä. Polkuun liittyy vihkonen\, johon voi tutustua espoo.fi/villaelfvik -sivulla. \nRetkelle lähdetään Villa Elfvikin pihasta. Tervetuloa mukaan!
URL:https://kotiseutuliitto.fi/tapahtuma/kylamaiseman-historia-retki-elfvikin-alueen-menneisyyteen/
ATTACH;FMTTYPE=image/jpeg:https://kotiseutuliitto.fi/wp-content/uploads/2025/02/Huvimaja-heinakuussa-scaled.jpg
END:VEVENT
END:VCALENDAR