BEGIN:VCALENDAR
VERSION:2.0
PRODID:-//Suomen Kotiseutuliitto - ECPv6.15.20//NONSGML v1.0//EN
CALSCALE:GREGORIAN
METHOD:PUBLISH
X-WR-CALNAME:Suomen Kotiseutuliitto
X-ORIGINAL-URL:https://kotiseutuliitto.fi
X-WR-CALDESC:Tapahtumat Suomen Kotiseutuliitto
REFRESH-INTERVAL;VALUE=DURATION:PT1H
X-Robots-Tag:noindex
X-PUBLISHED-TTL:PT1H
BEGIN:VTIMEZONE
TZID:Europe/Helsinki
BEGIN:DAYLIGHT
TZOFFSETFROM:+0200
TZOFFSETTO:+0300
TZNAME:EEST
DTSTART:20240331T010000
END:DAYLIGHT
BEGIN:STANDARD
TZOFFSETFROM:+0300
TZOFFSETTO:+0200
TZNAME:EET
DTSTART:20241027T010000
END:STANDARD
BEGIN:DAYLIGHT
TZOFFSETFROM:+0200
TZOFFSETTO:+0300
TZNAME:EEST
DTSTART:20250330T010000
END:DAYLIGHT
BEGIN:STANDARD
TZOFFSETFROM:+0300
TZOFFSETTO:+0200
TZNAME:EET
DTSTART:20251026T010000
END:STANDARD
BEGIN:DAYLIGHT
TZOFFSETFROM:+0200
TZOFFSETTO:+0300
TZNAME:EEST
DTSTART:20260329T010000
END:DAYLIGHT
BEGIN:STANDARD
TZOFFSETFROM:+0300
TZOFFSETTO:+0200
TZNAME:EET
DTSTART:20261025T010000
END:STANDARD
END:VTIMEZONE
BEGIN:VEVENT
DTSTART;VALUE=DATE:20250618
DTEND;VALUE=DATE:20250918
DTSTAMP:20260422T134146
CREATED:20250214T110751Z
LAST-MODIFIED:20250214T110751Z
UID:10002861-1750204800-1758153599@kotiseutuliitto.fi
SUMMARY:Kaupunkilaisten kesäparatiisit - huvilaelämää Kainuussa
DESCRIPTION:Kainuun Museon kesänäyttelyssä tutustutaan upeaan huvila-arkkitehtuuriin. Lisäksi näyttely kuvaa viime vuosisadan alun huvilaelämää päivänpaisteisilla kallioilla ja sinisillä selillä.
URL:https://kotiseutuliitto.fi/tapahtuma/kaupunkilaisten-kesaparatiisit-huvilaelamaa-kainuussa/
ATTACH;FMTTYPE=image/jpeg:https://kotiseutuliitto.fi/wp-content/uploads/2025/02/Look-1-scaled.jpg
END:VEVENT
BEGIN:VEVENT
DTSTART;TZID=Europe/Helsinki:20250704T100000
DTEND;TZID=Europe/Helsinki:20250706T170000
DTSTAMP:20260422T134146
CREATED:20250210T062725Z
LAST-MODIFIED:20250210T062725Z
UID:10002848-1751623200-1751821200@kotiseutuliitto.fi
SUMMARY:32. Wanhan Woiman päivät
DESCRIPTION:Monipuolinen aineellisen kulttuuriperinnön tapahtuma: höyry- ja voimakoneita\, autoja\, traktoreita\, mopoja\, ajoneuvoparaateja\, musiikkia\, käden taitojen työnäytöksiä\, separointia\, lankojen värjäystä\, seppien paja\, päreiden tekoa\, kenttäsaha\, erilaisia näyttelyitä\, 150 myyjän rompetori ym. ym. \nTervetuloa mukaan!
URL:https://kotiseutuliitto.fi/tapahtuma/32-wanhan-woiman-paivat/
ATTACH;FMTTYPE=image/jpeg:https://kotiseutuliitto.fi/wp-content/uploads/2025/02/Autokentta.jpg
END:VEVENT
BEGIN:VEVENT
DTSTART;TZID=Europe/Helsinki:20250705T180000
DTEND;TZID=Europe/Helsinki:20250705T230000
DTSTAMP:20260422T134146
CREATED:20250428T081428Z
LAST-MODIFIED:20250428T081641Z
UID:10002903-1751738400-1751756400@kotiseutuliitto.fi
SUMMARY:Hiidenkirnu-karaoke
DESCRIPTION:Humalamäen talon pihassa on erikoinen kallion sisäinen kaivo\, joka paljastui hiidenkirnuksi vuonna 2018. Helena Ojanen valottaa hiidenkirnun tarinaa. Illemmalla riihessä raikaa karaoke! Vapaa pääsy.
URL:https://kotiseutuliitto.fi/tapahtuma/hiidenkirnu-karaoke/
ATTACH;FMTTYPE=image/jpeg:https://kotiseutuliitto.fi/wp-content/uploads/2025/04/HiidenkirnuKaraoke05072025HOKulttYmpF.jpg
END:VEVENT
BEGIN:VEVENT
DTSTART;TZID=Europe/Helsinki:20250706T110000
DTEND;TZID=Europe/Helsinki:20250706T150000
DTSTAMP:20260422T134146
CREATED:20250326T062735Z
LAST-MODIFIED:20250326T062735Z
UID:10002880-1751799600-1751814000@kotiseutuliitto.fi
SUMMARY:Sulkavan perinnepäivä
DESCRIPTION:Sulkavan perinnepäivässä kotiseutumuseolla tuodaan esiin laaja kattaus vanhoja käsityötaitoja. mm. tuohityöt\, perunajauhojen teko\, särentäaidan-\, päreiden-\, keittomaalin teko\, uittopirtin tarinat tulevat kerrottua\, vanhoja metsä- ym. työtyökaluja mm. pokasaha esittelyssä\, separaattori ja kirnu\, maamoottorikin pärähtää käyntiin\, vanhoja traktoreita paikalla\, lossirannan historiatarinoita pääsee kuulemaan. Tarjolla perinteiseen tapaan tehtyä kaalikeittoa (maksullinen). \nKoska tapahtumapäivä on myös Eino Leinon päivä\, runot ovat osa tapahtumaa\, kuultavana sekä runopolun muodossa.
URL:https://kotiseutuliitto.fi/tapahtuma/sulkavan-perinnepaiva/
ATTACH;FMTTYPE=image/jpeg:https://kotiseutuliitto.fi/wp-content/uploads/2025/03/SULKAVAN_KUNTA_Museo_alue-pienikuva.jpg
END:VEVENT
BEGIN:VEVENT
DTSTART;TZID=Europe/Helsinki:20250706T120000
DTEND;TZID=Europe/Helsinki:20250706T150000
DTSTAMP:20260422T134146
CREATED:20250619T135408Z
LAST-MODIFIED:20250625T135345Z
UID:10002949-1751803200-1751814000@kotiseutuliitto.fi
SUMMARY:Runon ja suven päivä Pitäjäntuvalla
DESCRIPTION:Rakennettu perintömme -näyttely ja tupakahvila ovat avoinna Pitäjäntuvalla klo 12.00 -15.00.
URL:https://kotiseutuliitto.fi/tapahtuma/runon-ja-suven-paiva-pitajantuvalla/
ATTACH;FMTTYPE=image/png:https://kotiseutuliitto.fi/wp-content/uploads/2025/06/mantsala-440-logo_jpg.png
END:VEVENT
BEGIN:VEVENT
DTSTART;TZID=Europe/Helsinki:20250717T160000
DTEND;TZID=Europe/Helsinki:20250717T200000
DTSTAMP:20260422T134146
CREATED:20250319T081248Z
LAST-MODIFIED:20250625T141533Z
UID:10002878-1752768000-1752782400@kotiseutuliitto.fi
SUMMARY:Prestbackan perinnepäivä
DESCRIPTION:Prestbackan kartanon pihamaalla voi tutustua monipuolisesti perunaan ja sen historiaan. Aiheeseen liittyviä koneita ja kalustoa on näytteillä ja kahviossa perunapohjaisia herkkuja. Lisäksi torimyyjiltä voi ostaa mm. leivonnaisia ja käsitöitä.
URL:https://kotiseutuliitto.fi/tapahtuma/prestbackan-perinnepaiva-2/
ATTACH;FMTTYPE=image/jpeg:https://kotiseutuliitto.fi/wp-content/uploads/2025/03/thumbnail_1307_23-066.jpg
END:VEVENT
BEGIN:VEVENT
DTSTART;TZID=Europe/Helsinki:20250723T180000
DTEND;TZID=Europe/Helsinki:20250723T200000
DTSTAMP:20260422T134146
CREATED:20250402T072320Z
LAST-MODIFIED:20250402T072320Z
UID:10002886-1753293600-1753300800@kotiseutuliitto.fi
SUMMARY:Keskustelutilaisuus teoksesta Arkkitehtuurimme vuosituhannet
DESCRIPTION:Keskustelutilaisuus teoksesta Arkkitehtuurimme vuosituhannet (Sammakko\, 2024). Villa Kokkosen vieraana teoksen kirjoittanut Aalto-yliopiston professori ja tietokirjallisuuden Finlandia-palkintoehdokas Panu Savolainen. \nEnnakkoilmoittautuminen avataan kevään mittaan > seuraa verkkosivuja Villa Kokkosen tapahtumat | Järvenpään taidemuseo. Sisäänpääsy museolipun hinnalla. Huom! Tähän tapahtumailmoitukseen kirjattu tilaisuuden päättymisaika on arvio. \nAlvar Aallon suunnittelema ainutlaatuinen taiteilijakoti Villa Kokkonen valmistui vuonna 1969 Järvenpään Vanhankylänniemeen. Säveltäjä ja akateemikko Joonas Kokkoselle huolella hiottu kotitalo on harvinaisuus: se on ainoa taiteilijakoti Aallon tuotannossa.
URL:https://kotiseutuliitto.fi/tapahtuma/arkkitehtuurimme_vuosituhannet_villa_kokkosessa/
ATTACH;FMTTYPE=image/jpeg:https://kotiseutuliitto.fi/wp-content/uploads/2025/04/EHD_Villa_Kokkonen_kuva_Mikhail_Olykaynen.jpg
END:VEVENT
END:VCALENDAR