BEGIN:VCALENDAR
VERSION:2.0
PRODID:-//Suomen Kotiseutuliitto - ECPv6.15.20//NONSGML v1.0//EN
CALSCALE:GREGORIAN
METHOD:PUBLISH
X-ORIGINAL-URL:https://kotiseutuliitto.fi
X-WR-CALDESC:Tapahtumat Suomen Kotiseutuliitto
REFRESH-INTERVAL;VALUE=DURATION:PT1H
X-Robots-Tag:noindex
X-PUBLISHED-TTL:PT1H
BEGIN:VTIMEZONE
TZID:Europe/Helsinki
BEGIN:DAYLIGHT
TZOFFSETFROM:+0200
TZOFFSETTO:+0300
TZNAME:EEST
DTSTART:20190331T010000
END:DAYLIGHT
BEGIN:STANDARD
TZOFFSETFROM:+0300
TZOFFSETTO:+0200
TZNAME:EET
DTSTART:20191027T010000
END:STANDARD
BEGIN:DAYLIGHT
TZOFFSETFROM:+0200
TZOFFSETTO:+0300
TZNAME:EEST
DTSTART:20200329T010000
END:DAYLIGHT
BEGIN:STANDARD
TZOFFSETFROM:+0300
TZOFFSETTO:+0200
TZNAME:EET
DTSTART:20201025T010000
END:STANDARD
BEGIN:DAYLIGHT
TZOFFSETFROM:+0200
TZOFFSETTO:+0300
TZNAME:EEST
DTSTART:20210328T010000
END:DAYLIGHT
BEGIN:STANDARD
TZOFFSETFROM:+0300
TZOFFSETTO:+0200
TZNAME:EET
DTSTART:20211031T010000
END:STANDARD
END:VTIMEZONE
BEGIN:VEVENT
DTSTART;TZID=Europe/Helsinki:20201203T163000
DTEND;TZID=Europe/Helsinki:20201203T190000
DTSTAMP:20260424T100952
CREATED:20201027T125310Z
LAST-MODIFIED:20201027T125310Z
UID:10000359-1607013000-1607022000@kotiseutuliitto.fi
SUMMARY:Yhteisöt elävät! -elävän perinnön etätyöpaja Päijät-Hämeessä
DESCRIPTION:Miten perinteet elävät juuri meillä?\nKuinka tuoda näkyville omaleimainen paikallisuus?\nTule mukaan Yhteisöt elävät! -elävän perinnön työpajaan torstaina 3.12. Zoom-alustalle! \n\n\n\n\nLahden museot ja Suomen Kotiseutuliitto järjestävät yhdessä elävän perinnön verkkotyöpajan 3.12. klo 16.30–19 Zoom-videopalaverialustalla. \n\n\n\n\nTyöpajassa pohditaan keinoja saada elävä kulttuuriperintö – ne omalle yhteisölle tärkeät tiedot\, taidot\, tekemisen ja toiminnan tavat näkyviin\, kaikkien saataville ja huomatuksi. \nOsallistujat saavat ennen tilaisuutta mahdollisuuden tutusua videoituun ennakkomateriaaliin elävästä perinnöstä ja Zoom-työpajassa keskitytään käsittelemään osallistujien omia aineettoman kulttuuriperinnön ilmiöitä. Luvassa siis eväitä paikallistoimintaan\, merkitysten löytämiseen sekä rahoituksen hakemiseen omille elävän perinnön toiminnoille ja hankkeille. \nIlmoittautuminen ke 25.11. mennessä: maria.talvitie@kotiseutuliitto.fi \n***** \nYhteisöt elävät! -hankkeen työpajoissa tuetaan paikallisten yhteisöjen valmiuksia käsitellä oman alueen aineetonta kulttuuriperintöä. \n\nTyöpajat ovat tarkoitettu kulttuuriperintötyön-\, kotiseututyön- ja kansalaistoiminnan tekijä- ja organisointijoukoille ja ne kutsuvat pohtimaan ja käytännössä suunnittelemaan sitä\, mitä aineettoman kulttuuriperinnön siirtäminen\, välittäminen ja vaaliminen voisi omassa yhteisössä olla. \n\nTyöpajakokonaisuus toteutetaan Museoviraston aineettoman kulttuuriperinnön sopimuksen mukaisten yhteistyö- ja kehittämishankkeiden avustuksella.
URL:https://kotiseutuliitto.fi/tapahtuma/yhteisot-elavat-elavan-perinnon-etatyopaja-paijat-hameessa/
LOCATION:Videopalaverialusta Zoom
ATTACH;FMTTYPE=image/png:https://kotiseutuliitto.fi/wp-content/uploads/2020/10/YE_somekuva.png
END:VEVENT
BEGIN:VEVENT
DTSTART;TZID=Europe/Helsinki:20201111T130000
DTEND;TZID=Europe/Helsinki:20201111T150000
DTSTAMP:20260424T100952
CREATED:20201009T054331Z
LAST-MODIFIED:20201012T085447Z
UID:10000254-1605099600-1605106800@kotiseutuliitto.fi
SUMMARY:Yhteisöt elävät! -elävän perinnön etätyöpaja Lapissa
DESCRIPTION:Miten perinteet elävät juuri meillä?\nKuinka tuoda näkyville omaleimainen paikallisuus?\nTule mukaan Yhteisöt elävät! -elävän perinnön työpajaan keskiviikkona 11.11. Zoom-alustalle! \n\n\n\n\nLapin maakuntamuseo\, Tornionlaakson museo ja Suomen Kotiseutuliitto järjestävät yhdessä elävän perinnön etätyöpajan 11.11. klo 13–15 Zoom-videopalaverialustalla. \n\n\n\n\nTyöpajassa pohditaan keinoja saada elävä kulttuuriperintö – ne omalle yhteisölle tärkeät tiedot\, taidot\, tekemisen ja toiminnan tavat näkyviin\, kaikkien saataville ja huomatuksi. \nOsallistujat saavat ennen tilaisuutta mahdollisuuden tutusua videoituun ennakkomateriaaliin elävästä perinnöstä ja Zoom-työpajassa keskitytään käsittelemään osallistujien omia aineettoman kulttuuriperinnön ilmiöitä. Luvassa siis eväitä paikallistoimintaan\, merkitysten löytämiseen sekä rahoituksen hakemiseen omille elävän perinnön toiminnoille ja hankkeille. \nIlmoittautuminen ti 3.11. mennessä: maria.talvitie@kotiseutuliitto.fi \nFacebook-tapahtuman löydät täältä. \n\nYhteisöt elävät! -työpajat järjestetään osittain etänä ja osittain kokoontumisrajoitusten mukaisesti ja turvavälejä noudattaen.\n\n\nEthän saavu lähitilaisuuteen hengitystieinfektio-oireisena (yskä\, kurkku-kipu\, kuume\, hengenahdistus\, lihaskivut\, vatsaoireet ja päänsärky).\n\n\n \n\n\nYhteisöt elävät! -hankkeen työpajoissa tuetaan paikallisten yhteisöjen valmiuksia käsitellä oman alueen aineetonta kulttuuriperintöä.\n\n\nTyöpajat ovat tarkoitettu kulttuuriperintötyön-\, kotiseututyön- ja kansalaistoiminnan tekijä- ja organisointijoukoille ja ne kutsuvat pohtimaan ja käytännössä suunnittelemaan sitä\, mitä aineettoman kulttuuriperinnön siirtäminen\, välittäminen ja vaaliminen voisi omassa yhteisössä olla.\n\n\nTyöpajakokonaisuus toteutetaan Museoviraston aineettoman kulttuuriperinnön sopimuksen mukaisten yhteistyö- ja kehittämishankkeiden avustuksella.
URL:https://kotiseutuliitto.fi/tapahtuma/yhteisot-elavat-elavan-perinnon-etatyopaja-lapissa/
LOCATION:Videopalaverialusta Zoom
ATTACH;FMTTYPE=image/png:https://kotiseutuliitto.fi/wp-content/uploads/2020/09/YE_somekuva.png
END:VEVENT
BEGIN:VEVENT
DTSTART;TZID=Europe/Helsinki:20201105T160000
DTEND;TZID=Europe/Helsinki:20201105T180000
DTSTAMP:20260424T100952
CREATED:20201009T053227Z
LAST-MODIFIED:20201012T085203Z
UID:10000253-1604592000-1604599200@kotiseutuliitto.fi
SUMMARY:Yhteisöt elävät! -elävän perinnön etätyöpaja Keski-Suomessa
DESCRIPTION:Miten perinteet elävät juuri meillä?\nKuinka tuoda näkyville omaleimainen paikallisuus?\nTule mukaan Yhteisöt elävät! -elävän perinnön työpajaan torstaina 5.11 Zoom-alustalle! \n\n\n\n\nKeski-Suomen museo ja Suomen Kotiseutuliitto järjestävät yhdessä elävän perinnön etätyöpajan 5.11. klo 16–18 Zoom-videopalaverialustalla. \n\n\n\n\nTyöpajassa pohditaan keinoja saada elävä kulttuuriperintö – ne omalle yhteisölle tärkeät tiedot\, taidot\, tekemisen ja toiminnan tavat näkyviin\, kaikkien saataville ja huomatuksi. \nOsallistujat saavat ennen tilaisuutta mahdollisuuden tutusua videoituun ennakkomateriaaliin elävästä perinnöstä ja Zoom-työpajassa keskitytään käsittelemään osallistujien omia aineettoman kulttuuriperinnön ilmiöitä. Luvassa siis eväitä paikallistoimintaan\, merkitysten löytämiseen sekä rahoituksen hakemiseen omille elävän perinnön toiminnoille ja hankkeille. \nIlmoittautuminen ke 28.10. mennessä: maria.talvitie@kotiseutuliitto.fi \nFacebook-tapahtuman löydät täältä. \n\nYhteisöt elävät! -työpajat järjestetään osittain etänä ja osittain kokoontumisrajoitusten mukaisesti ja turvavälejä noudattaen.\n\n\nEthän saavu lähitilaisuuteen hengitystieinfektio-oireisena (yskä\, kurkku-kipu\, kuume\, hengenahdistus\, lihaskivut\, vatsaoireet ja päänsärky).\n\n\n \n\n\nYhteisöt elävät! -hankkeen työpajoissa tuetaan paikallisten yhteisöjen valmiuksia käsitellä oman alueen aineetonta kulttuuriperintöä.\n\n\nTyöpajat ovat tarkoitettu kulttuuriperintötyön-\, kotiseututyön- ja kansalaistoiminnan tekijä- ja organisointijoukoille ja ne kutsuvat pohtimaan ja käytännössä suunnittelemaan sitä\, mitä aineettoman kulttuuriperinnön siirtäminen\, välittäminen ja vaaliminen voisi omassa yhteisössä olla.\n\n\nTyöpajakokonaisuus toteutetaan Museoviraston aineettoman kulttuuriperinnön sopimuksen mukaisten yhteistyö- ja kehittämishankkeiden avustuksella.
URL:https://kotiseutuliitto.fi/tapahtuma/yhteisot-elavat-elavan-perinnon-etatyopaja-keski-suomessa/
LOCATION:Videopalaverialusta Zoom
ATTACH;FMTTYPE=image/png:https://kotiseutuliitto.fi/wp-content/uploads/2020/09/YE_somekuva.png
END:VEVENT
BEGIN:VEVENT
DTSTART;TZID=Europe/Helsinki:20201021T163000
DTEND;TZID=Europe/Helsinki:20201021T183000
DTSTAMP:20260424T100952
CREATED:20200915T121359Z
LAST-MODIFIED:20201005T070756Z
UID:10000250-1603297800-1603305000@kotiseutuliitto.fi
SUMMARY:Yhteisöt elävät! -elävän perinnön etätyöpaja Uudellamaalla
DESCRIPTION:HUOM! Koronaepidemiatilanteen takia tilaisuus järjestetään etänä Zoom-alustalla ke 21.10. klo 16.30–18.30. \nKuinka tuoda näkyville omaleimainen paikallisuus?\nMiten uudet ja vanhat perinteet elävät juuri meillä?\nTule mukaan miettimään keskiviikkona 21.10. Helsinkiin\, keskustakirjasto Oodiin  Zoom-alustalle! \nKotiseutuliitto ja Helka ry järjestävät yhdessä elävän perinnön työpajan keskiviikkona 21.10. klo 16.30–18.30 Zoom-alustalla. Työpajassa pohditaan keinoja saada elävä kulttuuri – ne omalle yhteisölle tärkeät tiedot\, taidot\, tekemisen ja toiminnan tavat näkyviin\, kaikkien saataville ja huomatuksi. \nTilaisuudessa keskustellaan elävästä paikallisuudesta sekä käsitellään osallistujien omien elävän perinnön\, kaupunkikulttuurin ja asukastoiminnan ilmiöitä. Luvassa siis eväitä paikallistoimintaan\, merkitysten löytämiseen sekä rahoituksen hakemiseen omille toiminnoille ja hankkeille. \nIlmoittautuminen 13.10. mennessä: maria.talvitie@kotiseutuliitto.fi\nOsallistujamäärä on rajattu. \nFacebook-tapahtuman löydät täältä. \n\nYhteisöt elävät! -työpajat järjestetään etänä tai kokoontumisrajoitusten mukaisesti ja turvavälejä noudattaen.\n\n\nEthän saavu lähitilaisuuteen hengitystieinfektio-oireisena (yskä\, kurkku-kipu\, kuume\, hengenahdistus\, lihaskivut\, vatsaoireet ja päänsärky).\n\n\n \n\n\nYhteisöt elävät! -hankkeen työpajoissa tuetaan paikallisten yhteisöjen valmiuksia käsitellä oman alueen aineetonta kulttuuriperintöä.\n\n\nTyöpajat ovat tarkoitettu kulttuuriperintötyön-\, kotiseututyön- ja kansalaistoiminnan tekijä- ja organisointijoukoille ja ne kutsuvat pohtimaan ja käytännössä suunnittelemaan sitä\, mitä aineettoman kulttuuriperinnön siirtäminen\, välittäminen ja vaaliminen voisi omassa yhteisössä olla.\n\n\nTyöpajakokonaisuus toteutetaan Museoviraston aineettoman kulttuuriperinnön sopimuksen mukaisten yhteistyö- ja kehittämishankkeiden avustuksella.
URL:https://kotiseutuliitto.fi/tapahtuma/yhteisot-elavat-elavan-perinnon-tyopaja-uudellamaalla/
LOCATION:Videopalaverialusta Zoom
ATTACH;FMTTYPE=image/png:https://kotiseutuliitto.fi/wp-content/uploads/2020/09/somekuva.png
END:VEVENT
END:VCALENDAR