BEGIN:VCALENDAR
VERSION:2.0
PRODID:-//Suomen Kotiseutuliitto - ECPv6.15.20//NONSGML v1.0//EN
CALSCALE:GREGORIAN
METHOD:PUBLISH
X-ORIGINAL-URL:https://kotiseutuliitto.fi
X-WR-CALDESC:Tapahtumat Suomen Kotiseutuliitto
REFRESH-INTERVAL;VALUE=DURATION:PT1H
X-Robots-Tag:noindex
X-PUBLISHED-TTL:PT1H
BEGIN:VTIMEZONE
TZID:Europe/Helsinki
BEGIN:DAYLIGHT
TZOFFSETFROM:+0200
TZOFFSETTO:+0300
TZNAME:EEST
DTSTART:20200329T010000
END:DAYLIGHT
BEGIN:STANDARD
TZOFFSETFROM:+0300
TZOFFSETTO:+0200
TZNAME:EET
DTSTART:20201025T010000
END:STANDARD
BEGIN:DAYLIGHT
TZOFFSETFROM:+0200
TZOFFSETTO:+0300
TZNAME:EEST
DTSTART:20210328T010000
END:DAYLIGHT
BEGIN:STANDARD
TZOFFSETFROM:+0300
TZOFFSETTO:+0200
TZNAME:EET
DTSTART:20211031T010000
END:STANDARD
BEGIN:DAYLIGHT
TZOFFSETFROM:+0200
TZOFFSETTO:+0300
TZNAME:EEST
DTSTART:20220327T010000
END:DAYLIGHT
BEGIN:STANDARD
TZOFFSETFROM:+0300
TZOFFSETTO:+0200
TZNAME:EET
DTSTART:20221030T010000
END:STANDARD
END:VTIMEZONE
BEGIN:VEVENT
DTSTART;TZID=Europe/Helsinki:20210426T160000
DTEND;TZID=Europe/Helsinki:20210426T180000
DTSTAMP:20260424T051041
CREATED:20210212T123255Z
LAST-MODIFIED:20210212T123255Z
UID:10000266-1619452800-1619460000@kotiseutuliitto.fi
SUMMARY:Varsinais-Suomen maakunnallinen kokous
DESCRIPTION:Varsinais-Suomen kotiseututoimijoiden kokous järjestetään tänä keväänä etätilaisuutena. Tervetuloa mukaan vaikka useammankin osallistujan voimin! \nPaikka: Etätilaisuus\, Microsoft Teams (Liittymislinkki lähetetään ilmoittautuneille) \nIlmoittautumislinkki: http://bit.ly/Maakunnat2021 \nAika: 26.4.2021 klo 16–18 \nOhjelma (tarkentuu)\n– Kotiseutuliiton ajankohtaiset asiat: toiminnanjohtaja Riitta Vanhatalo ja järjestöpäällikkö Marika Punamäki\n– Muita puheenvuoroja\n– Maakunnan ehdokkaan valitseminen ehdolle Kotiseutuliiton valtuustoon\n– Jäsenyhteisöjen kuulumisia\, keskustelua \nValtuuston lopullinen valinta tehdään Kotiseutuliiton vuosikokouksessa 13.8.2021 Oulussa. (Täydentyy) \nIlmoittauduthan etukäteen osoitteessa: http://bit.ly/Maakunnat2021\nKokouksen liittymislinkki ja ohjeistusta lähetetään viimeisenä tilaisuutta edeltävänä arkipäivänä\, joten ilmoittauduthan sitä ennen. Lisätietoja ilmoittautumisesta ja kokoukseen liittymisestä voi kysyä Kotiseutuliiton toimistosta: toimisto@kotiseutuliitto.fi / 041 319 3720. Toimiston sähköpostia käytetään myös tarpeen mukaan äänestykseen. Tarkempaa ohjeistusta tulee osallistujille kokouksen liittymislinkin lähetyksen yhteydessä sekä itse kokouksessa. \nLämpimästi tervetuloa!
URL:https://kotiseutuliitto.fi/tapahtuma/varsinais-suomen-maakunnallinen-kokous-2/
LOCATION:Verkkotapahtuma
ATTACH;FMTTYPE=image/jpeg:https://kotiseutuliitto.fi/wp-content/uploads/2021/02/Maakunnalliset-kokoukset.jpg
END:VEVENT
BEGIN:VEVENT
DTSTART;TZID=Europe/Helsinki:20210422T160000
DTEND;TZID=Europe/Helsinki:20210422T180000
DTSTAMP:20260424T051041
CREATED:20210212T123111Z
LAST-MODIFIED:20210212T123111Z
UID:10000265-1619107200-1619114400@kotiseutuliitto.fi
SUMMARY:Uudenmaan maakunnallinen kokous
DESCRIPTION:Uudenmaan kotiseututoimijoiden kokous järjestetään tänä keväänä etätilaisuutena. Tervetuloa mukaan vaikka useammankin osallistujan voimin! \nPaikka: Etätilaisuus\, Microsoft Teams (Liittymislinkki lähetetään ilmoittautuneille) \nIlmoittautumislinkki: http://bit.ly/Maakunnat2021 \nAika: 22.4.2021 klo 16–18 \nOhjelma (tarkentuu)\n– Kotiseutuliiton ajankohtaiset asiat: toiminnanjohtaja Riitta Vanhatalo ja järjestöpäällikkö Marika Punamäki\n– Muita puheenvuoroja\n– Maakunnan ehdokkaan valitseminen ehdolle Kotiseutuliiton valtuustoon\n– Jäsenyhteisöjen kuulumisia\, keskustelua \nValtuuston lopullinen valinta tehdään Kotiseutuliiton vuosikokouksessa 13.8.2021 Oulussa. (Täydentyy) \nIlmoittauduthan etukäteen osoitteessa: http://bit.ly/Maakunnat2021\nKokouksen liittymislinkki ja ohjeistusta lähetetään viimeisenä tilaisuutta edeltävänä arkipäivänä\, joten ilmoittauduthan sitä ennen. Lisätietoja ilmoittautumisesta ja kokoukseen liittymisestä voi kysyä Kotiseutuliiton toimistosta: toimisto@kotiseutuliitto.fi / 041 319 3720. Toimiston sähköpostia käytetään myös tarpeen mukaan äänestykseen. Tarkempaa ohjeistusta tulee osallistujille kokouksen liittymislinkin lähetyksen yhteydessä sekä itse kokouksessa. \nLämpimästi tervetuloa!
URL:https://kotiseutuliitto.fi/tapahtuma/uudenmaan-maakunnallinen-kokous-2/
LOCATION:Verkkotapahtuma
ATTACH;FMTTYPE=image/jpeg:https://kotiseutuliitto.fi/wp-content/uploads/2021/02/Maakunnalliset-kokoukset.jpg
END:VEVENT
BEGIN:VEVENT
DTSTART;TZID=Europe/Helsinki:20210415T160000
DTEND;TZID=Europe/Helsinki:20210415T180000
DTSTAMP:20260424T051041
CREATED:20210212T122535Z
LAST-MODIFIED:20210212T122535Z
UID:10000264-1618502400-1618509600@kotiseutuliitto.fi
SUMMARY:Satakunnan maakunnallinen kokous
DESCRIPTION:Satakunnan kotiseututoimijoiden kokous järjestetään tänä keväänä etätilaisuutena. Tervetuloa mukaan vaikka useammankin osallistujan voimin! \nPaikka: Etätilaisuus\, Microsoft Teams (Liittymislinkki lähetetään ilmoittautuneille) \nIlmoittautumislinkki: http://bit.ly/Maakunnat2021 \nAika: 15.4.2021 klo 16–18 \nOhjelma (tarkentuu)\n– Kotiseutuliiton ajankohtaiset asiat: toiminnanjohtaja Riitta Vanhatalo ja järjestöpäällikkö Marika Punamäki\n– Muita puheenvuoroja\n– Maakunnan ehdokkaan valitseminen ehdolle Kotiseutuliiton valtuustoon\n– Jäsenyhteisöjen kuulumisia\, keskustelua \nValtuuston lopullinen valinta tehdään Kotiseutuliiton vuosikokouksessa 13.8.2021 Oulussa. (Täydentyy) \nIlmoittauduthan etukäteen osoitteessa: http://bit.ly/Maakunnat2021\nKokouksen liittymislinkki ja ohjeistusta lähetetään viimeisenä tilaisuutta edeltävänä arkipäivänä\, joten ilmoittauduthan sitä ennen. Lisätietoja ilmoittautumisesta ja kokoukseen liittymisestä voi kysyä Kotiseutuliiton toimistosta: toimisto@kotiseutuliitto.fi / 041 319 3720. Toimiston sähköpostia käytetään myös tarpeen mukaan äänestykseen. Tarkempaa ohjeistusta tulee osallistujille kokouksen liittymislinkin lähetyksen yhteydessä sekä itse kokouksessa. \nLämpimästi tervetuloa!
URL:https://kotiseutuliitto.fi/tapahtuma/satakunnan-maakunnallinen-kokous/
LOCATION:Verkkotapahtuma
ATTACH;FMTTYPE=image/jpeg:https://kotiseutuliitto.fi/wp-content/uploads/2021/02/Maakunnalliset-kokoukset.jpg
END:VEVENT
BEGIN:VEVENT
DTSTART;TZID=Europe/Helsinki:20210414T150000
DTEND;TZID=Europe/Helsinki:20210414T170000
DTSTAMP:20260424T051041
CREATED:20210212T122320Z
LAST-MODIFIED:20210212T122320Z
UID:10000263-1618412400-1618419600@kotiseutuliitto.fi
SUMMARY:Kainuun maakunnallinen kokous
DESCRIPTION:Kainuun kotiseututoimijoiden kokous järjestetään tänä keväänä etätilaisuutena. Tervetuloa mukaan vaikka useammankin osallistujan voimin! \nPaikka: Etätilaisuus\, Microsoft Teams (Liittymislinkki lähetetään ilmoittautuneille) \nIlmoittautumislinkki: http://bit.ly/Maakunnat2021 \nAika: 14.4.2021 klo 15–17 \nOhjelma (tarkentuu)\n– Kotiseutuliiton ajankohtaiset asiat: toiminnanjohtaja Riitta Vanhatalo ja järjestöpäällikkö Marika Punamäki\n– Muita puheenvuoroja\n– Maakunnan ehdokkaan valitseminen ehdolle Kotiseutuliiton valtuustoon\n– Jäsenyhteisöjen kuulumisia\, keskustelua \nValtuuston lopullinen valinta tehdään Kotiseutuliiton vuosikokouksessa 13.8.2021 Oulussa. (Täydentyy) \nIlmoittauduthan etukäteen osoitteessa: http://bit.ly/Maakunnat2021\nKokouksen liittymislinkki ja ohjeistusta lähetetään viimeisenä tilaisuutta edeltävänä arkipäivänä\, joten ilmoittauduthan sitä ennen. Lisätietoja ilmoittautumisesta ja kokoukseen liittymisestä voi kysyä Kotiseutuliiton toimistosta: toimisto@kotiseutuliitto.fi / 041 319 3720. Toimiston sähköpostia käytetään myös tarpeen mukaan äänestykseen. Tarkempaa ohjeistusta tulee osallistujille kokouksen liittymislinkin lähetyksen yhteydessä sekä itse kokouksessa. \nLämpimästi tervetuloa!
URL:https://kotiseutuliitto.fi/tapahtuma/kainuun-maakunnallinen-kokous/
LOCATION:Verkkotapahtuma
ATTACH;FMTTYPE=image/jpeg:https://kotiseutuliitto.fi/wp-content/uploads/2021/02/Maakunnalliset-kokoukset.jpg
END:VEVENT
BEGIN:VEVENT
DTSTART;TZID=Europe/Helsinki:20210407T160000
DTEND;TZID=Europe/Helsinki:20210407T180000
DTSTAMP:20260424T051041
CREATED:20210212T121700Z
LAST-MODIFIED:20210212T121700Z
UID:10000262-1617811200-1617818400@kotiseutuliitto.fi
SUMMARY:Pohjois-Karjalan maakunnallinen kokous
DESCRIPTION:Pohjois-Karjalan kotiseututoimijoiden kokous järjestetään tänä keväänä etätilaisuutena. Tervetuloa mukaan vaikka useammankin osallistujan voimin! \nPaikka: Etätilaisuus\, Microsoft Teams (Liittymislinkki lähetetään ilmoittautuneille) \nIlmoittautumislinkki: http://bit.ly/Maakunnat2021 \nAika: 7.4.2021 klo 16–18 \nOhjelma (tarkentuu)\n– Kotiseutuliiton ajankohtaiset asiat: toiminnanjohtaja Riitta Vanhatalo ja järjestöpäällikkö Marika Punamäki\n– Muita puheenvuoroja\n– Maakunnan ehdokkaan valitseminen ehdolle Kotiseutuliiton valtuustoon\n– Jäsenyhteisöjen kuulumisia\, keskustelua \nValtuuston lopullinen valinta tehdään Kotiseutuliiton vuosikokouksessa 13.8.2021 Oulussa. (Täydentyy) \nIlmoittauduthan etukäteen osoitteessa: http://bit.ly/Maakunnat2021\nKokouksen liittymislinkki ja ohjeistusta lähetetään viimeisenä tilaisuutta edeltävänä arkipäivänä\, joten ilmoittauduthan sitä ennen. Lisätietoja ilmoittautumisesta ja kokoukseen liittymisestä voi kysyä Kotiseutuliiton toimistosta: toimisto@kotiseutuliitto.fi / 041 319 3720. Toimiston sähköpostia käytetään myös tarpeen mukaan äänestykseen. Tarkempaa ohjeistusta tulee osallistujille kokouksen liittymislinkin lähetyksen yhteydessä sekä itse kokouksessa. \nLämpimästi tervetuloa!
URL:https://kotiseutuliitto.fi/tapahtuma/pohjois-karjalan-maakunnallinen-kokous/
LOCATION:Verkkotapahtuma
ATTACH;FMTTYPE=image/jpeg:https://kotiseutuliitto.fi/wp-content/uploads/2021/02/Maakunnalliset-kokoukset.jpg
END:VEVENT
BEGIN:VEVENT
DTSTART;TZID=Europe/Helsinki:20210331T160000
DTEND;TZID=Europe/Helsinki:20210331T180000
DTSTAMP:20260424T051041
CREATED:20210212T121455Z
LAST-MODIFIED:20210212T121455Z
UID:10000261-1617206400-1617213600@kotiseutuliitto.fi
SUMMARY:Etelä-Savon maakunnallinen kokous
DESCRIPTION:Etelä-Savon kotiseututoimijoiden kokous järjestetään tänä keväänä etätilaisuutena. Tervetuloa mukaan vaikka useammankin osallistujan voimin! \nPaikka: Etätilaisuus\, Microsoft Teams (Liittymislinkki lähetetään ilmoittautuneille) \nIlmoittautumislinkki: http://bit.ly/Maakunnat2021 \nAika: 31.3.2021 klo 16–18 \nOhjelma (tarkentuu)\n– Kotiseutuliiton ajankohtaiset asiat: toiminnanjohtaja Riitta Vanhatalo ja järjestöpäällikkö Marika Punamäki\n– Muita puheenvuoroja\n– Maakunnan ehdokkaan valitseminen ehdolle Kotiseutuliiton valtuustoon\n– Jäsenyhteisöjen kuulumisia\, keskustelua \nValtuuston lopullinen valinta tehdään Kotiseutuliiton vuosikokouksessa 13.8.2021 Oulussa. (Täydentyy) \nIlmoittauduthan etukäteen osoitteessa: http://bit.ly/Maakunnat2021\nKokouksen liittymislinkki ja ohjeistusta lähetetään viimeisenä tilaisuutta edeltävänä arkipäivänä\, joten ilmoittauduthan sitä ennen. Lisätietoja ilmoittautumisesta ja kokoukseen liittymisestä voi kysyä Kotiseutuliiton toimistosta: toimisto@kotiseutuliitto.fi / 041 319 3720. Toimiston sähköpostia käytetään myös tarpeen mukaan äänestykseen. Tarkempaa ohjeistusta tulee osallistujille kokouksen liittymislinkin lähetyksen yhteydessä sekä itse kokouksessa. \nLämpimästi tervetuloa!
URL:https://kotiseutuliitto.fi/tapahtuma/etela-savon-maakunnallinen-kokous/
LOCATION:Verkkotapahtuma
ATTACH;FMTTYPE=image/jpeg:https://kotiseutuliitto.fi/wp-content/uploads/2021/02/Maakunnalliset-kokoukset.jpg
END:VEVENT
BEGIN:VEVENT
DTSTART;TZID=Europe/Helsinki:20210325T160000
DTEND;TZID=Europe/Helsinki:20210325T180000
DTSTAMP:20260424T051041
CREATED:20210212T121300Z
LAST-MODIFIED:20210212T121300Z
UID:10000260-1616688000-1616695200@kotiseutuliitto.fi
SUMMARY:Pohjois-Savon maakunnallinen kokous
DESCRIPTION:Pohjois-Savon kotiseututoimijoiden kokous järjestetään tänä keväänä etätilaisuutena. Tervetuloa mukaan vaikka useammankin osallistujan voimin! \nPaikka: Etätilaisuus\, Microsoft Teams (Liittymislinkki lähetetään ilmoittautuneille) \nIlmoittautumislinkki: http://bit.ly/Maakunnat2021 \nAika: 25.3.2021 klo 16–18 \nOhjelma (tarkentuu)\n– Kotiseutuliiton ajankohtaiset asiat: toiminnanjohtaja Riitta Vanhatalo ja järjestöpäällikkö Marika Punamäki\n– Muita puheenvuoroja\n– Maakunnan ehdokkaan valitseminen ehdolle Kotiseutuliiton valtuustoon\n– Jäsenyhteisöjen kuulumisia\, keskustelua \nValtuuston lopullinen valinta tehdään Kotiseutuliiton vuosikokouksessa 13.8.2021 Oulussa. (Täydentyy) \nIlmoittauduthan etukäteen osoitteessa: http://bit.ly/Maakunnat2021\nKokouksen liittymislinkki ja ohjeistusta lähetetään viimeisenä tilaisuutta edeltävänä arkipäivänä\, joten ilmoittauduthan sitä ennen. Lisätietoja ilmoittautumisesta ja kokoukseen liittymisestä voi kysyä Kotiseutuliiton toimistosta: toimisto@kotiseutuliitto.fi / 041 319 3720. Toimiston sähköpostia käytetään myös tarpeen mukaan äänestykseen. Tarkempaa ohjeistusta tulee osallistujille kokouksen liittymislinkin lähetyksen yhteydessä sekä itse kokouksessa. \nLämpimästi tervetuloa!
URL:https://kotiseutuliitto.fi/tapahtuma/pohjois-savon-maakunnallinen-kokous/
LOCATION:Verkkotapahtuma
ATTACH;FMTTYPE=image/jpeg:https://kotiseutuliitto.fi/wp-content/uploads/2021/02/Maakunnalliset-kokoukset.jpg
END:VEVENT
BEGIN:VEVENT
DTSTART;TZID=Europe/Helsinki:20210324T160000
DTEND;TZID=Europe/Helsinki:20210324T180000
DTSTAMP:20260424T051041
CREATED:20210212T121045Z
LAST-MODIFIED:20210212T121045Z
UID:10000259-1616601600-1616608800@kotiseutuliitto.fi
SUMMARY:Pohjois-Pohjanmaan maakunnallinen kokous
DESCRIPTION:Pohjois-Pohjanmaan kotiseututoimijoiden kokous järjestetään tänä keväänä etätilaisuutena. Tervetuloa mukaan vaikka useammankin osallistujan voimin! \nPaikka: Etätilaisuus\, Microsoft Teams (Liittymislinkki lähetetään ilmoittautuneille) \nIlmoittautumislinkki: http://bit.ly/Maakunnat2021 \nAika: 24.3.2021 klo 16–18 \nOhjelma (tarkentuu)\n– Kotiseutuliiton ajankohtaiset asiat: toiminnanjohtaja Riitta Vanhatalo ja järjestöpäällikkö Marika Punamäki\n– Muita puheenvuoroja\n– Maakunnan ehdokkaan valitseminen ehdolle Kotiseutuliiton valtuustoon\n– Jäsenyhteisöjen kuulumisia\, keskustelua \nValtuuston lopullinen valinta tehdään Kotiseutuliiton vuosikokouksessa 13.8.2021 Oulussa. (Täydentyy) \nIlmoittauduthan etukäteen osoitteessa: http://bit.ly/Maakunnat2021\nKokouksen liittymislinkki ja ohjeistusta lähetetään viimeisenä tilaisuutta edeltävänä arkipäivänä\, joten ilmoittauduthan sitä ennen. Lisätietoja ilmoittautumisesta ja kokoukseen liittymisestä voi kysyä Kotiseutuliiton toimistosta: toimisto@kotiseutuliitto.fi / 041 319 3720. Toimiston sähköpostia käytetään myös tarpeen mukaan äänestykseen. Tarkempaa ohjeistusta tulee osallistujille kokouksen liittymislinkin lähetyksen yhteydessä sekä itse kokouksessa. \nLämpimästi tervetuloa!
URL:https://kotiseutuliitto.fi/tapahtuma/pohjois-pohjanmaan-maakunnallinen-kokous-2/
LOCATION:Verkkotapahtuma
ATTACH;FMTTYPE=image/jpeg:https://kotiseutuliitto.fi/wp-content/uploads/2021/02/Maakunnalliset-kokoukset.jpg
END:VEVENT
BEGIN:VEVENT
DTSTART;TZID=Europe/Helsinki:20210318T160000
DTEND;TZID=Europe/Helsinki:20210318T180000
DTSTAMP:20260424T051041
CREATED:20210212T115801Z
LAST-MODIFIED:20210212T115823Z
UID:10000368-1616083200-1616090400@kotiseutuliitto.fi
SUMMARY:Pirkanmaan maakunnallinen kokous
DESCRIPTION:Pirkanmaan kotiseututoimijoiden maakunnallinen kokous ja ajankohtaiskeskustelu \nPirkanmaan kotiseututoimijoiden kokous järjestetään tuttuun tapaan Kotiseutuliiton ja Pirkanmaan liiton yhteistyönä\, mutta tällä kertaa etätilaisuutena. Tervetuloa mukaan vaikka useammankin osallistujan voimin! \nPaikka: Etätilaisuus\, Microsoft Teams (Liittymislinkki lähetetään ilmoittautuneille) \nIlmoittautumislinkki: http://bit.ly/Maakunnat2021 \nAika: 18.3.2021 klo 16–18 \nOhjelma\n– Maakunnan liiton tervehdys: maakuntajohtaja Esa Halme\n– Kotiseutuliiton ajankohtaiset asiat: toiminnanjohtaja Riitta Vanhatalo ja järjestöpäällikkö Marika Punamäki\n– Alueellisen vastuumuseon puheenvuoro: tutkija\, rakennuskulttuuri\, Anna Lyyra-Seppänen\n– Maakunnan ehdokkaan valitseminen ehdolle Kotiseutuliiton valtuustoon\n– Jäsenyhteisöjen kuulumisia\, keskustelua \nValtuuston lopullinen valinta tehdään Kotiseutuliiton vuosikokouksessa 13.8.2021 Oulussa. \nTänä vuonna erovuorossa on maakunnan edustajana yhden kauden toiminut Ari Sirén. Valintaa varten tiedoksi: Kotiseutuliiton suositus on\, että valtuutettu istuisi vähintään kaksi kautta ja enintään kolme. Näin saadaan sekä jatkuvuutta että muutosta. \nIlmoittauduthan etukäteen osoitteessa: http://bit.ly/Maakunnat2021\nKokouksen liittymislinkki ja ohjeistusta lähetetään viimeisenä tilaisuutta edeltävänä arkipäivänä\, joten ilmoittauduthan sitä ennen. Lisätietoja ilmoittautumisesta ja kokoukseen liittymisestä voi kysyä Kotiseutuliiton toimistosta: toimisto@kotiseutuliitto.fi / 041 319 3720. Toimiston sähköpostia käytetään myös tarpeen mukaan äänestykseen. Tarkempaa ohjeistusta tulee osallistujille liittymislinkin lähetyksen yhteydessä sekä kokouksessa. \nLämpimästi tervetuloa!
URL:https://kotiseutuliitto.fi/tapahtuma/pirkanmaan-maakunnallinen-kokous/
LOCATION:Verkkotapahtuma
ATTACH;FMTTYPE=image/jpeg:https://kotiseutuliitto.fi/wp-content/uploads/2021/02/Maakunnalliset-kokoukset.jpg
END:VEVENT
BEGIN:VEVENT
DTSTART;TZID=Europe/Helsinki:20210318T160000
DTEND;TZID=Europe/Helsinki:20210318T180000
DTSTAMP:20260424T051041
CREATED:20210208T045004Z
LAST-MODIFIED:20210217T082056Z
UID:10000365-1616083200-1616090400@kotiseutuliitto.fi
SUMMARY:Elävätkö murteet? -webinaari
DESCRIPTION:Miten murteet näkyvät ja kuuluvat tänä päivänä? Mitä niiden edistämiseksi tehdään? Webinaarissa kuullaan asiantuntijoiden puheenvuoroja ja jakoon laitetaan hyvät käytännöt erilaisten yhdistysten ja yhteisöjen toiminnassa eri puolilla Suomea.  Samalla kuullaan tuloksia tuoreesta kyselystä\, jossa kartoitettiin murteiden roolia tämän päivän yhdistysten ja muiden toimijoiden kentässä. \nMurteet ovat keskeinen osa tämän päivän suullista perinnettä. Murteet ovat syntyneet aikana\, jolloin suuri osa ihmisistä eli ja työskenteli koko ikänsä samassa kylässä tai pitäjässä. Nyky-Suomessa murre-erot ovat tasoittuneet esimerkiksi väestön liikkuvuuden ja tehokkaan tiedonvälityksen vuoksi. Perinteisten murteiden on ennustettu vähitellen katoavan\, mutta näin ei ole käynyt. Murteiden arvostus on jopa noussut\, ja murteita käytetään monissa tilanteissa identiteetin korostamiseksi. Murteet kiinnostavat ja murteita puhutaan nykyään avoimemmin. Ne ovat tärkeä osa identiteettityötä ja paikkaan kiinnittymistä. \nWebinaarin järjestävät Elävän perinnön suullinen rinki\, Museovirasto\, Kalevalaisten Naisten Liitto ja Suomen Kotiseutuliitto.\n \nIlmoittautumiset 15.3 mennessä tästä linkistä: https://ssl.eventilla.com/murteet \nLähetämme osallistumislinkin ilmoittautuneille. \nWebinaari on osa Euroopan kulttuuriympäristöpäivien tapahtumia. \n  \nOHJELMA \n16.00 Murteet elävät! Leena Marsio\, Museovirasto ja Sirpa Huttunen\, Kalevalaisten Naisten Liitto \n16.15 Kotiseudulta kajahtaa\, Anna-Maija Korhonen\, Suomen Kotiseutuliitto \n16.20 Miten murteiden muutosta voi tutkia? Marjatta Palander\, Itä-Suomen yliopisto \n16.35 Murreaineistoja Kotuksen verkkopalveluissa\, Ulriikka Puura\, Kotimaisten kielten keskus \n16.40 Ruotsinkieliset aineisto\, Yrsa Lindqvist\, Svenska Litteratursällskapet i Finland \n16.45 Eläviä esimerkkejä eri puolilta Suomea \n\nTrossaaminen Etelä-Pohjanmaalta\, Anita Malkamäki\, Seinäjoen Kalevalaiset Naiset\nTälviisii – karjalan murteet somessa\, Mervi Piipponen\, Karjalan liitto\nMurteet matkailuelämyksenä\, Leena Sälli\, auktorisoitu alue- ja paikallisopas\, Ikaalinen\n\n17.20 Keskustelua \n17.30 Jakautuminen pienryhmiin: Elävätkö murteet? Hyviä työkaluja murretyöhön. Jaa oma onnistumisesi tai mietteesi. \n17.50 Yhteenvetoa \n18.00 Webinaari päättyy \n  \nLisätiedot\nLeena Marsio\, Museovirasto\, leena.marsio@museovirasto.fi\nSirpa Huttunen\, Kalevalaisten Naisten Liitto Sirpa.huttunen@kalevalaistennaistenliitto.fi \nElävän perinnön ringit
URL:https://kotiseutuliitto.fi/tapahtuma/elavatko-murteet-webinaari/
LOCATION:Verkkotapahtuma
ATTACH;FMTTYPE=image/png:https://kotiseutuliitto.fi/wp-content/uploads/2021/02/Kuva1.png
END:VEVENT
BEGIN:VEVENT
DTSTART;TZID=Europe/Helsinki:20210317T160000
DTEND;TZID=Europe/Helsinki:20210317T180000
DTSTAMP:20260424T051041
CREATED:20210212T114826Z
LAST-MODIFIED:20210212T115219Z
UID:10000367-1615996800-1616004000@kotiseutuliitto.fi
SUMMARY:Lapin maakunnallinen kokous
DESCRIPTION:Lapin kotiseututoimijoiden maakunnallinen kokous ja ajankohtaiskeskustelu \nLapin kotiseututoimijoiden kokous järjestetään tänä keväänä etätilaisuutena. Tervetuloa mukaan vaikka useammankin osallistujan voimin! \nPaikka: Etätilaisuus\, Microsoft Teams (Liittymislinkki lähetetään ilmoittautuneille) \nIlmoittautumislinkki: http://bit.ly/Maakunnat2021 \nAika: 17.3.2021 klo 16–18 \nOhjelma\n– Kotiseutuliiton ajankohtaiset asiat: toiminnanjohtaja Riitta Vanhatalo ja järjestöpäällikkö Marika Punamäki\n– Lapin maakuntamuseon tervehdys: museojohtaja Hanna Kyläniemi\n– Maakunnan ehdokkaan valitseminen ehdolle Kotiseutuliiton valtuustoon\n– Jäsenyhteisöjen kuulumisia\, keskustelua \nValtuuston lopullinen valinta tehdään Kotiseutuliiton vuosikokouksessa 13.8.2021 Oulussa. \nTänä vuonna erovuorossa on itäisen Lapin edustajana yhden kauden toiminut Hannu Hakanpää. Valintaa varten tiedoksi: Kotiseutuliiton suositus on\, että valtuutettu istuisi vähintään kaksi kautta ja enintään kolme. Näin saadaan sekä jatkuvuutta että muutosta. \nIlmoittauduthan etukäteen osoitteessa: http://bit.ly/Maakunnat2021\nKokouksen liittymislinkki ja ohjeistusta lähetetään viimeisenä tilaisuutta edeltävänä arkipäivänä\, joten ilmoittauduthan sitä ennen. Lisätietoja ilmoittautumisesta ja kokoukseen liittymisestä voi kysyä Kotiseutuliiton toimistosta: toimisto@kotiseutuliitto.fi / 041 319 3720. Toimiston sähköpostia käytetään myös tarpeen mukaan äänestykseen. Tarkempaa ohjeistusta tulee osallistujille kokouksen liittymislinkin lähetyksen yhteydessä sekä itse kokouksessa. \nLämpimästi tervetuloa!
URL:https://kotiseutuliitto.fi/tapahtuma/lapin-maakunnallinen-kokous-2/
LOCATION:Verkkotapahtuma
ATTACH;FMTTYPE=image/jpeg:https://kotiseutuliitto.fi/wp-content/uploads/2021/02/Maakunnalliset-kokoukset.jpg
END:VEVENT
BEGIN:VEVENT
DTSTART;TZID=Europe/Helsinki:20210301T160000
DTEND;TZID=Europe/Helsinki:20210301T180000
DTSTAMP:20260424T051041
CREATED:20210212T114131Z
LAST-MODIFIED:20210212T115046Z
UID:10000366-1614614400-1614621600@kotiseutuliitto.fi
SUMMARY:Etelä-Pohjanmaan maakunnallinen kokous
DESCRIPTION:Etelä-Pohjanmaan kotiseututoimijoiden maakunnallinen kokous ja ajankohtaiskeskustelu \nEtelä-Pohjanmaan kotiseututoimijoiden kokous järjestetään tuttuun tapaan Kotiseutuliiton ja Etelä-Pohjanmaan liiton yhteistyönä\, mutta tällä kertaa etätilaisuutena. Tervetuloa mukaan vaikka useammankin osallistujan voimin! \nPaikka: Etätilaisuus\, Microsoft Teams (Liittymislinkki lähetetään ilmoittautuneille)\nIlmoittautumislinkki: http://bit.ly/Maakunnat2021 \nAika: 1.3.2021 klo 16–18 \nOhjelma\n– Maakunnan liiton tervehdys\n– Kotiseutuliiton ajankohtaiset asiat: toiminnanjohtaja Riitta Vanhatalo ja järjestöpäällikkö Marika Punamäki\n– Alueellisen vastuumuseon puheenvuoro: museotoimenjohtaja Susanna Tyrväinen\n– Maakunnan ehdokkaan valitseminen ehdolle Kotiseutuliiton valtuustoon\n– Jäsenyhteisöjen kuulumisia\, keskustelua \nValtuuston lopullinen valinta tehdään Kotiseutuliiton vuosikokouksessa 13.8.2021 Oulussa. \nTänä vuonna erovuorossa on maakunnan edustajana yhden kauden toiminut Tuija Ahola.\nValintaa varten tiedoksi: Kotiseutuliiton suositus on\, että valtuutettu istuisi vähintään kaksi kautta ja enintään kolme. Näin saadaan sekä jatkuvuutta että muutosta. \nIlmoittauduthan etukäteen osoitteessa: http://bit.ly/Maakunnat2021\nKokouksen liittymislinkki ja ohjeistusta lähetetään viimeisenä tilaisuutta edeltävänä arkipäivänä\, joten ilmoittauduthan sitä ennen. Lisätietoja ilmoittautumisesta ja kokoukseen liittymisestä voi kysyä Kotiseutuliiton toimistosta: toimisto@kotiseutuliitto.fi / 041 319 3720. Toimiston sähköpostia käytetään myös\, jos tarvetta on suljettuun lippuäänestykseen. Tarkempaa ohjeistusta tulee osallistujille liittymislinkin lähetyksen yhteydessä sekä kokouksessa. \nLämpimästi tervetuloa!
URL:https://kotiseutuliitto.fi/tapahtuma/etela-pohjanmaan-maakunnallinen-kokous/
LOCATION:Verkkotapahtuma
ATTACH;FMTTYPE=image/jpeg:https://kotiseutuliitto.fi/wp-content/uploads/2021/02/Maakunnalliset-kokoukset.jpg
END:VEVENT
BEGIN:VEVENT
DTSTART;TZID=Europe/Helsinki:20210204T123000
DTEND;TZID=Europe/Helsinki:20210204T150000
DTSTAMP:20260424T051041
CREATED:20201217T085135Z
LAST-MODIFIED:20210204T110042Z
UID:10000361-1612441800-1612450800@kotiseutuliitto.fi
SUMMARY:Kulttuuriympäristöpäivien Rajaton ja avoin -teeman verkkoavajaiset
DESCRIPTION:Kaikilla on oikeus nauttia kulttuuriperinnöstä ja luoda uutta. Rajoja ylittämällä ja kynnyksiä madaltamalla yhä useammalla on mahdollisuus päästä osalliseksi kulttuuriperinnöstä. Euroopan kulttuuriympäristöpäivien vuoden 2021 teema Rajaton ja avoin kannustaa ylittämään monenlaisia rajoja. \nKulttuuriympäristöpäivät kutsuu kuulemaan kiinnostavia puheenvuoroja saavutettavasta kulttuuriperinnöstä teeman verkkoavajaisiin 4. helmikuuta 2021. Tapahtumassa kuullaan myös esimerkkejä rajoja ylittävistä tapahtumista ja järjestäjien kokemuksia niiden järjestämisestä. \nVoit lähettää etukäteen kysymyksiä kulttuuriympäristöpäivien tapahtumien järjestämisestä ja saavutettavuudesta\, vastaamme niihin tilaisuuden lopuksi. Lähetä kysymyksesi etukäteen osoitteeseen erp@kotiseutuliitto.fi. \nIlmoittautuminen tapahtumaan on päättynyt.  \nKulttuuriympäristöpäivien Rajaton ja avoin -teeman verkkoavajaisissa 4. helmikuuta 2021 klo 12.30-15 \nkuullaan puheenvuoroja saavutettavasta kulttuuriperinnöstä sekä esimerkkejä ja vinkkejä rajoja ylittävistä tapahtumista. \nTeemavuoden avaus / opetus- ja kulttuuriministeriö\, ylijohtaja Riitta Kaivosoja \nSaavutettava kulttuuriperintö / Kulttuuria kaikille -palvelu\, eritysasiantuntija Sari Salovaara \nMoninaisuus ja ylisukupolvisuus kulttuuriperintötyössä / Suomen Kotiseutuliitto\, toiminnanjohtaja Riitta Vanhatalo \nKulttuurihistoriallisten rakennusten esteettömyys / Museovirasto\, yli-intendentti Helena Hirviniemi \nOmatoiminen kahvitauko\, noin klo 14-14.15 \n  \nEuroopan kulttuuriympäristöpäivät ja rajat ylittävät tapahtumat / Euroopan kulttuuriympäristöpäivien koordinaattori Jonina Vaahtolammi \nKysymyksiä ja vastauksia Euroopan kulttuuriympäristöpäivistä ja saavutettavuudesta / vastaamassa kulttuuriympäristöpäivien työryhmä ja Kulttuuria kaikille -palvelu \n  \nTilaisuus päättyy klo 15 mennessä. \n  \nOsallistumislinkki lähetetään ilmoittautuneille sähköpostitse ennen tapahtumaa. Tapahtuma saatetaan tallentaa. \nLämpimästi tervetuloa kaikki teemasta ja kulttuuriympäristötapahtumien järjestämisestä kiinnostuneet! \n  \nLisätietoja: koordinaattori Jonina Vaahtolammi\, Suomen Kotiseutuliitto\, erp@kotiseutuliitto.fi\, puh. 044 974 1705
URL:https://kotiseutuliitto.fi/tapahtuma/kulttuuriymparistopaivien-rajaton-ja-avoin-teeman-verkkoavajaiset/
LOCATION:Verkkotapahtuma
ATTACH;FMTTYPE=image/jpeg:https://kotiseutuliitto.fi/wp-content/uploads/2020/12/Verkkoavajaiset-kansi-2021-pieni.jpg
END:VEVENT
BEGIN:VEVENT
DTSTART;TZID=Europe/Helsinki:20210128T130000
DTEND;TZID=Europe/Helsinki:20210128T153000
DTSTAMP:20260424T051041
CREATED:20201218T081738Z
LAST-MODIFIED:20210126T054414Z
UID:10000362-1611838800-1611847800@kotiseutuliitto.fi
SUMMARY:Korjausklinikka: painovoimainen ilmanvaihto -verkkotapahtuma
DESCRIPTION:Painovoimainen ilmanvaihto herättää keskustelua ja erilaisia mielipiteitä. Painovoimainen ilmanvaihto on oikein käytettynä ja huollettuna hyvä ja toimiva perinteinen keino rakennuksen ilmanvaihdon järjestämiseen. Tervetuloa Korjausklinikka-hankkeen verkkotapahtumaan torstaina 28. tammikuuta kuulemaan lisää painovoimaisesta ilmanvaihdosta ja sen parantamisesta. \nKestävän korjaamisen Korjausklinikka-hanke teetti selvityksen Heinolan Paakarintuvan ilmanvaihdosta ja sen parantamisesta yhteistyössä Heinolan kaupungin kanssa. Kaupunki kunnostaa Heinolan museon käytössä olevaa\, vuonna 1871 valmistunutta Paakarintupaa\, ja samalla ilmanvaihtoa parannetaan. Verkkotapahtumassa selvityksen tekijä\, LVI-insinööri Jari Ketola LVI Kalske Oy:stä kertoo painovoimaisesta ilmanvaihdosta ja sen parantamisesta Paakarintuvassa. \nLisäksi Museovirastolta on tulossa uusi korjauskortti painovoimaisen ilmanvaihdon käytöstä ja huollosta. Verkkotapahtumassa yliarkkitehti Pekka Lehtinen kertoo uudesta korjauskortista. \nSuora osallistumislinkki tapahtumaan: https://lut.zoom.us/j/65896783905?pwd=b3QvL0ZZQk9CalpVNEt0YWx0a0pNZz09 \nTervetuloa kuulemaan lisää painovoimaisesta ilmanvaihdosta!
URL:https://kotiseutuliitto.fi/tapahtuma/korjausklinikka-painovoimainen-ilmanvaihto-verkkotapahtuma/
LOCATION:Verkkotapahtuma
ATTACH;FMTTYPE=image/png:https://kotiseutuliitto.fi/wp-content/uploads/2020/12/FBkansi_painovoimainen_ilmanvaihto-1.png
END:VEVENT
END:VCALENDAR