BEGIN:VCALENDAR
VERSION:2.0
PRODID:-//Suomen Kotiseutuliitto - ECPv6.15.20//NONSGML v1.0//EN
CALSCALE:GREGORIAN
METHOD:PUBLISH
X-WR-CALNAME:Suomen Kotiseutuliitto
X-ORIGINAL-URL:https://kotiseutuliitto.fi
X-WR-CALDESC:Tapahtumat Suomen Kotiseutuliitto
REFRESH-INTERVAL;VALUE=DURATION:PT1H
X-Robots-Tag:noindex
X-PUBLISHED-TTL:PT1H
BEGIN:VTIMEZONE
TZID:Europe/Helsinki
BEGIN:DAYLIGHT
TZOFFSETFROM:+0200
TZOFFSETTO:+0300
TZNAME:EEST
DTSTART:20180325T010000
END:DAYLIGHT
BEGIN:STANDARD
TZOFFSETFROM:+0300
TZOFFSETTO:+0200
TZNAME:EET
DTSTART:20181028T010000
END:STANDARD
BEGIN:DAYLIGHT
TZOFFSETFROM:+0200
TZOFFSETTO:+0300
TZNAME:EEST
DTSTART:20190331T010000
END:DAYLIGHT
BEGIN:STANDARD
TZOFFSETFROM:+0300
TZOFFSETTO:+0200
TZNAME:EET
DTSTART:20191027T010000
END:STANDARD
BEGIN:DAYLIGHT
TZOFFSETFROM:+0200
TZOFFSETTO:+0300
TZNAME:EEST
DTSTART:20200329T010000
END:DAYLIGHT
BEGIN:STANDARD
TZOFFSETFROM:+0300
TZOFFSETTO:+0200
TZNAME:EET
DTSTART:20201025T010000
END:STANDARD
BEGIN:DAYLIGHT
TZOFFSETFROM:+0200
TZOFFSETTO:+0300
TZNAME:EEST
DTSTART:20210328T010000
END:DAYLIGHT
BEGIN:STANDARD
TZOFFSETFROM:+0300
TZOFFSETTO:+0200
TZNAME:EET
DTSTART:20211031T010000
END:STANDARD
BEGIN:DAYLIGHT
TZOFFSETFROM:+0200
TZOFFSETTO:+0300
TZNAME:EEST
DTSTART:20220327T010000
END:DAYLIGHT
BEGIN:STANDARD
TZOFFSETFROM:+0300
TZOFFSETTO:+0200
TZNAME:EET
DTSTART:20221030T010000
END:STANDARD
BEGIN:DAYLIGHT
TZOFFSETFROM:+0200
TZOFFSETTO:+0300
TZNAME:EEST
DTSTART:20230326T010000
END:DAYLIGHT
BEGIN:STANDARD
TZOFFSETFROM:+0300
TZOFFSETTO:+0200
TZNAME:EET
DTSTART:20231029T010000
END:STANDARD
BEGIN:DAYLIGHT
TZOFFSETFROM:+0200
TZOFFSETTO:+0300
TZNAME:EEST
DTSTART:20240331T010000
END:DAYLIGHT
BEGIN:STANDARD
TZOFFSETFROM:+0300
TZOFFSETTO:+0200
TZNAME:EET
DTSTART:20241027T010000
END:STANDARD
BEGIN:DAYLIGHT
TZOFFSETFROM:+0200
TZOFFSETTO:+0300
TZNAME:EEST
DTSTART:20250330T010000
END:DAYLIGHT
BEGIN:STANDARD
TZOFFSETFROM:+0300
TZOFFSETTO:+0200
TZNAME:EET
DTSTART:20251026T010000
END:STANDARD
END:VTIMEZONE
BEGIN:VEVENT
DTSTART;TZID=Europe/Helsinki:20241005T160000
DTEND;TZID=Europe/Helsinki:20241005T163000
DTSTAMP:20260423T132259
CREATED:20240930T124105Z
LAST-MODIFIED:20240930T124105Z
UID:10002809-1728144000-1728145800@kotiseutuliitto.fi
SUMMARY:Vuoden kotiseututeoksen julkistaminen Turun kirjamessuilla: Uskotko kotiseutuun piispa Mari Leppänen?
DESCRIPTION:Meillä jokaisella on kotiseutu\, monella useitakin. Miten yhteisömme voisi olla kotoisa heillekin\, jotka tuntevat täällä jäävänsä syrjään? Kenen ääni kotiseutukirjoissa kuuluu? Minkä kolmesta finaaliin päässeestä teoksesta Mari Leppänen on valinnut Vuoden kotiseututeokseksi ja miksi? Leppästä jututtaa Vuoden kotiseututeos -raadin puheenjohtaja\, kotiseutuneuvos Jukka Hako.
URL:https://kotiseutuliitto.fi/tapahtuma/vuoden-kotiseututeoksen-julkistaminen-turun-kirjamessuilla-uskotko-kotiseutuun-piispa-mari-leppanen/
LOCATION:Turun messukeskus\, Messukentänkatu 9-13\, Turku\, Suomi
ATTACH;FMTTYPE=image/jpeg:https://kotiseutuliitto.fi/wp-content/uploads/2024/09/Mari-Leppanen-Jukka-Hako-ja-Vuoden-kotiseututeos-finalistit-2024-Turun-kirjamessuilla-16_9-Kuva-Anna-Maija-Halme-some.jpg
END:VEVENT
BEGIN:VEVENT
DTSTART;TZID=Europe/Helsinki:20211002T140000
DTEND;TZID=Europe/Helsinki:20211002T142500
DTSTAMP:20260423T132259
CREATED:20210914T124613Z
LAST-MODIFIED:20210927T080709Z
UID:10000395-1633183200-1633184700@kotiseutuliitto.fi
SUMMARY:Seuraa paikan päällä tai etänä: Vuoden Kotiseututeoksen julkistaminen ja keskustelua kotiseutukirjallisuudesta Turun kirjamessuilla
DESCRIPTION:Tiina Merisalo kotiseudullaan Helsingin Vartiokylässä. Kuva: M. Merisalo\nTervetuloa Turun kirjamessujen Kuisti-lavalle kuulemaan tuoreeltaan\, mikä paikallista historiaa käsittelevä teos valitaan Vuoden kotiseututeokseksi. Mukana keskustelemassa kotiseutukirjallisuudesta voittajakirjan tekijät\, Tiina Merisalo ja Teppo Ylitalo. Kunniakirjan luovuttavat Tiina Merisalo ja Jukka Hako. \nkotiseutukirjallisuudesta Turun kirjamessujen Kuisti-lavalla lauantaina 2. lokakuuta 2021 kello 14–14.25. \nTilaisuus striimataan suorana lähetyksenä Facebookiin aiemmista vuosista tuttuun tapaan. \nKotiseutuliitto Facebookissa: www.facebook.com/Kotiseutuliitto \nFinalistit 2021: \nwww.kotiseutuliitto.fi/heinolasta-koitereesta-ja-konginkankaalaisista-siirtolaisista-kertovat-kirjat-valittiin-vuoden-kotiseututeos-finaaliin  \nKirjamakasiini \n \n 
URL:https://kotiseutuliitto.fi/tapahtuma/vuoden-kotiseututeoksen-julkistaminen-ja-keskustelua-kotiseutukirjallisuudesta-turun-kirjamessuilla/
LOCATION:Turun messukeskus\, Messukentänkatu 9-13\, Turku\, Suomi
ATTACH;FMTTYPE=image/jpeg:https://kotiseutuliitto.fi/wp-content/uploads/2021/09/Vuoden-kotiseututeos-finalistit-2021-some.jpg
END:VEVENT
BEGIN:VEVENT
DTSTART;TZID=Europe/Helsinki:20191005T125000
DTEND;TZID=Europe/Helsinki:20191005T132000
DTSTAMP:20260423T132259
CREATED:20190821T063726Z
LAST-MODIFIED:20190920T073845Z
UID:10000231-1570279800-1570281600@kotiseutuliitto.fi
SUMMARY:Turun kirjamessujen Kuisti-lavalla lauantaina Kotiseutuliiton ohjelmaa: Paikallisuuden paikka – mitä kuuluu kotiseutukirjallisuudelle?
DESCRIPTION:Turun kirjamessujen Kuista-lavalla on lauantaina Kotiseutuliiton ohjelmaa. Paikallisuuden paikka – mitä kuuluu kotiseutukirjallisuudelle? -keskustelussa ovat mukana Euroopan historian professori Laura Kolbe\, runoilija Heli Laaksonen ja FT\, toiminnanjohtaja Riitta Vanhatalo. Moderaattorina toimii historiantutkija\, kotiseutuaktiivi Teppo Ylitalo. \n 
URL:https://kotiseutuliitto.fi/tapahtuma/turun-kirjamessujen-kuisti-lavalla-lauantaina-kotiseutuliiton-ohjelmaa-paikallisuuden-paikka-mita-kuuluu-kotiseutukirjallisuudelle/
LOCATION:Turun messukeskus\, Messukentänkatu 9-13\, Turku\, Suomi
ATTACH;FMTTYPE=image/jpeg:https://kotiseutuliitto.fi/wp-content/uploads/2019/08/Kotiseutuliiton_esiintyjat_Turunkirjamessut2019_netti.jpg
END:VEVENT
END:VCALENDAR