BEGIN:VCALENDAR
VERSION:2.0
PRODID:-//Suomen Kotiseutuliitto - ECPv6.15.20//NONSGML v1.0//EN
CALSCALE:GREGORIAN
METHOD:PUBLISH
X-ORIGINAL-URL:https://kotiseutuliitto.fi
X-WR-CALDESC:Tapahtumat Suomen Kotiseutuliitto
REFRESH-INTERVAL;VALUE=DURATION:PT1H
X-Robots-Tag:noindex
X-PUBLISHED-TTL:PT1H
BEGIN:VTIMEZONE
TZID:Europe/Helsinki
BEGIN:DAYLIGHT
TZOFFSETFROM:+0200
TZOFFSETTO:+0300
TZNAME:EEST
DTSTART:20180325T010000
END:DAYLIGHT
BEGIN:STANDARD
TZOFFSETFROM:+0300
TZOFFSETTO:+0200
TZNAME:EET
DTSTART:20181028T010000
END:STANDARD
BEGIN:DAYLIGHT
TZOFFSETFROM:+0200
TZOFFSETTO:+0300
TZNAME:EEST
DTSTART:20190331T010000
END:DAYLIGHT
BEGIN:STANDARD
TZOFFSETFROM:+0300
TZOFFSETTO:+0200
TZNAME:EET
DTSTART:20191027T010000
END:STANDARD
BEGIN:DAYLIGHT
TZOFFSETFROM:+0200
TZOFFSETTO:+0300
TZNAME:EEST
DTSTART:20200329T010000
END:DAYLIGHT
BEGIN:STANDARD
TZOFFSETFROM:+0300
TZOFFSETTO:+0200
TZNAME:EET
DTSTART:20201025T010000
END:STANDARD
BEGIN:DAYLIGHT
TZOFFSETFROM:+0200
TZOFFSETTO:+0300
TZNAME:EEST
DTSTART:20210328T010000
END:DAYLIGHT
BEGIN:STANDARD
TZOFFSETFROM:+0300
TZOFFSETTO:+0200
TZNAME:EET
DTSTART:20211031T010000
END:STANDARD
BEGIN:DAYLIGHT
TZOFFSETFROM:+0200
TZOFFSETTO:+0300
TZNAME:EEST
DTSTART:20220327T010000
END:DAYLIGHT
BEGIN:STANDARD
TZOFFSETFROM:+0300
TZOFFSETTO:+0200
TZNAME:EET
DTSTART:20221030T010000
END:STANDARD
END:VTIMEZONE
BEGIN:VEVENT
DTSTART;TZID=Europe/Helsinki:20210423T173000
DTEND;TZID=Europe/Helsinki:20210424T153000
DTSTAMP:20260424T113349
CREATED:20210114T115643Z
LAST-MODIFIED:20210409T115317Z
UID:10000364-1619199000-1619278200@kotiseutuliitto.fi
SUMMARY:Kotiseutuarkistojen tietosuojakoulutus\, Oulu
DESCRIPTION:Suomen Kotiseutuliitto käynnistää kotiseutuarkistoille ja paikallismuseoille suunnatun tietosuojakoulutusten sarjan. \nVuonna 2018 voimaan tullut EU:n tietosuoja-asetus ja 2019 voimaan tullut tietosuojalaki ovat tuoneet uusia haasteita arkistoille. Kotiseutuliiton koulutuksessa käydään läpi kotiseutuarkistojen roolia\, tietosuojalainsäädäntöä sekä sen vaatimuksia kotiseutuarkistoille ja arkistojen järjestämiselle. \nTietosuojakoulutus Oulussa 23.-24.4. \nOulun tietosuojakoulutus alkaa perjantai-iltana 23.4. ja koulutus jatkuu lauantaina 24.4. Koulutus toteutetaan etäkoulutuksena Teams-ympäristössä. Koulutuksen osallistumismaksu on 20 euroa. \nKoulutuksia on tulossa lisää vuoden 2021 aikana eri puolille Suomea. \nKoulutus toteutetaan yhteistyössä Kansallisarkiston kanssa ja sitä rahoittaa opetus- ja kulttuuriministeriö. \n\nOulun koulutuksen ohjelma ja ilmoittautuminen\nLue lisää koulutuksesta: Hankkeet > Tietosuojakoulutus\n\n  \nLisätiedot: koordinaattori Jonina Vaahtolammi\, etunimi.sukunimi@kotiseutuliitto.fi \n 
URL:https://kotiseutuliitto.fi/tapahtuma/kotiseutuarkistojen-tietosuojakoulutus/
LOCATION:Oulu
ATTACH;FMTTYPE=image/jpeg:https://kotiseutuliitto.fi/wp-content/uploads/2021/01/Tietosuojakoulutus-tunnuskuva2.jpg
END:VEVENT
BEGIN:VEVENT
DTSTART;TZID=Europe/Helsinki:20190409T160000
DTEND;TZID=Europe/Helsinki:20190409T180000
DTSTAMP:20260424T113349
CREATED:20181220T153745Z
LAST-MODIFIED:20190207T131046Z
UID:10000311-1554825600-1554832800@kotiseutuliitto.fi
SUMMARY:Pohjois-Pohjanmaan kotiseututoimijoiden maakunnallinen kokous
DESCRIPTION:Pohjois-Pohjanmaan maakunnan kotiseututoimijoiden kokous järjestetään tänäkin vuonna tuttuun tapaan Kotiseutuliiton ja maakunnan liiton yhteistyönä. Tilaisuus on tarkoitettu kaikille maakunnan alueen kotiseutu- ja kulttuuritoimijoille. Tervetuloa mukaan\, vaikka useammankin osallistujan voimin! Tarjolla kahvia ja virvokkeita. Myös Kotiseutuklubin jäsenet\, tervetuloa mukaan! \nAika: tiistai 9.4.2019 klo 16-18\nPaikka: Pohjois-Pohjanmaan liiton Siikasali\, Oulun keskustan Technopolis \nSepänkatu 20\, 1. krs. Talossa on parkkihalli Nummikadun puolella. \nOhjelma\n– Kahvitarjoilut\n– Maakunnan liiton tervehdys: maakuntajohtaja Pauli Harju\n– Kotiseutuliiton osio & Valtakunnalliset kotiseutupäivät 2021: toiminnanjohtaja Riitta Vanhatalo\n– Oulu\, kulttuuripääkaupunki 2026: hankejohtaja Piia Rantala-Korhonen ja projektipäällikkö Heli Metsäpelto.\n– Valtuutettujen puheenvuorot: Hanna Järviluoma ja Jouko Arvola\n– Maakunnan ehdokkaan valitseminen ehdolle Kotiseutuliiton valtuustoon\n– Maakunnan kulttuurikuulumisia / maakunnan liitto: Auli Suorsa\n– Jäsenyhteisöjen kuulumisia\, keskustelua \nValtuuston lopullinen valinta tapahtuu Kotiseutuliiton vuosikokouksessa 10.8.2019 Tuusulassa. \nTänä vuonna erovuorossa on maakunnan edustajana yhden kauden toiminut Jouko Arvola Oulusta. Kotiseutuliiton suosituksen mukaan toivotaan\, että valtuutettu istuisi vähintään kaksi kautta ja enintään kolme. Näin saadaan samalla sekä jatkuvuutta että muutosta. \nKahvitarjoilua varten pyydämme ilmoittautumiset tilaisuuteen viimeistään viikkoa ennen tilaisuutta osoitteeseen toimisto@kotiseutuliitto.fi tai puh. (09) 612 6320. Samaan osoitteeseen voitte kertoa ajatuksianne alueen valtuustoehdokkaasta.
URL:https://kotiseutuliitto.fi/tapahtuma/pohjois-pohjanmaan-kotiseututoimijoiden-maakunnallinen-kokous/
LOCATION:Oulu
ATTACH;FMTTYPE=image/jpeg:https://kotiseutuliitto.fi/wp-content/uploads/2018/12/kotiseutuliittovaaka-s.jpg
END:VEVENT
END:VCALENDAR