BEGIN:VCALENDAR
VERSION:2.0
PRODID:-//Suomen Kotiseutuliitto - ECPv6.15.20//NONSGML v1.0//EN
CALSCALE:GREGORIAN
METHOD:PUBLISH
X-ORIGINAL-URL:https://kotiseutuliitto.fi
X-WR-CALDESC:Tapahtumat Suomen Kotiseutuliitto
REFRESH-INTERVAL;VALUE=DURATION:PT1H
X-Robots-Tag:noindex
X-PUBLISHED-TTL:PT1H
BEGIN:VTIMEZONE
TZID:Europe/Helsinki
BEGIN:DAYLIGHT
TZOFFSETFROM:+0200
TZOFFSETTO:+0300
TZNAME:EEST
DTSTART:20180325T010000
END:DAYLIGHT
BEGIN:STANDARD
TZOFFSETFROM:+0300
TZOFFSETTO:+0200
TZNAME:EET
DTSTART:20181028T010000
END:STANDARD
BEGIN:DAYLIGHT
TZOFFSETFROM:+0200
TZOFFSETTO:+0300
TZNAME:EEST
DTSTART:20190331T010000
END:DAYLIGHT
BEGIN:STANDARD
TZOFFSETFROM:+0300
TZOFFSETTO:+0200
TZNAME:EET
DTSTART:20191027T010000
END:STANDARD
BEGIN:DAYLIGHT
TZOFFSETFROM:+0200
TZOFFSETTO:+0300
TZNAME:EEST
DTSTART:20200329T010000
END:DAYLIGHT
BEGIN:STANDARD
TZOFFSETFROM:+0300
TZOFFSETTO:+0200
TZNAME:EET
DTSTART:20201025T010000
END:STANDARD
BEGIN:DAYLIGHT
TZOFFSETFROM:+0200
TZOFFSETTO:+0300
TZNAME:EEST
DTSTART:20210328T010000
END:DAYLIGHT
BEGIN:STANDARD
TZOFFSETFROM:+0300
TZOFFSETTO:+0200
TZNAME:EET
DTSTART:20211031T010000
END:STANDARD
END:VTIMEZONE
BEGIN:VEVENT
DTSTART;TZID=Europe/Helsinki:20201114T130000
DTEND;TZID=Europe/Helsinki:20201114T160000
DTSTAMP:20260422T174254
CREATED:20201023T124855Z
LAST-MODIFIED:20201023T124855Z
UID:10000257-1605358800-1605369600@kotiseutuliitto.fi
SUMMARY:Ylä-Savon seuran sääntömääräiset kevät- ja syyskokoukset
DESCRIPTION:Sääntömääräisten asioiden lisäksi toimittaja Vuokko Nissinen Iisalmesta esittelee kirjoittamaansa kirjan ”Veikon valtakunta” Veikko Hakkaraisesta. \nIlona ja Annika Heinonen musisoivat. \nArpajaiset. \nLopuksi syödään aitoa savolaista mykyrokkaa lisukkeineen. \nHinta jäsen 15 e/hlö ja muut 20 e/hlö. \nIlm. raija.komulainen@hotmail.fi p. 050 9102 136 \n 
URL:https://kotiseutuliitto.fi/tapahtuma/yla-savon-seuran-saantomaaraiset-kevat-ja-syyskokoukset/
LOCATION:  Malmin Työväentalo\, Takaniitynkuja 9\, Helsinki
ORGANIZER;CN="Yl%C3%A4-Savon seura ry":MAILTO:raija.komulainen@hotmail.fi
END:VEVENT
BEGIN:VEVENT
DTSTART;TZID=Europe/Helsinki:20200321T130000
DTEND;TZID=Europe/Helsinki:20200321T160000
DTSTAMP:20260422T174254
CREATED:20200205T092121Z
LAST-MODIFIED:20200317T072423Z
UID:10000345-1584795600-1584806400@kotiseutuliitto.fi
SUMMARY:PERUTTU: Ylä-Savon seuran sääntömääräinen kevätkokous
DESCRIPTION:KOKOUS PERUTAAN KORONAVIRUKSEN VUOKSI JA UUSI SOVITAAN MYÖHEMMIN \nKokouksen lisäksi Ilona ja Annika Heinonen soittavat ja laulavat. \nMenu: tirripaisti\, talkkuna\, perunat\, kahvi/tee pullaa\, kotitekoista simaa ja keksejä. Hinta jäsen 15 e ja ei-jäsen 20 e. \nIlm. raija.komulainen @ hotmail.fi tai p. 050 9102 136. Arpajaiset. Kaikki ovat tervetulleita.
URL:https://kotiseutuliitto.fi/tapahtuma/yla-savon-seuran-saantomaarainen-kevatkokous/
LOCATION:  Malmin Työväentalo\, Takaniitynkuja 9\, Helsinki
END:VEVENT
BEGIN:VEVENT
DTSTART;TZID=Europe/Helsinki:20191116T130000
DTEND;TZID=Europe/Helsinki:20191116T160000
DTSTAMP:20260422T174254
CREATED:20191114T132249Z
LAST-MODIFIED:20191114T132319Z
UID:10000339-1573909200-1573920000@kotiseutuliitto.fi
SUMMARY:  Ylä-Savon seuran sääntömääräinen syyskokous
DESCRIPTION:Syyskokouksen lisäksi valitaan seuralle uusi piällysmies. Kirjailija Sirpa Kähkönen paikalla uusine kirjoineen sekä musiikista vastaa JAPE-orkesteri. Perinteistä savolaista mykyrokkaa 20 e ruoka. Ilm. tellervo.ukkonen@elisanet.fi tai p. 050 529 1630. Kaikki ovat tervetulleita! \nJärjestäjä: Ylä-Savon seura ry \n 
URL:https://kotiseutuliitto.fi/tapahtuma/yla-savon-seuran-saantomaarainen-syyskokous/
LOCATION:  Malmin Työväentalo\, Takaniitynkuja 9\, Helsinki
END:VEVENT
END:VCALENDAR