BEGIN:VCALENDAR
VERSION:2.0
PRODID:-//Suomen Kotiseutuliitto - ECPv6.15.20//NONSGML v1.0//EN
CALSCALE:GREGORIAN
METHOD:PUBLISH
X-ORIGINAL-URL:https://kotiseutuliitto.fi
X-WR-CALDESC:Tapahtumat Suomen Kotiseutuliitto
REFRESH-INTERVAL;VALUE=DURATION:PT1H
X-Robots-Tag:noindex
X-PUBLISHED-TTL:PT1H
BEGIN:VTIMEZONE
TZID:Europe/Helsinki
BEGIN:DAYLIGHT
TZOFFSETFROM:+0200
TZOFFSETTO:+0300
TZNAME:EEST
DTSTART:20180325T010000
END:DAYLIGHT
BEGIN:STANDARD
TZOFFSETFROM:+0300
TZOFFSETTO:+0200
TZNAME:EET
DTSTART:20181028T010000
END:STANDARD
BEGIN:DAYLIGHT
TZOFFSETFROM:+0200
TZOFFSETTO:+0300
TZNAME:EEST
DTSTART:20190331T010000
END:DAYLIGHT
BEGIN:STANDARD
TZOFFSETFROM:+0300
TZOFFSETTO:+0200
TZNAME:EET
DTSTART:20191027T010000
END:STANDARD
BEGIN:DAYLIGHT
TZOFFSETFROM:+0200
TZOFFSETTO:+0300
TZNAME:EEST
DTSTART:20200329T010000
END:DAYLIGHT
BEGIN:STANDARD
TZOFFSETFROM:+0300
TZOFFSETTO:+0200
TZNAME:EET
DTSTART:20201025T010000
END:STANDARD
END:VTIMEZONE
BEGIN:VEVENT
DTSTART;VALUE=DATE:20191025
DTEND;VALUE=DATE:20191102
DTSTAMP:20260423T113455
CREATED:20190620T063720Z
LAST-MODIFIED:20191021T054532Z
UID:10000229-1571961600-1572652799@kotiseutuliitto.fi
SUMMARY:Etelä-Savon ja Pohjois-Savon koulutus paikallismuseonhoitajille
DESCRIPTION:Etelä-Savon ja Pohjois-Savon paikallismuseonhoitajien koulutus tarjoaa eväitä paikallismuseon hoitamiseen\, keinoja oman museon kehittämiseen sekä innostusta ja vertaistukea muilta paikallismuseonhoitajilta. Koulutus toteutetaan yhdessä Etelä-Savon ja Pohjois-Savon maakuntamuseoiden kanssa. \nKoulutuspäivät ovat perjantai 25.10.\, lauantai 26.10. ja perjantai 1.11.\, noin klo 10-15/16. Koulutus järjestetään Kuopiossa. \nIlmoittautuminen koulutukseen on päättynyt. \nLisätietoja: suunnittelija Jonina Vaahtolammi\, jonina.vaahtolammi (at) kotiseutuliitto.fi \n 
URL:https://kotiseutuliitto.fi/tapahtuma/etela-savon-ja-pohjois-savon-koulutus-paikallismuseonhoitajille/
LOCATION:Kuopio
END:VEVENT
END:VCALENDAR