BEGIN:VCALENDAR
VERSION:2.0
PRODID:-//Suomen Kotiseutuliitto - ECPv6.15.20//NONSGML v1.0//EN
CALSCALE:GREGORIAN
METHOD:PUBLISH
X-ORIGINAL-URL:https://kotiseutuliitto.fi
X-WR-CALDESC:Tapahtumat Suomen Kotiseutuliitto
REFRESH-INTERVAL;VALUE=DURATION:PT1H
X-Robots-Tag:noindex
X-PUBLISHED-TTL:PT1H
BEGIN:VTIMEZONE
TZID:Europe/Helsinki
BEGIN:DAYLIGHT
TZOFFSETFROM:+0200
TZOFFSETTO:+0300
TZNAME:EEST
DTSTART:20190331T010000
END:DAYLIGHT
BEGIN:STANDARD
TZOFFSETFROM:+0300
TZOFFSETTO:+0200
TZNAME:EET
DTSTART:20191027T010000
END:STANDARD
BEGIN:DAYLIGHT
TZOFFSETFROM:+0200
TZOFFSETTO:+0300
TZNAME:EEST
DTSTART:20200329T010000
END:DAYLIGHT
BEGIN:STANDARD
TZOFFSETFROM:+0300
TZOFFSETTO:+0200
TZNAME:EET
DTSTART:20201025T010000
END:STANDARD
BEGIN:DAYLIGHT
TZOFFSETFROM:+0200
TZOFFSETTO:+0300
TZNAME:EEST
DTSTART:20210328T010000
END:DAYLIGHT
BEGIN:STANDARD
TZOFFSETFROM:+0300
TZOFFSETTO:+0200
TZNAME:EET
DTSTART:20211031T010000
END:STANDARD
END:VTIMEZONE
BEGIN:VEVENT
DTSTART;TZID=Europe/Helsinki:20201121T130000
DTEND;TZID=Europe/Helsinki:20201121T150000
DTSTAMP:20260424T171225
CREATED:20200828T094202Z
LAST-MODIFIED:20201112T115328Z
UID:10000354-1605963600-1605970800@kotiseutuliitto.fi
SUMMARY:Suomen Kotiseutuliiton vuosikokous 21.11. Kokkolassa
DESCRIPTION:Suomen Kotiseutuliiton vuosikokous pidetään Valtakunnallisten kotiseutupäivien yhteydessä Kokkolassa lauantaina 21.11.2020 klo 13 alkaen. Kokouspaikka on kaupungintalon Kokkolasali osoitteessa Kauppatori 5\, 67100 Kokkola. \nVarsinaisten jäsenten valtakirjojen tarkastus on samana päivänä kello 9 alkaen kokoustilan edessä. Valtakirjaa vastaan saa äänestyslipukkeen. \nKokous striimataan myös verkkoon\, mutta etäosallistuminen ei ole mahdollista. \nKannatusjäsenillä ja muilla kuin virallisilla kokousedustajilla on kokouksessa läsnäolo-oikeus mutta ei äänioikeutta. Paikan päällä ilmoittautuminen erilliselle listalle kokoussalin ulkopuolella. \nAsialista yms: www.kotiseutuliitto.fi/jarjesto/hallinto-ja-organisaatio/kokousasiakirjat-ja-kokousaikataulu \nTervetuloa!
URL:https://kotiseutuliitto.fi/tapahtuma/suomen-kotiseutuliiton-vuosikokous-21-11-kokkolassa/
LOCATION:Kokkolan kaupungintalo\, Kauppatori 5\, Kokkola\, 67100
ATTACH;FMTTYPE=image/jpeg:https://kotiseutuliitto.fi/wp-content/uploads/2020/08/Kokkolan-kaupungintalo_2.jpg
ORGANIZER;CN="Suomen Kotiseutuliitto":MAILTO:toimisto@kotiseutuliitto.fi
END:VEVENT
END:VCALENDAR