BEGIN:VCALENDAR
VERSION:2.0
PRODID:-//Suomen Kotiseutuliitto - ECPv6.15.20//NONSGML v1.0//EN
CALSCALE:GREGORIAN
METHOD:PUBLISH
X-WR-CALNAME:Suomen Kotiseutuliitto
X-ORIGINAL-URL:https://kotiseutuliitto.fi
X-WR-CALDESC:Tapahtumat Suomen Kotiseutuliitto
REFRESH-INTERVAL;VALUE=DURATION:PT1H
X-Robots-Tag:noindex
X-PUBLISHED-TTL:PT1H
BEGIN:VTIMEZONE
TZID:Europe/Helsinki
BEGIN:DAYLIGHT
TZOFFSETFROM:+0200
TZOFFSETTO:+0300
TZNAME:EEST
DTSTART:20190331T010000
END:DAYLIGHT
BEGIN:STANDARD
TZOFFSETFROM:+0300
TZOFFSETTO:+0200
TZNAME:EET
DTSTART:20191027T010000
END:STANDARD
BEGIN:DAYLIGHT
TZOFFSETFROM:+0200
TZOFFSETTO:+0300
TZNAME:EEST
DTSTART:20200329T010000
END:DAYLIGHT
BEGIN:STANDARD
TZOFFSETFROM:+0300
TZOFFSETTO:+0200
TZNAME:EET
DTSTART:20201025T010000
END:STANDARD
BEGIN:DAYLIGHT
TZOFFSETFROM:+0200
TZOFFSETTO:+0300
TZNAME:EEST
DTSTART:20210328T010000
END:DAYLIGHT
BEGIN:STANDARD
TZOFFSETFROM:+0300
TZOFFSETTO:+0200
TZNAME:EET
DTSTART:20211031T010000
END:STANDARD
END:VTIMEZONE
BEGIN:VEVENT
DTSTART;TZID=Europe/Helsinki:20200311T160000
DTEND;TZID=Europe/Helsinki:20200311T180000
DTSTAMP:20260422T124421
CREATED:20200212T113645Z
LAST-MODIFIED:20200213T065907Z
UID:10000348-1583942400-1583949600@kotiseutuliitto.fi
SUMMARY:Keski-Suomen maakunnallinen kokous
DESCRIPTION:Keski-Suomen kotiseututoimijoiden kokous järjestetään tänä vuonna Jyväskylässä\, Kotiseutuliiton ja maakunnan liiton yhteistyönä. Tänä vuonna keskusteluissa ovat mukana myös uuden alueellisen vastuumuseon toimijat.\n  \nKahvitarjoilua varten pyydämme ilmoittautumiset viimeistään viikkoa ennen tilaisuutta verkko-osoitteeseen http://bit.ly/maakunnalliset. \n  \nOHJELMASSA\n\nKahvitarjoilut\nMaakunnan kuulumisia kotiseututoimijoille\, maakuntajohtaja Pekka Hokkanen ja kehittämispäällikkö Raija Partanen\nAjankohtaiskatsaus: Kohti kestävää kotiseututyötä\, järjestöpäällikkö Liisa Lohtander\, Suomen Kotiseutuliitto\nAlueellinen vastuumuseo on aloittanut maakuntamuseon tilalla. Mitä tämä tarkoittaa? museotoimenjohtaja Heli-Maija Voutilainen\, Jyväskylän museot\nMaakunnan nykyisen valtuustoedustajan katsaus alueen kotiseututyöhön\, Marja-Liisa Rajaniemi\nMaakunnan ehdokkaan valitseminen ehdolle Kotiseutuliiton valtuustoon. Kaikki ehdokkaat esittäytyvät.\nJäsenyhteisöjen kuulumisia ja keskustelua\n\n  \nValtuuston lopullinen valinta tapahtuu Kotiseutuliiton vuosikokouksessa 14.8.2020 Kokkolassa. \nTänä vuonna erovuorossa on maakunnan edustajana yhden kauden toiminut Marja-Liisa Rajaniemi Jyväskylän museoista. \n  \nJos haluatte asettua ehdolle tai esittää henkilöä ehdolle valtuustoon\, niin varauduttehan esittäytymään kokouksessa tai esittelemään ehdokkaanne. Ehdokkaan tulee olla Kotiseutuliiton jäsenyhteisön jäsen tai työntekijä. Ehdokasasettelussa kannattaa huomioida suositus\, että valtuutettu istuu vähintään kaksi kautta ja enintään kolme. Näin saadaan sekä jatkuvuutta että muutosta. Yksi kausi kestää kaksi vuotta. \n  \nTervetuloa mukaan vaikka useammankin osallistujan voimin!
URL:https://kotiseutuliitto.fi/tapahtuma/keski-suomen-maakunnalinen-kokous-2/
LOCATION:Keski-Suomen liitto\, Cygnaeus-talon Helmi-kabinetti\, Cygnaeuksenkatu 1\, Jyväskylä\, Suomi
ATTACH;FMTTYPE=image/jpeg:https://kotiseutuliitto.fi/wp-content/uploads/2020/02/maakunnalliset-yleiskuva.jpg
END:VEVENT
END:VCALENDAR