BEGIN:VCALENDAR
VERSION:2.0
PRODID:-//Suomen Kotiseutuliitto - ECPv6.15.20//NONSGML v1.0//EN
CALSCALE:GREGORIAN
METHOD:PUBLISH
X-WR-CALNAME:Suomen Kotiseutuliitto
X-ORIGINAL-URL:https://kotiseutuliitto.fi
X-WR-CALDESC:Tapahtumat Suomen Kotiseutuliitto
REFRESH-INTERVAL;VALUE=DURATION:PT1H
X-Robots-Tag:noindex
X-PUBLISHED-TTL:PT1H
BEGIN:VTIMEZONE
TZID:Europe/Helsinki
BEGIN:DAYLIGHT
TZOFFSETFROM:+0200
TZOFFSETTO:+0300
TZNAME:EEST
DTSTART:20190331T010000
END:DAYLIGHT
BEGIN:STANDARD
TZOFFSETFROM:+0300
TZOFFSETTO:+0200
TZNAME:EET
DTSTART:20191027T010000
END:STANDARD
BEGIN:DAYLIGHT
TZOFFSETFROM:+0200
TZOFFSETTO:+0300
TZNAME:EEST
DTSTART:20200329T010000
END:DAYLIGHT
BEGIN:STANDARD
TZOFFSETFROM:+0300
TZOFFSETTO:+0200
TZNAME:EET
DTSTART:20201025T010000
END:STANDARD
BEGIN:DAYLIGHT
TZOFFSETFROM:+0200
TZOFFSETTO:+0300
TZNAME:EEST
DTSTART:20210328T010000
END:DAYLIGHT
BEGIN:STANDARD
TZOFFSETFROM:+0300
TZOFFSETTO:+0200
TZNAME:EET
DTSTART:20211031T010000
END:STANDARD
END:VTIMEZONE
BEGIN:VEVENT
DTSTART;TZID=Europe/Helsinki:20201027T170000
DTEND;TZID=Europe/Helsinki:20201027T180000
DTSTAMP:20260424T100835
CREATED:20201021T060718Z
LAST-MODIFIED:20201023T124552Z
UID:10000255-1603818000-1603821600@kotiseutuliitto.fi
SUMMARY:Avustusklinikka: tukea kulttuurihistoriallisten rakennusten korjaamiseen
DESCRIPTION:Vanhan\, kulttuurihistoriallisesti arvokkaan rakennuksen korjaamiseen on mahdollista hakea valtion avustuksia. Säilyttävään\, talon ominaispiirteet huomioivaan korjaamiseen voi hakea avustuksia Museovirastolta ja ELY-keskuksesta. Avustusten hakuajat ovat vuosittain loka-marraskuussa. \nLahden Museot eli Päijät-Hämeen alueellinen vastuumuseo järjestää yhteistyössä (Hämeen ELY-keskuksen ja) Korjausklinikka-hankkeen kanssa avustusklinikan verkossa. Tilaisuudessa Lahden Museoiden korjausrakentamisen asiantuntija Anssi Malinen kertoo valtion korjausavustusten ehdoista ja antaa käytännön ohjeita niiden hakemiseen. Alueidenkäytön asiantuntija Rauno Penttinen Hämeen ELY-keskuksesta pitää tietoiskun rakennusperinnön hoitoavustuksista. Kuulet myös lisää LAB-ammattikorkeakoulun ja Suomen Kotiseutuliiton Korjausklinikka-hankkeesta\, joka tarjoaa tietoa ja neuvoja kestävään korjaamiseen. \nVoit lähettää avustuksia koskevia kysymyksiä klinikalle etukäteen\, vastaamme kysymyksiin tilaisuudessa. Lähetä kysymykset etukäteen Lahden Museoiden tutkijalle Reetta Nousiaiselle\, reetta.nousiainen@lahti.fi \nTilaisuus toteutetaan Zoom-alustalla. Linkki tilaisuuteen: https://lut.zoom.us/j/6591086741. \nTervetuloa kuulemaan lisää avustuksista ja niiden hakemisesta! \n  \nLue lisää Korjausklinikka-hankkeesta: https://kotiseutuliitto.fi/toiminta/hankkeet/korjausklinikka/ \nKuva: Korjausklinikka / Reetta Nousiainen.
URL:https://kotiseutuliitto.fi/tapahtuma/avustusklinikka-tukea-kulttuurihistoriallisten-rakennusten-korjaamiseen/
LOCATION:etänä
ATTACH;FMTTYPE=image/jpeg:https://kotiseutuliitto.fi/wp-content/uploads/2020/04/Hartola-rajattu2.jpg
END:VEVENT
BEGIN:VEVENT
DTSTART;TZID=Europe/Helsinki:20200924T123000
DTEND;TZID=Europe/Helsinki:20200924T150000
DTSTAMP:20260424T100835
CREATED:20200826T113149Z
LAST-MODIFIED:20200917T061657Z
UID:10000353-1600950600-1600959600@kotiseutuliitto.fi
SUMMARY:Kulttuuripolku mobiiliin! - etäkoulutus mobiilioppaan tekoon
DESCRIPTION:Suomen Kotiseutuliitto kannustaa jäsenyhdistyksiään ja paikallismuseoita liittämään omia kohteitaan ja aineistojaan eMuseoon. Palvelun nimestä huolimatta siihen sopivat museoiden lisäksi mainiosti myös kävelyreitit\, luontopolut tai historialliset kohteet. \nMiten teen oman mobiilioppaan – ilmainen etäkoulutus torstaina 24.9. klo 12.30–15. Koulutus tapahtuu verkossa. \nHuom! Koulutus on täynnä eikä uusia ilmoittautumisia enää vastaanoteta. \nKoulutus on suunnattu ensisijaisesti uusille eMuseo-palvelun tilaajille. \nKoulutuksessa osallistujat oppivat mobiilioppaan tekemisen perusteet. Osallistujat saavat tunnukset harjoitteluympäristöön\, jossa voivat omatoimisesti harjoitella oppaan luontia. Koulutuksen päätteeksi on mahdollista esittää kouluttajalle kysymyksiä. \nKoulutukseen voi ilmoittautua 1 osallistuja / yhdistys tai paikallismuseo. Mukaan mahtuu 20 henkilöä. \nIlmoittautumiset Suomen Kotiseutuliiton toimistoon osoitteessa toimisto@kotiseutuliitto.fi ke 16.9. mennessä. (Koulutus on täynnä!) \nKoulutus on maksuton. Koulutuksesta vastaa mobiiliopaspalvelun suunnitellut Momeo Oy. Koulutus on sama\, joka järjestettiin toukokuussa 2020. \nSuosittelemme tutustumaan etukäteen valmiisiin mobiilioppaisiin ja miettimään omaa mobiiliopastusta. Osoitteessa www.emuseo.fi voit tarkastella valmiita oppaita ja reittejä. \neMuseoita ylläpitäville toimijoille on myös Facebook-ryhmä: www.facebook.com/groups/emuseo \nPalvelun hinta ja tilaaminen\n\neMuseon vuosimaksu (sisältää ylläpidon\, tuen ja kehityksen) on Kotiseutuliiton jäsenille 80 € + alv/vuosi ja muille 120 e + alv/vuosi.\nNyt kannattaakin liittyä Kotiseutuliiton jäseneksi osoitteessa https://kotiseutuliitto.fi/jarjesto/liity-jaseneksi\nOsoitteesta https://kotiseutuliitto.fi/tietopankki/emuseo löytyy palvelun kaikki tiedot sekä tilauslinkki.\n\n  \nVoit tutustua maamme kulttuurikohteisiin vaikkapa kotisohvalta eMuseo-palvelun avulla! Kuva: Liisa Lohtander\nTaustaa\nKulttuuriperintöä voi esitellä yleisölle myös mobiilisti! Suomen Kotiseutuliiton tarjoama eMuseo on mobiiliopas\, joka sopii erinomaiseksi esittelyalustaksi kulttuurikohteelle\, olipa se sitten paikallismuseo tai kulttuuripolku. Mobiilioppaan avulla kulttuurikohde tai museo tai kohde on aina avoinna ja koettavissa. Palvelun myötä osoitteeseen www.emuseo.fi syntyy kohteiden mobiilioppaista koostuva moderni ja interaktiivinen sivusto\, jossa kuka tahansa voi vierailla kotoa käsin ja milloin tahansa. Mobiiliopas toimii kaikilla älypuhelimilla\, tableteilla ja tietokoneilla ilman erillisen sovelluksen lataamista. \nYhdistykset ja museot voivat helposti tehdä itse mobiilioppaita museostaan tai kulttuurikohteestaan. Oppaisiin voi liittää tekstiä\, kuvia\, ääntä ja videoita. Nyt tehtävään on tarjolla myös koulutusta!
URL:https://kotiseutuliitto.fi/tapahtuma/kulttuuripolku-mobiiliin-emuseo-koulutus/
LOCATION:etänä
ATTACH;FMTTYPE=image/jpeg:https://kotiseutuliitto.fi/wp-content/uploads/2020/08/Herttoniemen-emuseo-kuva-J-Vaahtolammi-2-1.jpg
END:VEVENT
END:VCALENDAR