BEGIN:VCALENDAR
VERSION:2.0
PRODID:-//Suomen Kotiseutuliitto - ECPv6.15.20//NONSGML v1.0//EN
CALSCALE:GREGORIAN
METHOD:PUBLISH
X-WR-CALNAME:Suomen Kotiseutuliitto
X-ORIGINAL-URL:https://kotiseutuliitto.fi
X-WR-CALDESC:Tapahtumat Suomen Kotiseutuliitto
REFRESH-INTERVAL;VALUE=DURATION:PT1H
X-Robots-Tag:noindex
X-PUBLISHED-TTL:PT1H
BEGIN:VTIMEZONE
TZID:Europe/Helsinki
BEGIN:DAYLIGHT
TZOFFSETFROM:+0200
TZOFFSETTO:+0300
TZNAME:EEST
DTSTART:20170326T010000
END:DAYLIGHT
BEGIN:STANDARD
TZOFFSETFROM:+0300
TZOFFSETTO:+0200
TZNAME:EET
DTSTART:20171029T010000
END:STANDARD
BEGIN:DAYLIGHT
TZOFFSETFROM:+0200
TZOFFSETTO:+0300
TZNAME:EEST
DTSTART:20180325T010000
END:DAYLIGHT
BEGIN:STANDARD
TZOFFSETFROM:+0300
TZOFFSETTO:+0200
TZNAME:EET
DTSTART:20181028T010000
END:STANDARD
BEGIN:DAYLIGHT
TZOFFSETFROM:+0200
TZOFFSETTO:+0300
TZNAME:EEST
DTSTART:20190331T010000
END:DAYLIGHT
BEGIN:STANDARD
TZOFFSETFROM:+0300
TZOFFSETTO:+0200
TZNAME:EET
DTSTART:20191027T010000
END:STANDARD
END:VTIMEZONE
BEGIN:VEVENT
DTSTART;TZID=Europe/Helsinki:20180809T143000
DTEND;TZID=Europe/Helsinki:20180809T170000
DTSTAMP:20260424T232135
CREATED:20180502T084115Z
LAST-MODIFIED:20180502T094245Z
UID:10000280-1533825000-1533834000@kotiseutuliitto.fi
SUMMARY:Kestävä kotiseutu -seminaari Valtakunnallisilla kotiseutupäivillä
DESCRIPTION:70. Valtakunnallisten kotiseutupäivien seminaari \nKestävä Kotiseutu: Kestävä kehitys kotiseutuliikkeen voimavarana ja kotiseutuliike kestävän kehityksen kuljettajana Kulttuuriperinnön eurooppalaisena teemavuonna 2018\nSeminaarikahvit tarjolla klo 14 alkaen aulatiloissa \nOhjelma klo 14.30-17.00\n\nKestävä kotiseutu ja Kulttuuriperinnön eurooppalainen teemavuosi 2018. Kotiseutuliiton varapuheenjohtaja Teppo Ylitalo\, joka myös juontaa tilaisuuden\nKulttuuriympäristösitoumukset kestävän kotiseudun välineenä. Ympäristöministeri Kimmo Tiilikainen\nHyviä käytäntöjä kestävän kehityksen edistämisessä. Lappeenrannan seudun ympäristötoimi\, ympäristöjohtaja Ilkka Räsänen\nKulttuuri\, identiteetti ja kestävä kehitys. Maaseudun Sivistysliiton kulttuurijohtaja Helka Ketonen\nKestävä kotiseutusuhde ja hyvä kotiseutupöhinä. ToinenPHD:n luova johtaja Jani Halme\nLappeenrannan teknillinen yliopisto LUT – ajankohtaista ja mielenkiintoista juuri nyt\nKeskustelua kestävästä kotiseudusta ja seminaarin annista\n\n Seminaarin päätteeksi ennakkoilmoittautuneille kuljetus Imatran kaupungin iltavastaanotolle ja takaisin. \n  \n 
URL:https://kotiseutuliitto.fi/tapahtuma/kestava-kotiseutu-seminaari-valtakunnallisilla-kotiseutupaivilla/
LOCATION:Auditorio 2310\, Lappeenrannan tekninen yliopisto LUT\, Skinnarilankatu 34\, LAPPEENRANTA\, Auditorio 2310\, Lappeenrannan tekninen yliopisto LUT\, Skinnarilankatu 34\, Lappeenranta\, Finland
END:VEVENT
END:VCALENDAR