BEGIN:VCALENDAR
VERSION:2.0
PRODID:-//Suomen Kotiseutuliitto - ECPv6.15.20//NONSGML v1.0//EN
CALSCALE:GREGORIAN
METHOD:PUBLISH
X-WR-CALNAME:Suomen Kotiseutuliitto
X-ORIGINAL-URL:https://kotiseutuliitto.fi
X-WR-CALDESC:Tapahtumat Suomen Kotiseutuliitto
REFRESH-INTERVAL;VALUE=DURATION:PT1H
X-Robots-Tag:noindex
X-PUBLISHED-TTL:PT1H
BEGIN:VTIMEZONE
TZID:Europe/Helsinki
BEGIN:DAYLIGHT
TZOFFSETFROM:+0200
TZOFFSETTO:+0300
TZNAME:EEST
DTSTART:20200329T010000
END:DAYLIGHT
BEGIN:STANDARD
TZOFFSETFROM:+0300
TZOFFSETTO:+0200
TZNAME:EET
DTSTART:20201025T010000
END:STANDARD
BEGIN:DAYLIGHT
TZOFFSETFROM:+0200
TZOFFSETTO:+0300
TZNAME:EEST
DTSTART:20210328T010000
END:DAYLIGHT
BEGIN:STANDARD
TZOFFSETFROM:+0300
TZOFFSETTO:+0200
TZNAME:EET
DTSTART:20211031T010000
END:STANDARD
BEGIN:DAYLIGHT
TZOFFSETFROM:+0200
TZOFFSETTO:+0300
TZNAME:EEST
DTSTART:20220327T010000
END:DAYLIGHT
BEGIN:STANDARD
TZOFFSETFROM:+0300
TZOFFSETTO:+0200
TZNAME:EET
DTSTART:20221030T010000
END:STANDARD
END:VTIMEZONE
BEGIN:VEVENT
DTSTART;TZID=Europe/Helsinki:20211105T130000
DTEND;TZID=Europe/Helsinki:20211105T170000
DTSTAMP:20260424T064754
CREATED:20210917T061425Z
LAST-MODIFIED:20210917T063112Z
UID:10000396-1636117200-1636131600@kotiseutuliitto.fi
SUMMARY:Topoteekki kotiseutuarkistotyössä
DESCRIPTION:Kotiseutuliitto ja Ylöjärvi-Seura järjestävät yhteistyössä webinaarin topoteekista\, sen mahdollisuuksista ja hyödynnettävyydestä kotiseutuarkistotyössä. Mikäli kotiseutuarkistojen digitalisointi kiinnostaa\, tämä tilaisuus on oivallinen johdanto teemaan! \nWebinaari järjestetään Zoom-alustalla. Se on kaikille avoin ja maksuton\, rahoittajana on Kantri-Leader. \nOhjelmassa mm. (tarkentuu): \n\nTopoteekin taustaa Suomessa – Tomi Ahoranta\, Kansallisarkisto\nTopoteekin kansainvälinen ulottuvuus / The development of topotheque internationally – Alexander Schatek\, ICARUS – International Centre for Archival Research (puhe englanniksi tai saksaksi\, suomennettu aineisto jaetaan etukäteen)\nEsimerkkejä topoteekin hyödyntämisestä ja ylläpidosta – Säkylä-seura\, Ylöjärvi-Seura\nKotiseutuliiton näkökulma arkistointiin – Marika Punamäki ja Jonina Vaahtolammi\, Kotiseutuliitto\nDigitaalisten arkistojen tietosuojakysymyksiä – Vuokko Joki\, Kansallisarkisto\nTulevaisuuden mahdollisuuksia\, esim. Time Machine – Tomi Ahoranta\, Kansallisarkisto\n\nLisätietoja: digi.ylojarviseura@gmail.com \nIlmoittautuminen viimeistään 31.10. TÄSTÄ LINKISTÄ. \n  \n  \n 
URL:https://kotiseutuliitto.fi/tapahtuma/topoteekki-kotiseutuarkistotyossa/
LOCATION:Verkkotapahtuma
END:VEVENT
END:VCALENDAR