BEGIN:VCALENDAR
VERSION:2.0
PRODID:-//Suomen Kotiseutuliitto - ECPv6.15.20//NONSGML v1.0//EN
CALSCALE:GREGORIAN
METHOD:PUBLISH
X-ORIGINAL-URL:https://kotiseutuliitto.fi
X-WR-CALDESC:Tapahtumat Suomen Kotiseutuliitto
REFRESH-INTERVAL;VALUE=DURATION:PT1H
X-Robots-Tag:noindex
X-PUBLISHED-TTL:PT1H
BEGIN:VTIMEZONE
TZID:Europe/Helsinki
BEGIN:DAYLIGHT
TZOFFSETFROM:+0200
TZOFFSETTO:+0300
TZNAME:EEST
DTSTART:20190331T010000
END:DAYLIGHT
BEGIN:STANDARD
TZOFFSETFROM:+0300
TZOFFSETTO:+0200
TZNAME:EET
DTSTART:20191027T010000
END:STANDARD
BEGIN:DAYLIGHT
TZOFFSETFROM:+0200
TZOFFSETTO:+0300
TZNAME:EEST
DTSTART:20200329T010000
END:DAYLIGHT
BEGIN:STANDARD
TZOFFSETFROM:+0300
TZOFFSETTO:+0200
TZNAME:EET
DTSTART:20201025T010000
END:STANDARD
BEGIN:DAYLIGHT
TZOFFSETFROM:+0200
TZOFFSETTO:+0300
TZNAME:EEST
DTSTART:20210328T010000
END:DAYLIGHT
BEGIN:STANDARD
TZOFFSETFROM:+0300
TZOFFSETTO:+0200
TZNAME:EET
DTSTART:20211031T010000
END:STANDARD
END:VTIMEZONE
BEGIN:VEVENT
DTSTART;TZID=Europe/Helsinki:20201111T130000
DTEND;TZID=Europe/Helsinki:20201111T150000
DTSTAMP:20260424T144934
CREATED:20201009T054331Z
LAST-MODIFIED:20201012T085447Z
UID:10000254-1605099600-1605106800@kotiseutuliitto.fi
SUMMARY:Yhteisöt elävät! -elävän perinnön etätyöpaja Lapissa
DESCRIPTION:Miten perinteet elävät juuri meillä?\nKuinka tuoda näkyville omaleimainen paikallisuus?\nTule mukaan Yhteisöt elävät! -elävän perinnön työpajaan keskiviikkona 11.11. Zoom-alustalle! \n\n\n\n\nLapin maakuntamuseo\, Tornionlaakson museo ja Suomen Kotiseutuliitto järjestävät yhdessä elävän perinnön etätyöpajan 11.11. klo 13–15 Zoom-videopalaverialustalla. \n\n\n\n\nTyöpajassa pohditaan keinoja saada elävä kulttuuriperintö – ne omalle yhteisölle tärkeät tiedot\, taidot\, tekemisen ja toiminnan tavat näkyviin\, kaikkien saataville ja huomatuksi. \nOsallistujat saavat ennen tilaisuutta mahdollisuuden tutusua videoituun ennakkomateriaaliin elävästä perinnöstä ja Zoom-työpajassa keskitytään käsittelemään osallistujien omia aineettoman kulttuuriperinnön ilmiöitä. Luvassa siis eväitä paikallistoimintaan\, merkitysten löytämiseen sekä rahoituksen hakemiseen omille elävän perinnön toiminnoille ja hankkeille. \nIlmoittautuminen ti 3.11. mennessä: maria.talvitie@kotiseutuliitto.fi \nFacebook-tapahtuman löydät täältä. \n\nYhteisöt elävät! -työpajat järjestetään osittain etänä ja osittain kokoontumisrajoitusten mukaisesti ja turvavälejä noudattaen.\n\n\nEthän saavu lähitilaisuuteen hengitystieinfektio-oireisena (yskä\, kurkku-kipu\, kuume\, hengenahdistus\, lihaskivut\, vatsaoireet ja päänsärky).\n\n\n \n\n\nYhteisöt elävät! -hankkeen työpajoissa tuetaan paikallisten yhteisöjen valmiuksia käsitellä oman alueen aineetonta kulttuuriperintöä.\n\n\nTyöpajat ovat tarkoitettu kulttuuriperintötyön-\, kotiseututyön- ja kansalaistoiminnan tekijä- ja organisointijoukoille ja ne kutsuvat pohtimaan ja käytännössä suunnittelemaan sitä\, mitä aineettoman kulttuuriperinnön siirtäminen\, välittäminen ja vaaliminen voisi omassa yhteisössä olla.\n\n\nTyöpajakokonaisuus toteutetaan Museoviraston aineettoman kulttuuriperinnön sopimuksen mukaisten yhteistyö- ja kehittämishankkeiden avustuksella.
URL:https://kotiseutuliitto.fi/tapahtuma/yhteisot-elavat-elavan-perinnon-etatyopaja-lapissa/
LOCATION:Videopalaverialusta Zoom
ATTACH;FMTTYPE=image/png:https://kotiseutuliitto.fi/wp-content/uploads/2020/09/YE_somekuva.png
END:VEVENT
END:VCALENDAR