BEGIN:VCALENDAR
VERSION:2.0
PRODID:-//Suomen Kotiseutuliitto - ECPv6.15.20//NONSGML v1.0//EN
CALSCALE:GREGORIAN
METHOD:PUBLISH
X-WR-CALNAME:Suomen Kotiseutuliitto
X-ORIGINAL-URL:https://kotiseutuliitto.fi
X-WR-CALDESC:Tapahtumat Suomen Kotiseutuliitto
REFRESH-INTERVAL;VALUE=DURATION:PT1H
X-Robots-Tag:noindex
X-PUBLISHED-TTL:PT1H
BEGIN:VTIMEZONE
TZID:Europe/Helsinki
BEGIN:DAYLIGHT
TZOFFSETFROM:+0200
TZOFFSETTO:+0300
TZNAME:EEST
DTSTART:20210328T010000
END:DAYLIGHT
BEGIN:STANDARD
TZOFFSETFROM:+0300
TZOFFSETTO:+0200
TZNAME:EET
DTSTART:20211031T010000
END:STANDARD
BEGIN:DAYLIGHT
TZOFFSETFROM:+0200
TZOFFSETTO:+0300
TZNAME:EEST
DTSTART:20220327T010000
END:DAYLIGHT
BEGIN:STANDARD
TZOFFSETFROM:+0300
TZOFFSETTO:+0200
TZNAME:EET
DTSTART:20221030T010000
END:STANDARD
BEGIN:DAYLIGHT
TZOFFSETFROM:+0200
TZOFFSETTO:+0300
TZNAME:EEST
DTSTART:20230326T010000
END:DAYLIGHT
BEGIN:STANDARD
TZOFFSETFROM:+0300
TZOFFSETTO:+0200
TZNAME:EET
DTSTART:20231029T010000
END:STANDARD
BEGIN:DAYLIGHT
TZOFFSETFROM:+0200
TZOFFSETTO:+0300
TZNAME:EEST
DTSTART:20240331T010000
END:DAYLIGHT
BEGIN:STANDARD
TZOFFSETFROM:+0300
TZOFFSETTO:+0200
TZNAME:EET
DTSTART:20241027T010000
END:STANDARD
BEGIN:DAYLIGHT
TZOFFSETFROM:+0200
TZOFFSETTO:+0300
TZNAME:EEST
DTSTART:20250330T010000
END:DAYLIGHT
BEGIN:STANDARD
TZOFFSETFROM:+0300
TZOFFSETTO:+0200
TZNAME:EET
DTSTART:20251026T010000
END:STANDARD
END:VTIMEZONE
BEGIN:VEVENT
DTSTART;TZID=Europe/Helsinki:20241116T140000
DTEND;TZID=Europe/Helsinki:20241116T160000
DTSTAMP:20260422T050455
CREATED:20240918T060950Z
LAST-MODIFIED:20241004T105122Z
UID:10002794-1731765600-1731772800@kotiseutuliitto.fi
SUMMARY:Seurantalojen juhlaseminaari
DESCRIPTION:Seurantalot ovat kaikille avoimia kokoontumis- ja juhlatiloja. Ne edustavat merkittävää kansallista rakennusperintöä ja tarjoavat harrastusmahdollisuuksia kymmenilletuhansille lapsille\, aikuisille ja senioreille viikoittain. \nTule kuulemaan\, mitä suomalaisille seurantaloille kuuluu. Tilaisuudessa luovutetaan seurantalojen korjausavustusjärjestelmälle myönnetty Euroopan kulttuuriperintöpalkinto. Samalla juhlitaan seurantalojen korjausneuvonnan 40-vuotista taivalta. \nMukana mm. opetus- ja kulttuuriministeriön ylijohtaja Riitta Kaivosoja\, näyttelijä Matti Ristinen ja arkkitehti Tapani Mustonen Europa Nostrasta. \nAIKA: Lauantai 16.11.2024 klo 14.00-16.00. Kakkukahvit klo 13.15. \nPAIKKA: Thorstorp\, Vanha maantie 12\, Espoo \nHINTA: Tilaisuus on kaikille avoin ja maksuton \nILMOITTAUTUMINEN: Viimeistään 7.11.2024 tästä linkistä \nTapahtuman järjestää Suomen Kotiseutuliitto. \nTapahtuma on osa Euroopan kulttuuriympäristöpäivien ohjelmaa. \nLisätiedot ja peruutukset: toimisto@kotiseutuliitto.fi
URL:https://kotiseutuliitto.fi/tapahtuma/seurantalojen-juhlaseminaari/
LOCATION:Thorstorp\, Vanha maantie 12\, Espoo
ATTACH;FMTTYPE=image/jpeg:https://kotiseutuliitto.fi/wp-content/uploads/2024/09/torpet.jpg
END:VEVENT
BEGIN:VEVENT
DTSTART;TZID=Europe/Helsinki:20221001T151000
DTEND;TZID=Europe/Helsinki:20221001T155000
DTSTAMP:20260422T050455
CREATED:20220927T062359Z
LAST-MODIFIED:20220927T073309Z
UID:10000432-1664637000-1664639400@kotiseutuliitto.fi
SUMMARY:Vuoden kotiseututeoksen julkistus Turun kirjamessuilla
DESCRIPTION:Jussi Nuorteva julkistaa Vuoden kotiseututeos -kilpailun voittajan Turun kirjamessujen Puisto-lavalla lauantaina 1. lokakuuta kello 15.10–15.50 tilaisuudessa Miten rakennamme virtuaalista kotiseutua? Jukka Hako haastattelee Jussi Nuortevaa ja Vuoden kotiseututeoksen tekijöitä. \nTilaisuus striimataan osoitteeseen www.facebook.com/Kotiseutuliitto \nVuoden kotiseututeos -kilpailun finalisteiksi on valittu kolme erilaista kotiseutukirjaa\, jotka käsittelevät Kuortanetta\, Vääksyä ja Bjarne Westermarckin merkitystä Järvenpäässä. \nTeokset ovat: \nNokiottat – Kuortane ja kuortanelaiset 1860–1960\nTeppo Ylitalo\, Sulevi Riukulehto\, Jaakko Mäntylä\, Kuortaneen kunta 2021 \nTuhat rautaa tulessa – Bjarne Westermarck Järvenpäätä ja Suomea rakentamassa\nToimituskunta: Tuula Siltasari-Peltonen\, Ritva Järvenpää\, Sami Karhu ja Pauliina Jurmu\, Bjarne Westermarckin perinneyhdistys 2021 \nVääksy – kertomuksia kanavakylästä\nNousiainen\, Reetta (toim)\, Ruokolainen\, Ina; Sallamo-Lavi\, Anuirmeli; Huovila\, Leena; Puranen\, Eero; Riihelä\, Teemu & Niemi\, Sari (kirjoittajat)\, Vanhan Vääksyn Kehittämisyhdistys ry 2021
URL:https://kotiseutuliitto.fi/tapahtuma/vuoden-kotiseututeoksen-julkistus-turun-kirjamessuilla/
LOCATION:Turun kirjamessut\, Messukentänkatu 9-13\, Turku
ATTACH;FMTTYPE=image/jpeg:https://kotiseutuliitto.fi/wp-content/uploads/2022/08/Vuoden-kotiseututeos-finalistit-Jussi-Nuortevan-ja-Jukka-Hakon-kasissa-2022-Kuva-Anna-Maija-Halme-some.jpg
END:VEVENT
BEGIN:VEVENT
DTSTART;VALUE=DATE:20220909
DTEND;VALUE=DATE:20220912
DTSTAMP:20260422T050455
CREATED:20210831T064619Z
LAST-MODIFIED:20220908T130353Z
UID:10000389-1662681600-1662940799@kotiseutuliitto.fi
SUMMARY:Valtakunnalliset kotiseutupäivät Rovaniemellä
DESCRIPTION:Rovaniemen Valtakunnallisia kotiseutupäiviä vietetään perjantaista sunnuntaihin 9.–11. syyskuuta. Tuolloin koko laaja kaupunki juhlii juuriaan\, moninaista kulttuuriaan\, historiaansa ja asukkaitaan. \nPäivien tuoreimmat ohjelmatiedot: www.rovaniemi.fi/Ajankohtaista/Kotiseutupaivat/Ohjelma \nKuvat tuoreeltaan Kotiseutuliiton Flickr-kanavalla: www.flickr.com/kotiseutuliitto \nKotiseutupäiviä voi seurata etänä kahdessa tapahtumassa Kotiseutuliiton Youtube-kanavalla bit.ly/KSL-tube \n\n\n\nKeskustelukammari 2: Yhdessä tekemällä kestävä tulevaisuus perjantaina 9. syyskuuta kello 12.30–14Kestävästä kotiseutu- ja kulttuuriperintötyöstä alustavat dosentti Katriina Siivonen Turun yliopiston Tulevaisuuden tutkimuskeskuksesta ja erityisasiantuntija Antti Huntus Taiteen edistämiskeskuksesta. Lappi-sopimuksen esittelee Lapin liiton kehittämispäällikkö Satu Luiro. Mukana on myös kestävän kotiseututyön työkirjan julkistus. Sen esittelee Kesälahti-Seuran puheenjohtaja Pentti Ojajärvi. Alustusten jälkeen jatketaan aiheen käsittelyä keskustelulla.\n\n\n\n\nKotiseutuliiton vuosikokous lauantaina 10. syyskuuta kello 10-12\n\n  \n  \nRovaniemen kaupunkikuvassa näkyy Alvar Aallon ajaton kädenjälki. Luonto on inspiroinut myös Aallon suunnittelutyötä. Kuva: Rovaniemen kaupunki.
URL:https://kotiseutuliitto.fi/tapahtuma/valtakunnalliset-kotiseutupaivat-rovaniemella-syyskuussa-2022/
LOCATION:Rovaniemi\, Rovaniemi\, Suomi
ATTACH;FMTTYPE=image/jpeg:https://kotiseutuliitto.fi/wp-content/uploads/2022/05/Rovaniemi-Kotiseutupaivat-2022-kuvakooste-netti.jpg
END:VEVENT
END:VCALENDAR