BEGIN:VCALENDAR
VERSION:2.0
PRODID:-//Suomen Kotiseutuliitto - ECPv6.15.20//NONSGML v1.0//EN
CALSCALE:GREGORIAN
METHOD:PUBLISH
X-ORIGINAL-URL:https://kotiseutuliitto.fi
X-WR-CALDESC:Tapahtumat Suomen Kotiseutuliitto
REFRESH-INTERVAL;VALUE=DURATION:PT1H
X-Robots-Tag:noindex
X-PUBLISHED-TTL:PT1H
BEGIN:VTIMEZONE
TZID:Europe/Helsinki
BEGIN:DAYLIGHT
TZOFFSETFROM:+0200
TZOFFSETTO:+0300
TZNAME:EEST
DTSTART:20180325T010000
END:DAYLIGHT
BEGIN:STANDARD
TZOFFSETFROM:+0300
TZOFFSETTO:+0200
TZNAME:EET
DTSTART:20181028T010000
END:STANDARD
BEGIN:DAYLIGHT
TZOFFSETFROM:+0200
TZOFFSETTO:+0300
TZNAME:EEST
DTSTART:20190331T010000
END:DAYLIGHT
BEGIN:STANDARD
TZOFFSETFROM:+0300
TZOFFSETTO:+0200
TZNAME:EET
DTSTART:20191027T010000
END:STANDARD
BEGIN:DAYLIGHT
TZOFFSETFROM:+0200
TZOFFSETTO:+0300
TZNAME:EEST
DTSTART:20200329T010000
END:DAYLIGHT
BEGIN:STANDARD
TZOFFSETFROM:+0300
TZOFFSETTO:+0200
TZNAME:EET
DTSTART:20201025T010000
END:STANDARD
END:VTIMEZONE
BEGIN:VEVENT
DTSTART;VALUE=DATE:20191115
DTEND;VALUE=DATE:20191130
DTSTAMP:20260423T040155
CREATED:20190619T060818Z
LAST-MODIFIED:20191010T104901Z
UID:10000338-1573776000-1575071999@kotiseutuliitto.fi
SUMMARY:Pirkanmaan koulutus paikallismuseonhoitajille
DESCRIPTION:Pirkanmaan paikallismuseonhoitajien koulutus tarjoaa eväitä paikallismuseon hoitamiseen\, keinoja oman museon kehittämiseen sekä innostusta ja vertaistukea muilta paikallismuseonhoitajilta. Koulutus toteutetaan yhdessä Pirkanmaan maakuntamuseon kanssa. \nKoulutuspäivät ovat perjantai 15.11.\, lauantai 16.11. ja perjantai 29.11.\, noin klo 10-15/16. Koulutus järjestetään Vapriikissa. \nOhjelma\, ilmoittautuminen ja lisätiedot \nLisätietoja: suunnittelija Jonina Vaahtolammi\, jonina.vaahtolammi (at) kotiseutuliitto.fi \n 
URL:https://kotiseutuliitto.fi/tapahtuma/pirkanmaan-koulutus-paikallismuseonhoitajille/
LOCATION:Vapriikki\, Alaverstaanraitti 5\, Tampere
END:VEVENT
END:VCALENDAR