BEGIN:VCALENDAR
VERSION:2.0
PRODID:-//Suomen Kotiseutuliitto - ECPv6.15.20//NONSGML v1.0//EN
CALSCALE:GREGORIAN
METHOD:PUBLISH
X-ORIGINAL-URL:https://kotiseutuliitto.fi
X-WR-CALDESC:Tapahtumat Suomen Kotiseutuliitto
REFRESH-INTERVAL;VALUE=DURATION:PT1H
X-Robots-Tag:noindex
X-PUBLISHED-TTL:PT1H
BEGIN:VTIMEZONE
TZID:Europe/Helsinki
BEGIN:DAYLIGHT
TZOFFSETFROM:+0200
TZOFFSETTO:+0300
TZNAME:EEST
DTSTART:20190331T010000
END:DAYLIGHT
BEGIN:STANDARD
TZOFFSETFROM:+0300
TZOFFSETTO:+0200
TZNAME:EET
DTSTART:20191027T010000
END:STANDARD
BEGIN:DAYLIGHT
TZOFFSETFROM:+0200
TZOFFSETTO:+0300
TZNAME:EEST
DTSTART:20200329T010000
END:DAYLIGHT
BEGIN:STANDARD
TZOFFSETFROM:+0300
TZOFFSETTO:+0200
TZNAME:EET
DTSTART:20201025T010000
END:STANDARD
BEGIN:DAYLIGHT
TZOFFSETFROM:+0200
TZOFFSETTO:+0300
TZNAME:EEST
DTSTART:20210328T010000
END:DAYLIGHT
BEGIN:STANDARD
TZOFFSETFROM:+0300
TZOFFSETTO:+0200
TZNAME:EET
DTSTART:20211031T010000
END:STANDARD
BEGIN:DAYLIGHT
TZOFFSETFROM:+0200
TZOFFSETTO:+0300
TZNAME:EEST
DTSTART:20220327T010000
END:DAYLIGHT
BEGIN:STANDARD
TZOFFSETFROM:+0300
TZOFFSETTO:+0200
TZNAME:EET
DTSTART:20221030T010000
END:STANDARD
END:VTIMEZONE
BEGIN:VEVENT
DTSTART;TZID=Europe/Helsinki:20210518T160000
DTEND;TZID=Europe/Helsinki:20210518T173000
DTSTAMP:20260424T081054
CREATED:20210504T072824Z
LAST-MODIFIED:20210517T051505Z
UID:10000379-1621353600-1621359000@kotiseutuliitto.fi
SUMMARY:Korjausklinikka: Onnistunut maalaus -verkkotapahtuma
DESCRIPTION:Huolellinen suunnittelu ja hyvin tehdyt pohjatyöt ovat tie onnistuneeseen vanhan talon maalaukseen. Myös maalien valintaa ja värimaailmaa kannattaa pohtia ennen maalaukseen ryhtymistä. Korjausklinikka-hankkeen ja Lahden Museoiden verkkotapahtumassa saat neuvoja ja vinkkejä\, millä tavoin maalausprojektia on hyvä suunnitella\, mitä pohjatöitä kannattaa tehdä ja mitä muuta ottaa huomioon maalatessa. \nTilaisuuden asiantuntijana toimii Suomen Kotiseutuliiton rakennustutkija\, arkkitehti Lasse Majuri. Kuulet verkkotapahtumassa myös LAB-ammattikorkeakoulun ja Suomen Kotiseutuliiton Korjausklinikka-hankkeesta\, joka tarjoaa tietoa ja neuvoja kestävään korjaamiseen. \nVoit lähettää maalaamiseen ja sen valmisteluun liittyviä kysymyksiä klinikalle etukäteen\, vastaamme kysymyksiin tilaisuudessa. Lähetä kysymykset Suomen Kotiseutuliiton koordinaattorille Jonina Vaahtolammille\, jonina.vaahtolammi@kotiseutuliitto.fi. \nTilaisuus toteutetaan Zoom-alustalla ja se tallennetaan. Osallistu tapahtumaan tällä linkillä: https://lut.zoom.us/j/68623761215?pwd=NGVvL0xlRW1qVkRLdXRUejk5L2E0QT09 \nTulossa muita verkkotapahtumia vuonna 2021: \n\nTiistai 8.6. klo 16–17.30\, Korjausklinikka: Ikkunat kuntoon\nSyyskuussa tulossa\, Avustusklinikka\n\nTervetuloa Korjausklinikan ja Lahden Museoiden verkkotapahtumiin kuulemaan neuvoja ja vinkkejä kestävään korjausrakentamiseen! \n 
URL:https://kotiseutuliitto.fi/tapahtuma/korjausklinikka-onnistunut-maalaus-verkkotapahtuma/
LOCATION:Verkkotapahtuma
ATTACH;FMTTYPE=image/png:https://kotiseutuliitto.fi/wp-content/uploads/2021/05/Onnistunut_maalaus.png
END:VEVENT
BEGIN:VEVENT
DTSTART;TZID=Europe/Helsinki:20210427T160000
DTEND;TZID=Europe/Helsinki:20210427T173000
DTSTAMP:20260424T081054
CREATED:20210413T130135Z
LAST-MODIFIED:20210414T045206Z
UID:10000376-1619539200-1619544600@kotiseutuliitto.fi
SUMMARY:Korjausklinikka: Ennakoiva korjaaminen -verkkotapahtuma
DESCRIPTION:Korjausklinikka ja Lahden Museot jatkavat suosittuja korjausaiheisia verkkotapahtumiaan! \nEnnakoiva\, suunnitelmallinen korjaaminen säästää resursseja ja helpottaa vanhan talon ylläpitoa. Lahden Museoiden ja Korjausklinikka-hankkeen verkkotapahtumassa saat neuvoja ja vinkkejä\, millä tavoin korjaamista kannattaa suunnitella ja toteuttaa ennakoiden. \nTilaisuuden asiantuntijana toimii Lahden Museoiden eli Päijät-Hämeen alueellisen vastuumuseon korjausrakentamisen asiantuntija Anssi Malinen. Kuulet verkkotapahtumassa myös lisää LAB-ammattikorkeakoulun ja Suomen Kotiseutuliiton Korjausklinikka-hankkeesta\, joka tarjoaa tietoa ja neuvoja kestävään korjaamiseen. \nVoit lähettää korjausrakentamisen suunnittelua ja ennakointia koskevia kysymyksiä klinikalle etukäteen\, vastaamme kysymyksiin tilaisuudessa. Lähetä kysymykset Lahden Museoiden tutkijalle Reetta Nousiaiselle\, reetta.nousiainen@lahti.fi. \nTapahtuma on osa Euroopan kulttuuriympäristöpäivien ohjelmaa. \nTilaisuus toteutetaan Zoom-alustalla ja se tallennetaan. Ilmoittaudu mukaan osoitteessa: https://www.lyyti.fi/reg/Korjausklinikka_Ennakoiva_korjaaminen_8249 \nTulossa myös keväällä ja kesällä 2021:\n• Tiistai 18.5. klo 16.30–18\, Korjausklinikka: Onnistunut maalaus\n• Tiistai 8.6. klo 16–18\, Korjausklinikka: Ikkunat kuntoon\n• Syyskuussa tulossa\, Avustusklinikka \nTervetuloa Korjausklinikan ja Lahden Museoiden verkkotapahtumiin kuulemaan neuvoja ja vinkkejä kestävään korjaamiseen! \n 
URL:https://kotiseutuliitto.fi/tapahtuma/korjausklinikka-ennakoiva-korjaaminen-verkkotapahtuma/
LOCATION:Verkkotapahtuma
ATTACH;FMTTYPE=image/png:https://kotiseutuliitto.fi/wp-content/uploads/2021/04/Ennakoiva_korjaaminen.png
END:VEVENT
BEGIN:VEVENT
DTSTART;TZID=Europe/Helsinki:20201027T170000
DTEND;TZID=Europe/Helsinki:20201027T180000
DTSTAMP:20260424T081054
CREATED:20201021T060718Z
LAST-MODIFIED:20201023T124552Z
UID:10000255-1603818000-1603821600@kotiseutuliitto.fi
SUMMARY:Avustusklinikka: tukea kulttuurihistoriallisten rakennusten korjaamiseen
DESCRIPTION:Vanhan\, kulttuurihistoriallisesti arvokkaan rakennuksen korjaamiseen on mahdollista hakea valtion avustuksia. Säilyttävään\, talon ominaispiirteet huomioivaan korjaamiseen voi hakea avustuksia Museovirastolta ja ELY-keskuksesta. Avustusten hakuajat ovat vuosittain loka-marraskuussa. \nLahden Museot eli Päijät-Hämeen alueellinen vastuumuseo järjestää yhteistyössä (Hämeen ELY-keskuksen ja) Korjausklinikka-hankkeen kanssa avustusklinikan verkossa. Tilaisuudessa Lahden Museoiden korjausrakentamisen asiantuntija Anssi Malinen kertoo valtion korjausavustusten ehdoista ja antaa käytännön ohjeita niiden hakemiseen. Alueidenkäytön asiantuntija Rauno Penttinen Hämeen ELY-keskuksesta pitää tietoiskun rakennusperinnön hoitoavustuksista. Kuulet myös lisää LAB-ammattikorkeakoulun ja Suomen Kotiseutuliiton Korjausklinikka-hankkeesta\, joka tarjoaa tietoa ja neuvoja kestävään korjaamiseen. \nVoit lähettää avustuksia koskevia kysymyksiä klinikalle etukäteen\, vastaamme kysymyksiin tilaisuudessa. Lähetä kysymykset etukäteen Lahden Museoiden tutkijalle Reetta Nousiaiselle\, reetta.nousiainen@lahti.fi \nTilaisuus toteutetaan Zoom-alustalla. Linkki tilaisuuteen: https://lut.zoom.us/j/6591086741. \nTervetuloa kuulemaan lisää avustuksista ja niiden hakemisesta! \n  \nLue lisää Korjausklinikka-hankkeesta: https://kotiseutuliitto.fi/toiminta/hankkeet/korjausklinikka/ \nKuva: Korjausklinikka / Reetta Nousiainen.
URL:https://kotiseutuliitto.fi/tapahtuma/avustusklinikka-tukea-kulttuurihistoriallisten-rakennusten-korjaamiseen/
LOCATION:etänä
ATTACH;FMTTYPE=image/jpeg:https://kotiseutuliitto.fi/wp-content/uploads/2020/04/Hartola-rajattu2.jpg
END:VEVENT
END:VCALENDAR