BEGIN:VCALENDAR
VERSION:2.0
PRODID:-//Suomen Kotiseutuliitto - ECPv6.15.20//NONSGML v1.0//EN
CALSCALE:GREGORIAN
METHOD:PUBLISH
X-WR-CALNAME:Suomen Kotiseutuliitto
X-ORIGINAL-URL:https://kotiseutuliitto.fi
X-WR-CALDESC:Tapahtumat Suomen Kotiseutuliitto
REFRESH-INTERVAL;VALUE=DURATION:PT1H
X-Robots-Tag:noindex
X-PUBLISHED-TTL:PT1H
BEGIN:VTIMEZONE
TZID:Europe/Helsinki
BEGIN:DAYLIGHT
TZOFFSETFROM:+0200
TZOFFSETTO:+0300
TZNAME:EEST
DTSTART:20180325T010000
END:DAYLIGHT
BEGIN:STANDARD
TZOFFSETFROM:+0300
TZOFFSETTO:+0200
TZNAME:EET
DTSTART:20181028T010000
END:STANDARD
BEGIN:DAYLIGHT
TZOFFSETFROM:+0200
TZOFFSETTO:+0300
TZNAME:EEST
DTSTART:20190331T010000
END:DAYLIGHT
BEGIN:STANDARD
TZOFFSETFROM:+0300
TZOFFSETTO:+0200
TZNAME:EET
DTSTART:20191027T010000
END:STANDARD
BEGIN:DAYLIGHT
TZOFFSETFROM:+0200
TZOFFSETTO:+0300
TZNAME:EEST
DTSTART:20200329T010000
END:DAYLIGHT
BEGIN:STANDARD
TZOFFSETFROM:+0300
TZOFFSETTO:+0200
TZNAME:EET
DTSTART:20201025T010000
END:STANDARD
END:VTIMEZONE
BEGIN:VEVENT
DTSTART;TZID=Europe/Helsinki:20190810T140000
DTEND;TZID=Europe/Helsinki:20190810T170000
DTSTAMP:20260423T132231
CREATED:20190521T064531Z
LAST-MODIFIED:20190521T064614Z
UID:10000333-1565445600-1565456400@kotiseutuliitto.fi
SUMMARY:Lukuelämyksiä Pälkäneen teatterilla
DESCRIPTION:Lukuelämyksiä! \nMusiikki ja sanat johdattelevat lukemisen iloihin myös ”Lukuelämyksiä -etenkin elämyksiä” -esityksessä Pälkäneen teatterilla sunnuntaina 10.8.\nEsityksen päähenkilö Ensio suhtautuu kirjojen lukemiseen väheksyen. Aluksi. Vaimonsa Irmelin lähdettyä kirjapiirin Medelplan-tilaisuuteen Ensio poimii kirjahyllystä vaimonsa kirjoja. Yllättäen Ensio innostuu ja fiilistelee kuhunkin kirjaan liittyvän musiikin avulla. Teksteinä kuullaan esimerkiksi Jukka Viikilää\, Eve Hietamiestä\, Väinö Linnaa ja Aleksis Kiveä. \nPälkäneen teatterilla on samana sunnuntaina 10.8. kaksi esitystä\, kello 14 ja kello 16. Esitysiltapäiväksi Pälkäne-Seura pystyttää yhteiskoulun pihamaalle pop up-kahvilan. \nTapahtuma on osa Pälkäneellä vietettävää Lukutaidon teemavuotta. Terveisiä Pälkäneeltä – Lukijakunnasta! \n 
URL:https://kotiseutuliitto.fi/tapahtuma/lukuelamyksia-palkaneen-teatterilla/
LOCATION:Pälkäneen teatteri\, Koulutie 13\, Pälkäne\, Koulutie 13\, Pälkäne
END:VEVENT
END:VCALENDAR