BEGIN:VCALENDAR
VERSION:2.0
PRODID:-//Suomen Kotiseutuliitto - ECPv6.15.20//NONSGML v1.0//EN
CALSCALE:GREGORIAN
METHOD:PUBLISH
X-WR-CALNAME:Suomen Kotiseutuliitto
X-ORIGINAL-URL:https://kotiseutuliitto.fi
X-WR-CALDESC:Tapahtumat Suomen Kotiseutuliitto
REFRESH-INTERVAL;VALUE=DURATION:PT1H
X-Robots-Tag:noindex
X-PUBLISHED-TTL:PT1H
BEGIN:VTIMEZONE
TZID:Europe/Helsinki
BEGIN:DAYLIGHT
TZOFFSETFROM:+0200
TZOFFSETTO:+0300
TZNAME:EEST
DTSTART:20180325T010000
END:DAYLIGHT
BEGIN:STANDARD
TZOFFSETFROM:+0300
TZOFFSETTO:+0200
TZNAME:EET
DTSTART:20181028T010000
END:STANDARD
BEGIN:DAYLIGHT
TZOFFSETFROM:+0200
TZOFFSETTO:+0300
TZNAME:EEST
DTSTART:20190331T010000
END:DAYLIGHT
BEGIN:STANDARD
TZOFFSETFROM:+0300
TZOFFSETTO:+0200
TZNAME:EET
DTSTART:20191027T010000
END:STANDARD
BEGIN:DAYLIGHT
TZOFFSETFROM:+0200
TZOFFSETTO:+0300
TZNAME:EEST
DTSTART:20200329T010000
END:DAYLIGHT
BEGIN:STANDARD
TZOFFSETFROM:+0300
TZOFFSETTO:+0200
TZNAME:EET
DTSTART:20201025T010000
END:STANDARD
BEGIN:DAYLIGHT
TZOFFSETFROM:+0200
TZOFFSETTO:+0300
TZNAME:EEST
DTSTART:20210328T010000
END:DAYLIGHT
BEGIN:STANDARD
TZOFFSETFROM:+0300
TZOFFSETTO:+0200
TZNAME:EET
DTSTART:20211031T010000
END:STANDARD
BEGIN:DAYLIGHT
TZOFFSETFROM:+0200
TZOFFSETTO:+0300
TZNAME:EEST
DTSTART:20220327T010000
END:DAYLIGHT
BEGIN:STANDARD
TZOFFSETFROM:+0300
TZOFFSETTO:+0200
TZNAME:EET
DTSTART:20221030T010000
END:STANDARD
BEGIN:DAYLIGHT
TZOFFSETFROM:+0200
TZOFFSETTO:+0300
TZNAME:EEST
DTSTART:20230326T010000
END:DAYLIGHT
BEGIN:STANDARD
TZOFFSETFROM:+0300
TZOFFSETTO:+0200
TZNAME:EET
DTSTART:20231029T010000
END:STANDARD
BEGIN:DAYLIGHT
TZOFFSETFROM:+0200
TZOFFSETTO:+0300
TZNAME:EEST
DTSTART:20240331T010000
END:DAYLIGHT
BEGIN:STANDARD
TZOFFSETFROM:+0300
TZOFFSETTO:+0200
TZNAME:EET
DTSTART:20241027T010000
END:STANDARD
BEGIN:DAYLIGHT
TZOFFSETFROM:+0200
TZOFFSETTO:+0300
TZNAME:EEST
DTSTART:20250330T010000
END:DAYLIGHT
BEGIN:STANDARD
TZOFFSETFROM:+0300
TZOFFSETTO:+0200
TZNAME:EET
DTSTART:20251026T010000
END:STANDARD
END:VTIMEZONE
BEGIN:VEVENT
DTSTART;TZID=Europe/Helsinki:20241205T140000
DTEND;TZID=Europe/Helsinki:20241205T160000
DTSTAMP:20260422T161133
CREATED:20241122T102746Z
LAST-MODIFIED:20241122T102746Z
UID:10002831-1733407200-1733414400@kotiseutuliitto.fi
SUMMARY:Avoimet ovet ja jouluglögit Kotiseutuliiton toimistolla
DESCRIPTION:Kotiseutuliiton toimiston ovet ovat kaikille avoinna itsenäisyyspäivän aattona torstaina 5.12. klo 14–16 välisenä aikana osoitteessa Kalevankatu 13 A 5\, Helsinki. Tarjolla on glögiä ja pientä jouluista purtavaa. Lämpimästi tervetuloa jutustelemaan kotiseututyöstä sekä tutustumaan toimistomme tiloihin ja henkilökuntaamme! \nPS. Huomio jäsenyhteisömme\, jäsenetuna teillä on mahdollisuus käyttää Kotiseutuliiton toimistoa maksutta yhteisönne kokouksissa. Tulkaapa katsomaan\, miltä täällä näyttää.
URL:https://kotiseutuliitto.fi/tapahtuma/avoimet-ovet-ja-jouluglogit-kotiseutuliiton-toimistolla/
LOCATION:Kotiseutuliiton toimisto\, Kalevankatu 13 A 5\, 5. krs\, Helsinki
ATTACH;FMTTYPE=image/jpeg:https://kotiseutuliitto.fi/wp-content/uploads/2024/11/joulua-scaled.jpg
END:VEVENT
BEGIN:VEVENT
DTSTART;TZID=Europe/Helsinki:20241010T173000
DTEND;TZID=Europe/Helsinki:20241010T183000
DTSTAMP:20260422T161133
CREATED:20241004T143550Z
LAST-MODIFIED:20241004T145302Z
UID:10002814-1728581400-1728585000@kotiseutuliitto.fi
SUMMARY:Neuvontawebinaari seurantalojen korjausavustuksen hakemisesta
DESCRIPTION:Miten seurantalojen korjausavustusta haetaan? Mitä liitteitä hakemuksessa pitää olla? Entä millainen on hyvin suunniteltu korjaushanke? \nWebinaarissa Suomen Kotiseutuliiton rakennustutkija ja koordinaattorit kertovat\, miten seurantalojen korjausavustusta haetaan. Lopuksi on aikaa kysymyksille. Kysymyksiä voi lähettää jo ennakkoon ilmoittautumislomakkeella. \nWebinaari järjestetään Teamsissa torstaina 10. lokakuuta kello 17.30-18.30. Webinaarin kieli on suomi\, mutta kysymyksiä voi esittää myös ruotsiksi. \nIlmoittaudu mukaan ja kerro ennakkokysymyksesi viimeistään 9. lokakuuta tällä lomakkeella. Ilmoittautuneille lähetetään osallistumislinkki ennen tilaisuutta. \nWebinaari tallennetaan ja se liitetään Kotiseutuliiton YouTube-kanavalle ja nettisivuille. Tilaisuus on tarkoitettu kaikille seurantaloja ylläpitäville yhteisöille\, jotka aikovat hakea korjausavustusta syksyn 2024 haussa.
URL:https://kotiseutuliitto.fi/tapahtuma/neuvontawebinaari-seurantalojen-korjausavustuksen-hakemisesta/
ATTACH;FMTTYPE=image/jpeg:https://kotiseutuliitto.fi/wp-content/uploads/2024/05/14-Kerkkoo_grinding_doors-scaled.jpg
END:VEVENT
BEGIN:VEVENT
DTSTART;TZID=Europe/Helsinki:20231123T170000
DTEND;TZID=Europe/Helsinki:20231123T180000
DTSTAMP:20260422T161133
CREATED:20231113T070945Z
LAST-MODIFIED:20231122T054508Z
UID:10002494-1700758800-1700762400@kotiseutuliitto.fi
SUMMARY:eMuseo-palvelun tukiklinikka
DESCRIPTION:eMuseo-palvelun avulla paikallismuseoille\, kotiseutukohteille ja kävelyreiteille voi tehdä helposti omia mobiilioppaita. Kotiseutuliitto kannustaa jäsenyhdistyksiään\, paikallismuseoita ja muita toimijoita liittämään omia kohteitaan ja aineistojaan palveluun. eMuseoon sopivat museoreittien lisäksi hyvin myös muun muassa luontopolut ja historialliset kohteet. \nKaipaatko apua ja tukea oman mobiilioppaan tekemiseen? Haluaisitko vinkkejä eMuseo-palvelun teknisten ominaisuuksien käyttöön? Tule mukaan etänä järjestettävälle tukiklinikalle\, jossa Kotiseutuliiton ja palvelun kehittäjän Momeo Oy:n edustajat neuvovat käyttäjiä. \nIlmainen tukiklinikka järjestetään etäyhteydellä Microsoft Teamsissa torstaina 23. marraskuuta kello 17–18.\nHuom. voit halutessasi lähettää toiveen tukiklinikalla käsiteltävistä asioista ennalta osoitteeseen: liisa.saarinen(at)kotiseutuliitto.fi. \nLiity tukiklinikalle tästä linkistä. (Linkki aktivoituu lähempänä ajankohtaa.) \nTaustaa\nKulttuuriperintöä voi esitellä yleisölle myös mobiilisti. Suomen Kotiseutuliiton tarjoama eMuseo on mobiiliopas\, joka sopii erinomaiseksi esittelyalustaksi kulttuurikohteelle\, olipa se sitten paikallismuseo tai kulttuuripolku. Mobiilioppaan avulla kulttuurikohde tai museo on aina avoinna ja koettavissa. Palvelun myötä osoitteeseen www.emuseo.fi syntyy kohteiden mobiilioppaista koostuva moderni ja interaktiivinen sivusto\, jossa kuka tahansa voi vierailla mistä ja milloin tahansa. Mobiiliopas toimii kaikilla älypuhelimilla\, tableteilla ja tietokoneilla ilman erillisen sovelluksen lataamista. \nYhdistykset ja museot voivat helposti tehdä itse mobiilioppaita museostaan tai kulttuurikohteestaan. Oppaisiin voi liittää tekstiä\, kuvia\, ääntä ja videoita. Oppaiden tekemiseen on tarjolla myös koulutusta! \nLisätietoja eMuseosta ja hinnastosta sekä palvelun tilaukset osoitteessa: https://kotiseutuliitto.fi/tietopankki/emuseo.
URL:https://kotiseutuliitto.fi/tapahtuma/emuseo-palvelun-tukiklinikka-5/
ATTACH;FMTTYPE=image/png:https://kotiseutuliitto.fi/wp-content/uploads/2023/11/rajattueMuseo_1080x1080px_3_02.png
END:VEVENT
BEGIN:VEVENT
DTSTART;TZID=Europe/Helsinki:20231031T140000
DTEND;TZID=Europe/Helsinki:20231031T160000
DTSTAMP:20260422T161133
CREATED:20230830T062701Z
LAST-MODIFIED:20231010T085418Z
UID:10002429-1698760800-1698768000@kotiseutuliitto.fi
SUMMARY:Tiktok-koulutus
DESCRIPTION:Tiktok -koulutus kotiseututoimijoille \nTiktok on erityisesti nuorten ja nuorten aikuisten suosima sosiaalisen median palvelu\, jossa jaetaan lyhyitä tarinoita videon\, musiikin ja moninaisen kerronnan keinoin. \nMitä minun pitäisi Tikttokeista tietää? Miksi minun pitäisi asiasta välittää? Mitä hyötyä on Tiktok-videoiden tekemisestä minulle tai organisaatiolleni? Miten Tiktokkia käytetään ja miten video sinne tehdään? \nSuomen Kotiseutuliitto järjestää Mestarit & kisällit -toimijoille ja jäsenilleen Tiktok-koulutuksen. Koulutus koostuu teoriasta ja käytännöstä. Kouluttaja Ira Vihreälehto Suomen Kulttuuriperintökasvatuksen seurasta käy läpi mistä sosiaalisessa mediassa ja Tiktokissa on kyse. Hän kertoo myös Tiktok-palvelun hyödyistä ja antaa vinkkejä videoiden tekemiseen. Lopuksi harjoitellaan käytännössä videon tekemistä. \nHalukkaille on tarjolla koulutuksen jälkeen lisäkoulutus\, jossa käydään läpi omaa Tiktok-videota. \nKoulutus järjestetään Teams-alustalla tiistaina 31.10. klo 14-16. Pakolliset ennakkoilmoittautumiset 29.10. mennessä oheisen linkin kautta. Ilmoittautuneille lähetetään osallistumislinkki ennen tilaisuutta.
URL:https://kotiseutuliitto.fi/tapahtuma/tiktok-koulutus/
ATTACH;FMTTYPE=image/jpeg:https://kotiseutuliitto.fi/wp-content/uploads/2023/08/Keskiaikapaiva-tytot-puhelimella-RK-pienennetty.jpg
END:VEVENT
BEGIN:VEVENT
DTSTART;TZID=Europe/Helsinki:20231011T160000
DTEND;TZID=Europe/Helsinki:20231011T173000
DTSTAMP:20260422T161133
CREATED:20230830T062331Z
LAST-MODIFIED:20230906T081204Z
UID:10002427-1697040000-1697045400@kotiseutuliitto.fi
SUMMARY:Kestävän kehityksen opintopiiri: kestävyyskompassi ja perintöhyrrä
DESCRIPTION:Opintopiirissä tutustutaan kahteen kestävän kehityksen keskustelua ja työtä vauhdittavaan työkaluun: kestävän kehityksen kompassiin ja perintöhyrrään. Vertaisoppiminen on tärkeää\, eli opintopiirissä saa mieluusti jakaa omia hyviä kestävyys- ja keskusteluvinkkejään! \nKaikille avoin opintopiiri järjestetään verkossa Teams-alustalla. \nLiity opintopiiriin napsauttamalla tästä.
URL:https://kotiseutuliitto.fi/tapahtuma/opintopiiri-kestavyyskompassi-ja-perintohyrra/
ATTACH;FMTTYPE=image/jpeg:https://kotiseutuliitto.fi/wp-content/uploads/2023/08/hyrra-16_9.jpg
END:VEVENT
BEGIN:VEVENT
DTSTART;TZID=Europe/Helsinki:20231004T093000
DTEND;TZID=Europe/Helsinki:20231004T160000
DTSTAMP:20260422T161133
CREATED:20230605T110623Z
LAST-MODIFIED:20230607T115037Z
UID:10002302-1696411800-1696435200@kotiseutuliitto.fi
SUMMARY:Virallisten matkailuteiden sekä Suomessa toimivien kulttuuri- ja matkailureittien tapaaminen
DESCRIPTION:Kehitätkö Suomen virallisia matkailuteitä tai muita useita kohteita ja yrityksiä yhdistäviä kulttuuri- ja matkailureittejä? Haluatko jakaa kokemuksia ja tutustua muihin samanlaista työtä tekeviin kollegoihin? \nTervetuloa Suomessa toimivien kulttuuri- ja matkailureittien tapaamiseen Hämeen linnan luentosaliin keskiviikkona 4. lokakuuta kello 9.30–16. Tapaamisen tavoitteena on tuoda samankaltaista kulttuurimatkailun kehittämistyötä tekevät ihmiset yhteen ja luoda pohjaa yhteistyön kehittämiselle jatkossa. Keskitymme tilaisuudessa kotimaan matkailun kehittämiseen. \nPäivän ohjelmassa kuullaan muun muassa Hämeen Härkätien kehittämisestä ja onnistumisista sekä tutustutaan kulttuuri- ja matkailureittitoiminnan rahoitusvinkkeihin ja kulttuurimatkailukohteiden mobiiliopaspalveluun eMuseoon. Lisäksi kuullaan esitykset Euroopan kulttuuriympäristöpäivien vuoden 2024 teemasta Reitit\, risteykset\, väylät ja verkostot sekä Kuninkaantien hyödyntämisestä Vantaalla. Seminaaripäivän päättävät kierros Hämeen linnassa ja työpajatyöskentely. \nTilaisuus on tarkoitettu sinulle\, jos:\n–    Kehität Suomen virallisten matkailuteiden toimintaa tai olet aktiivinen toimija virallisella matkailutiellä\n–    Kehität useita kohteita ja yrityksiä yhdistävää kulttuuri- tai matkailureittiä tai olet aktiivinen toimija tällaisella reitillä\n–    Kuulut edellä mainittujen keskeisiin sidosryhmiin tukemalla reitin toimintaa esim. kunnan\, maakunnan liiton tai paikallisen Visit-organisaation edustajana\n–    Kotimaan matkailijat ovat sinulle merkittävä kohderyhmä \nSitovat ilmoittautumiset 3.9.2023 mennessä. Tilaisuus on maksuton. Paikkoja on rajoitetusti (60). Ohjelmaan kuuluva lounas on omakustanteinen 12\,70 €. \nLisätietoja ja ilmoittautuminen: Virallisten matkailuteiden ja Suomessa toimivien kulttuuri- ja matkailureittien tapaaminen (eventilla.com) \nTapaamisen järjestävät Museovirasto\, Suomen Kotiseutuliitto ja ympäristöministeriö.\nPidätämme oikeudet ohjelman muutoksiin.\nLisätietoja: anni.alho@museovirasto.fi
URL:https://kotiseutuliitto.fi/tapahtuma/virallisten-matkailuteiden-seka-suomessa-toimivien-kulttuuri-ja-matkailureittien-tapaaminen/
LOCATION:Hämeen linna\, Kustaa III:n katu 6\, 13100 Hämeenlinna
ATTACH;FMTTYPE=image/jpeg:https://kotiseutuliitto.fi/wp-content/uploads/2023/06/Hameen-linna-2-1-scaled.jpg
END:VEVENT
BEGIN:VEVENT
DTSTART;TZID=Europe/Helsinki:20231003T153000
DTEND;TZID=Europe/Helsinki:20231003T170000
DTSTAMP:20260422T161133
CREATED:20230830T062120Z
LAST-MODIFIED:20230921T132326Z
UID:10002426-1696347000-1696352400@kotiseutuliitto.fi
SUMMARY:Syyssumpit
DESCRIPTION:Syyssumpit on kaikille jäsenillemme avoin turinatuokio verkossa. Tervetuloa piipahtamaan tai viipymään Kotiseutuliiton ajankohtaisten kuulumisten\, tuttujen ja uusien kasvojen sekä liiton henkilökunnan pariin. \nSyyssumpeille ei tarvitse ilmoittautua ennakkoon\, voit liittyä mukaan linkin kautta: \nLiity kokoukseen napsauttamalla tästä \nTapaamisiin iltapäiväkahvilla!
URL:https://kotiseutuliitto.fi/tapahtuma/syyssumpit/
ATTACH;FMTTYPE=image/jpeg:https://kotiseutuliitto.fi/wp-content/uploads/2022/04/Etakahvit-pienennetty.jpg
END:VEVENT
BEGIN:VEVENT
DTSTART;TZID=Europe/Helsinki:20230928T170000
DTEND;TZID=Europe/Helsinki:20230928T183000
DTSTAMP:20260422T161133
CREATED:20230830T061751Z
LAST-MODIFIED:20230928T133144Z
UID:10002424-1695920400-1695925800@kotiseutuliitto.fi
SUMMARY:Kestävän kehityksen opintopiiri: kestävyyden työkirja
DESCRIPTION:Opintopiirissä keskustellaan kestävästä kehityksestä kotiseutuyhdistysten toiminnassa sekä tutustutaan työkirjaan ja sen esimerkkeihin. Työkirjaa ja esimerkkejä esittelee Kesälahti–Seuran puheenjohtaja\, työkirjan pääarkkitehti Pentti Ojajärvi. \nMyös vertaisoppiminen on tärkeää\, eli opintopiirissä saa mieluusti jakaa omia hyviä kestävyysvinkkejään. \nKaikille avoin opintopiiri järjestetään verkossa Teams-alustalla. Tervetuloa mukaan! \nLiity opintopiiriin napsauttamalla tästä. \n\nTyökirjan digiversioon pääset tästä linkistä. (täydennettävä pdf\, 4\,7 Mt)\nTyökirjan printtiversioon pääset tästä linkistä. (tulostettava pdf\, 4\,6 Mt)
URL:https://kotiseutuliitto.fi/tapahtuma/opintopiiri-kestavyyden-tyokirja/
ATTACH;FMTTYPE=image/png:https://kotiseutuliitto.fi/wp-content/uploads/2023/08/Kestavyyden-tyokirja-kansi.png
END:VEVENT
BEGIN:VEVENT
DTSTART;TZID=Europe/Helsinki:20220209T130000
DTEND;TZID=Europe/Helsinki:20220209T150000
DTSTAMP:20260422T161133
CREATED:20211213T060628Z
LAST-MODIFIED:20211220T101641Z
UID:10000403-1644411600-1644418800@kotiseutuliitto.fi
SUMMARY:Kulttuuriympäristöpäivien Kestävä perintö 2022 -vuositeeman avaustilaisuus
DESCRIPTION:Euroopan kulttuuriympäristöpäivien vuoden 2022 teema Kestävä perintö kutsuu tekoihin kestävän kulttuuriperinnön ja huomisen puolesta. Vuoden 2022 tapahtumissa ja kampanjoissa korjataan vanhaa\, hoidetaan ympäristöä ja tuetaan paikallista toimintaa. \nLämpimästi tervetuloa Euroopan kulttuuriympäristöpäivien Kestävä perintö 2022-vuositeeman avaustilaisuuteen 9. helmikuuta! Verkkotilaisuudessa teemavuoden avaa ympäristö- ja ilmastoministeri Emma Kari ja European Heritage Days -ohjelman tervehdyksen tuo ohjelmajohtaja Asya Salnikova Euroopan neuvostosta. Taiteen edistämiskeskuksen Antti Huntus avaa kestävän kulttuuriperinnön teemoja. Lisäksi pääsemme nauttimaan vastikään Unescon elävän perinnön luetteloon valitusta kaustislaisesta viulunsoitosta kansanmusiikkiyhtye Tallareiden mukana. Innostavan tavan tuoda esille kestävää perintöä kansallispukuhiihdon muodossa esittelee meille Kalevalaisten Naisten Liitto. \nTapahtumassa kerrotaan myös kuinka omia tapahtumia voi ilmoittaa mukaan Euroopan kulttuuriympäristöpäivien ohjelmaan vuodelle 2022 ja annetaan muita käytännön vinkkejä. \nIlmoittaudu mukaan avaustilaisuuteen tästä linkistä: https://www.lyyti.in/KestavaPerinto2022\nOsallistumislinkki lähetetään ilmoittautuneille sähköpostitse ennen tapahtumaa. \n  \nOhjelmassa: \nKlo 13.00 Tilaisuus alkaa \nAvaussanat\, Ympäristö- ja ilmastoministeri Emma Kari\, ympäristöministeriö\nEuroopan neuvoston tervehdys\, ohjelmajohtaja Asya Salnikova\, European Heritage Days\, Council of Europe\nKestävä kulttuuriperintö\, erityisasiantuntija Antti Huntus\, Taiteen edistämiskeskus\nKestävä perintö kansanmusiikissa\, Kansanmusiikkiyhtye Tallari\nKestävä perintö ja kansallispukuhiihto\, Kalevalaisten Naisten Liitto \nKlo 14.15 Omatoiminen kahvitauko \nKlo 14.30 Käytännön vinkkejä Euroopan kulttuuriympäristöpäivien tapahtuman järjestämiseen\, Hanna Hämäläinen\, ympäristöministeriö ja Jonina Vaahtolammi\, Suomen Kotiseutuliitto \nKlo 15.00 Tilaisuus päättyy \nLämpimästi tervetuloa kaikki teemasta ja kulttuuriympäristötapahtumien järjestämisestä kiinnostuneet!
URL:https://kotiseutuliitto.fi/tapahtuma/kulttuuriymparistopaivien-kestava-perinto-2022-vuositeeman-avaustilaisuus/
LOCATION:Verkkotapahtuma
ATTACH;FMTTYPE=image/jpeg:https://kotiseutuliitto.fi/wp-content/uploads/2021/12/EHD2022-avajaiskuva-2-pieni.jpg
END:VEVENT
BEGIN:VEVENT
DTSTART;VALUE=DATE:20210906
DTEND;VALUE=DATE:20210913
DTSTAMP:20260422T161133
CREATED:20210804T085146Z
LAST-MODIFIED:20210804T085633Z
UID:10000384-1630886400-1631491199@kotiseutuliitto.fi
SUMMARY:Euroopan kulttuuriympäristöpäivät
DESCRIPTION:Euroopan kulttuuriympäristöpäivillä juhlitaan joka vuosi omaa kulttuuriperintöä ja -ympäristöä. Suomessa kulttuuriympäristöpäiviä vietetään 6.-12.9.2021 ja lisäksi tapahtumia järjestetään myös muina ajankohtina. \nTänä vuonna Suomessa juhlitaan teemalla Rajaton ja avoin. Päiville voi järjestää Avointen ovien tapahtumia\, opastettuja kierroksia\, talkoita\, työpajoja tai mitä ikinä keksitkin. Tyyli on vapaa! \nKulttuuriympäristöpäivien tapahtumia järjestävät museot\, koulut\, yhdistykset\, seurantalot ja monet muut tahot ympäri Suomen. Myös etä- ja omatoimitapahtumilla voi nostaa kulttuuriperintöä esillä\, katso vinkkimme niihin täältä. \n  \nJärjestä oma tapahtuma tai etsi kalenterista oman alueesi tapahtumat\, ja osallistu. Tervetuloa mukaan juhlimaan yhteistä\, ainutlaatuista ympäristöämme! \n  \nKulttuuriympäristöpäivien kaikki tapahtumat löytyvät osoitteesta www.kulttuuriymparistopaivat.fi/tapahtumat.
URL:https://kotiseutuliitto.fi/tapahtuma/euroopan-kulttuuriymparistopaivat-2/
LOCATION:Ympäri Suomen
ATTACH;FMTTYPE=image/jpeg:https://kotiseutuliitto.fi/wp-content/uploads/2021/08/EHD2021-somekuva1-pieni.jpg
END:VEVENT
BEGIN:VEVENT
DTSTART;TZID=Europe/Helsinki:20210204T123000
DTEND;TZID=Europe/Helsinki:20210204T150000
DTSTAMP:20260422T161133
CREATED:20201217T085135Z
LAST-MODIFIED:20210204T110042Z
UID:10000361-1612441800-1612450800@kotiseutuliitto.fi
SUMMARY:Kulttuuriympäristöpäivien Rajaton ja avoin -teeman verkkoavajaiset
DESCRIPTION:Kaikilla on oikeus nauttia kulttuuriperinnöstä ja luoda uutta. Rajoja ylittämällä ja kynnyksiä madaltamalla yhä useammalla on mahdollisuus päästä osalliseksi kulttuuriperinnöstä. Euroopan kulttuuriympäristöpäivien vuoden 2021 teema Rajaton ja avoin kannustaa ylittämään monenlaisia rajoja. \nKulttuuriympäristöpäivät kutsuu kuulemaan kiinnostavia puheenvuoroja saavutettavasta kulttuuriperinnöstä teeman verkkoavajaisiin 4. helmikuuta 2021. Tapahtumassa kuullaan myös esimerkkejä rajoja ylittävistä tapahtumista ja järjestäjien kokemuksia niiden järjestämisestä. \nVoit lähettää etukäteen kysymyksiä kulttuuriympäristöpäivien tapahtumien järjestämisestä ja saavutettavuudesta\, vastaamme niihin tilaisuuden lopuksi. Lähetä kysymyksesi etukäteen osoitteeseen erp@kotiseutuliitto.fi. \nIlmoittautuminen tapahtumaan on päättynyt.  \nKulttuuriympäristöpäivien Rajaton ja avoin -teeman verkkoavajaisissa 4. helmikuuta 2021 klo 12.30-15 \nkuullaan puheenvuoroja saavutettavasta kulttuuriperinnöstä sekä esimerkkejä ja vinkkejä rajoja ylittävistä tapahtumista. \nTeemavuoden avaus / opetus- ja kulttuuriministeriö\, ylijohtaja Riitta Kaivosoja \nSaavutettava kulttuuriperintö / Kulttuuria kaikille -palvelu\, eritysasiantuntija Sari Salovaara \nMoninaisuus ja ylisukupolvisuus kulttuuriperintötyössä / Suomen Kotiseutuliitto\, toiminnanjohtaja Riitta Vanhatalo \nKulttuurihistoriallisten rakennusten esteettömyys / Museovirasto\, yli-intendentti Helena Hirviniemi \nOmatoiminen kahvitauko\, noin klo 14-14.15 \n  \nEuroopan kulttuuriympäristöpäivät ja rajat ylittävät tapahtumat / Euroopan kulttuuriympäristöpäivien koordinaattori Jonina Vaahtolammi \nKysymyksiä ja vastauksia Euroopan kulttuuriympäristöpäivistä ja saavutettavuudesta / vastaamassa kulttuuriympäristöpäivien työryhmä ja Kulttuuria kaikille -palvelu \n  \nTilaisuus päättyy klo 15 mennessä. \n  \nOsallistumislinkki lähetetään ilmoittautuneille sähköpostitse ennen tapahtumaa. Tapahtuma saatetaan tallentaa. \nLämpimästi tervetuloa kaikki teemasta ja kulttuuriympäristötapahtumien järjestämisestä kiinnostuneet! \n  \nLisätietoja: koordinaattori Jonina Vaahtolammi\, Suomen Kotiseutuliitto\, erp@kotiseutuliitto.fi\, puh. 044 974 1705
URL:https://kotiseutuliitto.fi/tapahtuma/kulttuuriymparistopaivien-rajaton-ja-avoin-teeman-verkkoavajaiset/
LOCATION:Verkkotapahtuma
ATTACH;FMTTYPE=image/jpeg:https://kotiseutuliitto.fi/wp-content/uploads/2020/12/Verkkoavajaiset-kansi-2021-pieni.jpg
END:VEVENT
BEGIN:VEVENT
DTSTART;TZID=Europe/Helsinki:20200129T130000
DTEND;TZID=Europe/Helsinki:20200129T160000
DTSTAMP:20260422T161133
CREATED:20191125T074136Z
LAST-MODIFIED:20191205T100722Z
UID:10000341-1580302800-1580313600@kotiseutuliitto.fi
SUMMARY:Euroopan kulttuuriympäristöpäivien tapahtumahautomo
DESCRIPTION:Euroopan kulttuuriympäristöpäivät kutsuu kuulemaan ensi vuoden teemasta Kasvun paikat sekä ideoimaan omaa kulttuuriympäristöpäivien ohjelmaa Helsinkiin Opetushallituksen tiloihin keskiviikkona 29. tammikuuta. \nIlmoittautuminen Helsingin tapahtumahautomoon on auki\, mukaan mahtuu 60 ensiksi ilmoittautunutta. \nLämpimästi tervetuloa kaikki kulttuuriympäristötapahtumien järjestämisestä ja kulttuuriympäristöpäivistä kiinnostuneet! \n\nHelsingin tapahtumahautomon ohjelma ja ilmoittautuminen\n\n 
URL:https://kotiseutuliitto.fi/tapahtuma/euroopan-kulttuuriymparistopaivien-tapahtumahautomo/
LOCATION:Opetushallitus\, Monitoimitila\, Hakaniemenranta 6\, Helsinki\, 00530\, Finland
END:VEVENT
BEGIN:VEVENT
DTSTART;VALUE=DATE:20190902
DTEND;VALUE=DATE:20190909
DTSTAMP:20260422T161133
CREATED:20190611T080834Z
LAST-MODIFIED:20190611T080941Z
UID:10000337-1567382400-1567987199@kotiseutuliitto.fi
SUMMARY:Euroopan kulttuuriympäristöpäivien teemaviikko
DESCRIPTION:Euroopan kulttuuriympäristöpäivät on jokasyksyinen tapahtuma\, joka aktivoi ihmisiä toimimaan oman kulttuuriympäristönsä ja -perintönsä puolesta ympäri Euroopan. Suomessa tapahtumia järjestetään ympäri vuoden ja kulttuuriympäristötapahtumien teemaviikkoa vietetään syyskuun alussa\, 2.-8.9.2019. \nTänä vuonna Suomessa juhlitaan teemalla Viihteen ja taiteen tiloissa. Viihteen ja taiteen teemavuoden tapahtumat esittelevät taiteen ja viihteen tiloja\, niiden eri muotoja\, tekemistä ja kokemista. Kulttuuriympäristöpäivien tapahtumia järjestävät museot\, koulut\, yhdistykset\, seurantalot ja monet muut tahot ympäri Suomen. \nJärjestä oma tapahtuma tai etsi kalenterista oman alueesi tapahtumat\, ja osallistu. Tervetuloa mukaan juhlimaan yhteistä\, ainutlaatuista ympäristöämme! \n  \nKulttuuriympäristöpäivien kaikki tapahtumat löytyvät osoitteesta www.kulttuuriymparistopaivat.fi/tapahtumat.
URL:https://kotiseutuliitto.fi/tapahtuma/euroopan-kulttuuriymparistopaivien-teemaviikko/
LOCATION:Koko Suomi
END:VEVENT
BEGIN:VEVENT
DTSTART;TZID=Europe/Helsinki:20190205T123000
DTEND;TZID=Europe/Helsinki:20190205T160000
DTSTAMP:20260422T161133
CREATED:20181218T102203Z
LAST-MODIFIED:20181218T102700Z
UID:10000306-1549369800-1549382400@kotiseutuliitto.fi
SUMMARY:Euroopan kulttuuriympäristöpäivien avajaisjuhla 2019
DESCRIPTION:Millainen taide pysäyttää? Millainen viihde herättää ajatuksia? Mikä saa hymyilemään\, nauramaan ja liikuttumaan? Millainen tila herättää kokemukset ja tarinat eloon? \nErilaiset elämykset sykähdyttävät ja nostavat meidät arjen yläpuolelle. Viihteen ja taiteen tiloissa on Euroopan kulttuuriympäristöpäivien teema Suomessa vuonna 2019. Teemavuoden aikana tuodaan esille taiteen tekeminen ja kokeminen\, viihteen eri muodot sekä kokijoiden näkökulmat. Tärkeitä ovat myös paikat\, joissa kokemus ja elämys syntyvät. \nTule mukaan juhlimaan ensi vuoden teemaa ympäristöministeriön Pankkisaliin tiistaina 5. helmikuuta 2019! Teemavuoden avajaisjuhlassa kuullaan kiinnostavia esityksiä kulttuuriperinnöstä\, viihteestä\, taiteesta ja mahdollisuuksista osallistua Euroopan kulttuuriympäristöpäiviin. \nIlmoittautumiset 29.1.2019 mennessä tai niin kauan kuin paikkoja riittää\, mukaan mahtuu 100 ensimmäistä: https://www.lyyti.in/EHD2019 \nOHJELMA \nTervetulokahvit sekä popcornia ja vaahtokarkkeja tarjolla klo 12.30 alkaen.\nOhjelma alkaa klo 13.00. \n\nTervetulleeksi toivottaa asunto-\, energia- ja ympäristöministeri Kimmo Tiilikainen.\nMiten taide näkyy hotelleissa? Mitkä ravintolat ovat todistaneet kiinnostavimmat esitykset? Ja miten aikakauden muoti on näkynyt viihteessä? Museolehtori Maria Ollila Hotelli- ja ravintolamuseosta kertoo hotelleista ja ravintoloista viihteen ja taiteen kohtaamispaikkoina.\nLasten ja nuorten suhteesta kulttuuriympäristöön sekä Kulttuuriympäristön tekijät -kilpailun kokemuksista kertovat Vantaan kaupunginmuseon arkeologi ja Vantaa-Seuran puheenjohtaja Andreas Koivisto sekä European Heritage Makers -kilpailun suomalainen voittaja Saga Koivisto.\nViestintävinkit Euroopan kulttuuriympäristöpäiville antaa kulttuuriympäristöpäivien koordinaattori Jonina Vaahtolammi Suomen Kotiseutuliitosta.\nKaisaniemen ala-asteen musiikkiluokka 4C esiintyy.\nTapahtumien järjestämisestä sekä iltapäivän kävelykierroksesta kertoo Kallion kulttuuriverkoston Juhani Styrman.\nTilaisuuden juontaa arkkitehti Lasse Majuri Suomen Kotiseutuliitosta.\n\nOhjelma päättyy opastettuun kävelykierrokseen Helsingin kadonneille elokuvateattereille klo 15.00-16.00. \n\nTutustu Helsingin perinteikkäisiin elokuvateattereihin: Kierros alkaa ympäristöministeriön edestä ja vie Helsingin keskustan elokuvateattereiden jäljille Maximista Glorialle Kallion kulttuuriverkoston Juhani Styrmanin johdattelemana.\n\nLue lisää kulttuuriympäristöpäivistä: \nwww.kulttuuriymparistopaivat.fi\nwww.europeanheritagedays.com \nSometa: #viihteenjataiteentiloissa #kulttuuriympäristöpäivät #EHDs
URL:https://kotiseutuliitto.fi/tapahtuma/euroopan-kulttuuriymparistopaivien-avajaisjuhla-2019/
LOCATION:Pankkisali\, ympäristöministeriö\, Aleksanterinkatu 7\, Helsinki\, 00100
ATTACH;FMTTYPE=image/jpeg:https://kotiseutuliitto.fi/wp-content/uploads/2018/11/Viihdettä-ja-taidetta-1-e1541576189557.jpg
END:VEVENT
END:VCALENDAR